Workbook

Sheet Ess Med Single quoted items 
A1: FINANCIAL EVALUATION REPORT FOR THE TENDER OF MEDICINE / DRUG ITEMS (Single Quoted Items
A2: Financial Evaluation Criteria FOR DRUGS/MEDICINES FOR LOCAL MANUFACTURERS
A3: Sr. No | B3: Dosage Form | C3: Name of Medicine and Firms | D3: Brand Name / Conuntry of Origin | E3: Manufacturer | F3: Firm | G3: Offered Specifications | H3: Offered Pack Size | I3: Quoted Pack Size | J3: Technical Status | K3: Quntity | L3: A.K Enterprises | M3: Ali Traders | N3: Bukhari Medical Supplies | O3: Impressive Biotechnical & Pharmaceuticals | P3: Rehman Trading Company | Q3: S.A Knitwear | R3: Smakz Enterprises | S3: Surgi Vision | T3: Yasir Distribution | U3: Total Cost | V3: Quoted Firms
A5: 1 | B5: Injection | C5: Lidocaine (Lignocaine) | D5: Baligno | E5: Bajwa Pharmaceuticals (Pvt) Ltd | F5: A.K Enterprises | G5: 2% (20 mg/ml) | H5: 30 ml vial × 1 | I5: 30 ml vial × 1 | J5: Responsive | K5: 500 | L5: 21.83 | U5: =PRODUCT(K5,L5,M5,N5,O5,P5,Q5,R5,S5,T5) -> 10915 | V5: =IF(COUNT(U5:U5)=0,"",INDEX(F5:F5,MATCH(MIN(U5:U5),U5:U5,0))) -> A.K Enterprises
A6: 2 | B6: Injection | C6: Amphotericin B | D6: Amphotericin B Lyophilized 50mg Injection | E6: MTI Medical (Pvt) Ltd | F6: Impressive Biotechnical & Pharmaceuticals | G6: 50 mg | H6: 1 vial × 1 | I6: 1 vial × 1 | J6: Responsive | K6: 500 | O6: 1091 | U6: =PRODUCT(K6,L6,M6,N6,O6,P6,Q6,R6,S6,T6) -> 545500 | V6: =IF(COUNT(U6:U6)=0,"",INDEX(F6:F6,MATCH(MIN(U6:U6),U6:U6,0))) -> Impressive Biotechnical & Pharmaceuticals
A7: 3 | B7: Cream | C7: Clotrimazole | D7: Wimtazol Cream | E7: Wimits Pharmaceuticals Pvt Ltd | F7: Bukhari Medical Supplies | G7: 1% + 1% | H7: 20 g tube | I7: 20 g tube | J7: Responsive | K7: 1000 | N7: 84 | U7: =PRODUCT(K7,L7,M7,N7,O7,P7,Q7,R7,S7,T7) -> 84000 | V7: =IF(COUNT(U7:U7)=0,"",INDEX(F7:F7,MATCH(MIN(U7:U7),U7:U7,0))) -> Bukhari Medical Supplies
A8: 4 | B8: Cream | C8: Ketoconazole | D8: Nizral Cream | E8: Wimits Pharmaceuticals Pvt Ltd | F8: Bukhari Medical Supplies | G8: 0.02 | H8: 10 g tube | I8: 10 g tube | J8: Responsive | K8: 1000 | N8: 75.4 | U8: =PRODUCT(K8,L8,M8,N8,O8,P8,Q8,R8,S8,T8) -> 75400 | V8: =IF(COUNT(U8:U8)=0,"",INDEX(F8:F8,MATCH(MIN(U8:U8),U8:U8,0))) -> Bukhari Medical Supplies
A9: 5 | B9: Cream | C9: Fenticonazole Nitrate | D9: Lomexin Dermal Cream 10 g | E9: Pacific | F9: Rehman Trading Company | G9: 0.02 | H9: 30 g tube | I9: 30 g tube | J9: Responsive | K9: 1000 | P9: 153.16 | U9: =PRODUCT(K9,L9,M9,N9,O9,P9,Q9,R9,S9,T9) -> 153160 | V9: =IF(COUNT(U9:U9)=0,"",INDEX(F9:F9,MATCH(MIN(U9:U9),U9:U9,0))) -> Rehman Trading Company
A10: 6 | B10: Syrup | C10: Ibuprofen | D10: Brufen DS | E10: Abbott Labs Pak Ltd | F10: A.K Enterprises | G10: 200 mg/5 ml | H10: 90 ml bottle | I10: 90 ml bottle | J10: Responsive | K10: 1000 | L10: 100.37 | U10: =PRODUCT(K10,L10,M10,N10,O10,P10,Q10,R10,S10,T10) -> 100370 | V10: =IF(COUNT(U10:U10)=0,"",INDEX(F10:F10,MATCH(MIN(U10:U10),U10:U10,0))) -> A.K Enterprises
A11: 7 | B11: Injection | C11: Suxamethonium Chloride (Succinylcholine) | D11: Suxathon | E11: Bajwa Pharmaceuticals (Pvt) Ltd | F11: A.K Enterprises | G11: 100 mg/2 ml | H11: 2 ml ampoule × 1 | I11: 2 ml ampoule × 1 | J11: Responsive | K11: 500 | L11: 43.23 | U11: =PRODUCT(K11,L11,M11,N11,O11,P11,Q11,R11,S11,T11) -> 21615 | V11: =IF(COUNT(U11:U11)=0,"",INDEX(F11:F11,MATCH(MIN(U11:U11),U11:U11,0))) -> A.K Enterprises
A12: 8 | B12: Tablet | C12: Paracetamol + Orphenadrine Citrate | D12: Torphen Tablets | E12: Trison Research Laboratories (Pvt) Ltd. | F12: S.A Knitwear | G12: Paracetamol 450 mg + Orphenadrine 35 mg | H12: 20 tablets | I12: 20 tablets | J12: Responsive | K12: 5000 | Q12: 3.25 | U12: =PRODUCT(K12,L12,M12,N12,O12,P12,Q12,R12,S12,T12) -> 16250 | V12: =IF(COUNT(U12:U12)=0,"",INDEX(F12:F12,MATCH(MIN(U12:U12),U12:U12,0))) -> S.A Knitwear
A13: 9 | B13: Drops | C13: Paracetamol | D13: Pacipar Infant Drops 80 mg/0.8 ml | E13: Pacific | F13: Rehman Trading Company | G13: 100 mg/ml | H13: 15 ml bottle | I13: 15 ml bottle | J13: Responsive | K13: 2000 | P13: 47.05. | U13: =PRODUCT(K13,L13,M13,N13,O13,P13,Q13,R13,S13,T13) -> 2000 | V13: =IF(COUNT(U13:U13)=0,"",INDEX(F13:F13,MATCH(MIN(U13:U13),U13:U13,0))) -> Rehman Trading Company
A14: 10 | B14: Gel | C14: Lidocaine (Lignocaine) | D14: Ligwim | E14: Wimits Pharmaceuticals Pvt Ltd | F14: Bukhari Medical Supplies | G14: 0.02 | H14: 30 g tube | I14: 30 g tube | J14: Responsive | K14: 1000 | N14: 20.8 | U14: =PRODUCT(K14,L14,M14,N14,O14,P14,Q14,R14,S14,T14) -> 20800 | V14: =IF(COUNT(U14:U14)=0,"",INDEX(F14:F14,MATCH(MIN(U14:U14),U14:U14,0))) -> Bukhari Medical Supplies
A15: 11 | B15: Suspension | C15: Albendazole | D15: Janzole Syp 10ml | E15: JAWA | F15: Ali Traders | G15: 200 mg/5 ml* | H15: 10 ml bottle | I15: 10 ml bottle | J15: Responsive | K15: 1000 | M15: 46 | U15: =PRODUCT(K15,L15,M15,N15,O15,P15,Q15,R15,S15,T15) -> 46000 | V15: =IF(COUNT(U15:U15)=0,"",INDEX(F15:F15,MATCH(MIN(U15:U15),U15:U15,0))) -> Ali Traders
A16: 12 | B16: Tablet | C16: Glimepiride + Metformin | D16: Evopride Plus | E16: PharmEvo | F16: Rehman Trading Company | G16: 1 mg + 500 mg | H16: 30 tablets | I16: 20 tablets | J16: Responsive | K16: 500 | P16: 5.38 | U16: =PRODUCT(K16,L16,M16,N16,O16,P16,Q16,R16,S16,T16) -> 2690 | V16: =IF(COUNT(U16:U16)=0,"",INDEX(F16:F16,MATCH(MIN(U16:U16),U16:U16,0))) -> Rehman Trading Company
A17: 13 | B17: Tablet | C17: Glimepiride | D17: Evopride | E17: PharmEvo | F17: Rehman Trading Company | G17: 1 mg | H17: 30 tablets | I17: 30 tablets | J17: Responsive | K17: 2000 | P17: 3.81 | U17: =PRODUCT(K17,L17,M17,N17,O17,P17,Q17,R17,S17,T17) -> 7620 | V17: =IF(COUNT(U17:U17)=0,"",INDEX(F17:F17,MATCH(MIN(U17:U17),U17:U17,0))) -> Rehman Trading Company
A18: 14 | B18: Tablet | C18: Glimepiride + Metformin | D18: Evopride Plus | E18: PharmEvo | F18: Rehman Trading Company | G18: 2 mg + 500 mg | H18: 30 tablets | I18: 20 tablets | J18: Responsive | K18: 1000 | P18: 9.87 | U18: =PRODUCT(K18,L18,M18,N18,O18,P18,Q18,R18,S18,T18) -> 9870 | V18: =IF(COUNT(U18:U18)=0,"",INDEX(F18:F18,MATCH(MIN(U18:U18),U18:U18,0))) -> Rehman Trading Company
A19: 15 | B19: Tablet | C19: Glimepiride | D19: Evopride | E19: PharmEvo | F19: Rehman Trading Company | G19: 3 mg | H19: 30 tablets | I19: 30 tablets | J19: Responsive | K19: 50 | P19: 10.2 | U19: =PRODUCT(K19,L19,M19,N19,O19,P19,Q19,R19,S19,T19) -> 510 | V19: =IF(COUNT(U19:U19)=0,"",INDEX(F19:F19,MATCH(MIN(U19:U19),U19:U19,0))) -> Rehman Trading Company
A20: 16 | B20: Tablet | C20: Co-amoxiclav (Amoxicillin + Clavulanic Acid) | D20: Zamoclave | E20: Zafa | F20: Smakz Enterptises | G20: 1 g | H20: 6 tablets | I20: 14 tablets | J20: Responsive | K20: 5000 | R20: 38 | U20: =PRODUCT(K20,L20,M20,N20,O20,P20,Q20,R20,S20,T20) -> 190000 | V20: =IF(COUNT(U20:U20)=0,"",INDEX(F20:F20,MATCH(MIN(U20:U20),U20:U20,0))) -> Smakz Enterptises
A21: 17 | B21: Tablet | C21: Co-amoxiclav (Amoxicillin + Clavulanic Acid) | D21: Zamoclave | E21: Zafa | F21: Smakz Enterptises | G21: 375 mg | H21: 10 tablets | I21: 10 tablets | J21: Responsive | K21: 1500 | R21: 23 | U21: =PRODUCT(K21,L21,M21,N21,O21,P21,Q21,R21,S21,T21) -> 34500 | V21: =IF(COUNT(U21:U21)=0,"",INDEX(F21:F21,MATCH(MIN(U21:U21),U21:U21,0))) -> Smakz Enterptises
A22: 18 | B22: Tablet | C22: Co-amoxiclav (Amoxicillin + Clavulanic Acid) | D22: Zamoclave | E22: Zafa | F22: Smakz Enterptises | G22: 625 mg | H22: 10 tablets | I22: 14 tablets | J22: Responsive | K22: 2000 | R22: 29.8 | U22: =PRODUCT(K22,L22,M22,N22,O22,P22,Q22,R22,S22,T22) -> 59600 | V22: =IF(COUNT(U22:U22)=0,"",INDEX(F22:F22,MATCH(MIN(U22:U22),U22:U22,0))) -> Smakz Enterptises
A23: 19 | B23: Suspension | C23: Co-amoxiclav | D23: Stamentin | E23: Srallion Pharma | F23: Smakz Enterptises | G23: 156.25 mg/5 ml | H23: 60 ml bottle | I23: 90 ml bottle | J23: Responsive | K23: 1000 | R23: 150 | U23: =PRODUCT(K23,L23,M23,N23,O23,P23,Q23,R23,S23,T23) -> 150000 | V23: =IF(COUNT(U23:U23)=0,"",INDEX(F23:F23,MATCH(MIN(U23:U23),U23:U23,0))) -> Smakz Enterptises
A24: 20 | B24: Suspension | C24: Co-amoxiclav | D24: Stamentin | E24: Srallion Pharma | F24: Smakz Enterptises | G24: 312.5 mg/5 ml | H24: 60 ml bottle | I24: 70 ml bottle | J24: Responsive | K24: 1000 | R24: 190 | U24: =PRODUCT(K24,L24,M24,N24,O24,P24,Q24,R24,S24,T24) -> 190000 | V24: =IF(COUNT(U24:U24)=0,"",INDEX(F24:F24,MATCH(MIN(U24:U24),U24:U24,0))) -> Smakz Enterptises
A25: 21 | B25: Injection | C25: Cefotaxime | D25: Zipenta | E25: Zafa | F25: Smakz Enterptises | G25: 250 mg IV | I25: 1 vial × 1 | J25: Responsive | K25: 3000 | R25: 70 | U25: =PRODUCT(K25,L25,M25,N25,O25,P25,Q25,R25,S25,T25) -> 210000 | V25: =IF(COUNT(U25:U25)=0,"",INDEX(F25:F25,MATCH(MIN(U25:U25),U25:U25,0))) -> Smakz Enterptises
A26: 22 | B26: Injection | C26: Ceftriaxone | D26: Taxocyn 250mg IM Inj | E26: Synchro | F26: Ali Traders | G26: 250 mg IM | H26: 1 vial × 1 | I26: 1 vial × 1 | J26: Responsive | K26: 1000 | M26: 83 | U26: =PRODUCT(K26,L26,M26,N26,O26,P26,Q26,R26,S26,T26) -> 83000 | V26: =IF(COUNT(U26:U26)=0,"",INDEX(F26:F26,MATCH(MIN(U26:U26),U26:U26,0))) -> Ali Traders
A27: 23 | B27: Injection | C27: Azithromycin | D27: ZECMO 500mg IV Injection | E27: MTI Medical (Pvt) Ltd | F27: Impressive Biotechnical & Pharmaceuticals | G27: 500 mg IV | H27: 1 vial × 1 | I27: 1 vial × 1 | J27: Responsive | K27: 500 | O27: 270 | U27: =PRODUCT(K27,L27,M27,N27,O27,P27,Q27,R27,S27,T27) -> 135000 | V27: =IF(COUNT(U27:U27)=0,"",INDEX(F27:F27,MATCH(MIN(U27:U27),U27:U27,0))) -> Impressive Biotechnical & Pharmaceuticals
A28: 24 | B28: Tablet | C28: Clarithromycin | D28: Klaricid | E28: Abbott Labs Pak Ltd | F28: A.K Enterprises | G28: 500 mg | H28: 10 tablets | I28: 10 tablets | J28: Responsive | K28: 500 | L28: 79.95 | U28: =PRODUCT(K28,L28,M28,N28,O28,P28,Q28,R28,S28,T28) -> 39975 | V28: =IF(COUNT(U28:U28)=0,"",INDEX(F28:F28,MATCH(MIN(U28:U28),U28:U28,0))) -> A.K Enterprises
A29: 25 | B29: Ear/Eye Drops | C29: Ciprofloxacin + Dexamethasone | D29: Zeprodex Otic Ear Drops | E29: Zhejiang Langhua Pharmaceutical, China | F29: Yasir Distibution | G29: Ciprofloxacin 0.3% + Dexamethasone 0.1% | H29: 5 ml bottle | I29: 5 ml bottle | J29: Responsive | K29: 1000 | T29: 165.04 | U29: =PRODUCT(K29,L29,M29,N29,O29,P29,Q29,R29,S29,T29) -> 165040 | V29: =IF(COUNT(U29:U29)=0,"",INDEX(F29:F29,MATCH(MIN(U29:U29),U29:U29,0))) -> Yasir Distibution
A30: 26 | B30: Ear Drops | C30: Ciprofloxacin + Dexamethasone | D30: Zeprodex Otic Ear Drops | E30: Zhejiang Langhua Pharmaceutical, China | F30: Yasir Distibution | G30: Ciprofloxacin 0.3% + Dexamethasone 0.1% | H30: 5 ml bottle | I30: 5 ml bottle | J30: Responsive | K30: 100 | T30: 165.04 | U30: =PRODUCT(K30,L30,M30,N30,O30,P30,Q30,R30,S30,T30) -> 16504 | V30: =IF(COUNT(U30:U30)=0,"",INDEX(F30:F30,MATCH(MIN(U30:U30),U30:U30,0))) -> Yasir Distibution
A31: 27 | B31: Ear Drops | C31: Ciprofloxacin + Lidocaine (Lignocaine) | D31: Zeprociane Otic Ear Drops | E31: Zhejiang Langhua, China / GUFFIC Biosciences, India | F31: Yasir Distibution | G31: Ciprofloxacin 0.3% + Lignocaine 2% | I31: 5 ml bottle | J31: Responsive | K31: 1000 | T31: 144.57 | U31: =PRODUCT(K31,L31,M31,N31,O31,P31,Q31,R31,S31,T31) -> 144570 | V31: =IF(COUNT(U31:U31)=0,"",INDEX(F31:F31,MATCH(MIN(U31:U31),U31:U31,0))) -> Yasir Distibution
A32: 28 | B32: Injection | C32: Ciprofloxacin | D32: Ciprok Inj 2mg/ml | E32: Brookes | F32: Yasir Distibution | G32: 200mg/100ml | H32: 100 ml infusion bottle × 1 | I32: 100 ml infusion bottle × 1 | J32: Responsive | K32: 1000 | T32: 156.25 | U32: =PRODUCT(K32,L32,M32,N32,O32,P32,Q32,R32,S32,T32) -> 156250 | V32: =IF(COUNT(U32:U32)=0,"",INDEX(F32:F32,MATCH(MIN(U32:U32),U32:U32,0))) -> Yasir Distibution
A33: 29 | B33: Eye/Ear Drops | C33: Ciprofloxacin | D33: Invoflox Eye Drops | E33: Innvotek Pharmaceuticals | F33: Bukhari Medical Supplies | G33: 0.003 | H33: 5 ml bottle | I33: 5 ml bottle | J33: Responsive | K33: 1000 | N33: 91 | U33: =PRODUCT(K33,L33,M33,N33,O33,P33,Q33,R33,S33,T33) -> 91000 | V33: =IF(COUNT(U33:U33)=0,"",INDEX(F33:F33,MATCH(MIN(U33:U33),U33:U33,0))) -> Bukhari Medical Supplies
A34: 30 | B34: Eye Drops | C34: Ciprofloxacin | D34: Invoflox Eye Drops | E34: Innvotek Pharmaceuticals | F34: Bukhari Medical Supplies | G34: 0.003 | H34: 5 ml bottle | I34: 5 ml bottle | J34: Responsive | K34: 500 | N34: 91 | U34: =PRODUCT(K34,L34,M34,N34,O34,P34,Q34,R34,S34,T34) -> 45500 | V34: =IF(COUNT(U34:U34)=0,"",INDEX(F34:F34,MATCH(MIN(U34:U34),U34:U34,0))) -> Bukhari Medical Supplies
A35: 31 | B35: Eye Drops | C35: Ciprofloxacin | D35: Invoflox Eye Drops | E35: Innvotek Pharmaceuticals | F35: Bukhari Medical Supplies | G35: 0.003 | H35: 5 ml bottle | I35: 5 ml bottle | J35: Responsive | K35: 100 | N35: 91 | U35: =PRODUCT(K35,L35,M35,N35,O35,P35,Q35,R35,S35,T35) -> 9100 | V35: =IF(COUNT(U35:U35)=0,"",INDEX(F35:F35,MATCH(MIN(U35:U35),U35:U35,0))) -> Bukhari Medical Supplies
A36: 32 | B36: Capsule | C36: Doxycycline | D36: Doxycycline | E36: Zafa | F36: Smakz Enterptises | G36: 100 mg | H36: 100 capsules | I36: 10 capsules | J36: Responsive | K36: 1000 | R36: 4.5 | U36: =PRODUCT(K36,L36,M36,N36,O36,P36,Q36,R36,S36,T36) -> 4500 | V36: =IF(COUNT(U36:U36)=0,"",INDEX(F36:F36,MATCH(MIN(U36:U36),U36:U36,0))) -> Smakz Enterptises
A37: 33 | B37: Cream | C37: Betamethasone Valerate + Neomycin | D37: Wimbeta-N Cream | E37: Wimits Pharmaceuticals Pvt Ltd | F37: Bukhari Medical Supplies | G37: Betamethasone 0.1% + Neomycin 0.5% | H37: 15 g | I37: 10 g tube | J37: Responsive | K37: 2000 | N37: 84 | U37: =PRODUCT(K37,L37,M37,N37,O37,P37,Q37,R37,S37,T37) -> 168000 | V37: =IF(COUNT(U37:U37)=0,"",INDEX(F37:F37,MATCH(MIN(U37:U37),U37:U37,0))) -> Bukhari Medical Supplies
A38: 34 | B38: Ear/Eye Drops | C38: Triamcinolone + Neomycin + Gramicidin + Nystatin | D38: Xecomb Ear Drops | E38: Ayurvedic Pharmaceutical Ltd., India | F38: Yasir Distibution | G38: Triamcinolone 0.1% + Neomycin + Gramicidin + Nystatin | H38: 10 ml bottle | I38: 10 ml bottle | J38: Responsive | K38: 1000 | T38: 290.7 | U38: =PRODUCT(K38,L38,M38,N38,O38,P38,Q38,R38,S38,T38) -> 290700 | V38: =IF(COUNT(U38:U38)=0,"",INDEX(F38:F38,MATCH(MIN(U38:U38),U38:U38,0))) -> Yasir Distibution
A39: 35 | B39: Cream | C39: Fusidic Acid + Hydrocortisone | D39: Fusac-H Cream | E39: Jiangsu Joyang, China / Tianjin Pharma, China | F39: Yasir Distibution | G39: Fusidic Acid 2% + Hydrocortisone 1% | H39: 15 g tube | I39: 15 g tube | J39: Responsive | K39: 500 | T39: 303.45 | U39: =PRODUCT(K39,L39,M39,N39,O39,P39,Q39,R39,S39,T39) -> 151725 | V39: =IF(COUNT(U39:U39)=0,"",INDEX(F39:F39,MATCH(MIN(U39:U39),U39:U39,0))) -> Yasir Distibution
A40: 37 | D40: Vasparin 25000 IU/5ml Injection | E40: Shandong Luoxin Pharmaceuticals Group Stock Co. Ltd. | F40: Impressive Biotechnical & Pharmaceuticals | J40: Responsive | K40: 200 | O40: 859 | U40: =PRODUCT(K40,L40,M40,N40,O40,P40,Q40,R40,S40,T40) -> 171800 | V40: =IF(COUNT(U40:U40)=0,"",INDEX(F40:F40,MATCH(MIN(U40:U40),U40:U40,0))) -> Impressive Biotechnical & Pharmaceuticals
A41: 38 | B41: Tablet | C41: Dothiepin (Dosulepin) | D41: Prothiaden | E41: Abbott Labs Pak Ltd | F41: A.K Enterprises | G41: 25 mg | H41: 10×10's | I41: 30 tablets | J41: Responsive | K41: 100 | L41: 4.97 | U41: =PRODUCT(K41,L41,M41,N41,O41,P41,Q41,R41,S41,T41) -> 497 | V41: =IF(COUNT(U41:U41)=0,"",INDEX(F41:F41,MATCH(MIN(U41:U41),U41:U41,0))) -> A.K Enterprises
A42: 39 | B42: Suspension | C42: Divalproex Sodium | D42: Epival | E42: Abbott Labs Pak Ltd | F42: A.K Enterprises | G42: 250 mg/5 ml | H42: 120 ml bottle | I42: 120 ml bottle | J42: Responsive | K42: 300 | L42: 274.85 | U42: =PRODUCT(K42,L42,M42,N42,O42,P42,Q42,R42,S42,T42) -> 82455 | V42: =IF(COUNT(U42:U42)=0,"",INDEX(F42:F42,MATCH(MIN(U42:U42),U42:U42,0))) -> A.K Enterprises
A43: 40 | B43: Injection | C43: Levetiracetam | D43: Klevra | E43: PharmEvo | F43: Rehman Trading Company | G43: 500 mg/5 ml | H43: 5 ml vial × 1 | I43: 5 ml vial × 1 | J43: Responsive | K43: 500 | P43: 274.98 | U43: =PRODUCT(K43,L43,M43,N43,O43,P43,Q43,R43,S43,T43) -> 137490 | V43: =IF(COUNT(U43:U43)=0,"",INDEX(F43:F43,MATCH(MIN(U43:U43),U43:U43,0))) -> Rehman Trading Company
A44: 41 | B44: Syrup | C44: Loratadine | D44: LORANTEX Syrup | E44: MTI Medical (Pvt) Ltd | F44: Impressive Biotechnical & Pharmaceuticals | G44: 5 mg/5 ml | H44: 30 ml bottle | I44: 30 ml bottle | J44: Responsive | K44: 2000 | O44: 55 | U44: =PRODUCT(K44,L44,M44,N44,O44,P44,Q44,R44,S44,T44) -> 110000 | V44: =IF(COUNT(U44:U44)=0,"",INDEX(F44:F44,MATCH(MIN(U44:U44),U44:U44,0))) -> Impressive Biotechnical & Pharmaceuticals
A45: 42 | B45: Nasal Spray | C45: Olopatadine | D45: Olonase Nasal Spray | E45: Beijing Lianben Pharmaceuticals, China | F45: Yasir Distibution | G45: 0.006 | I45: 15 ml bottle | J45: Responsive | K45: 1000 | T45: 686.71 | U45: =PRODUCT(K45,L45,M45,N45,O45,P45,Q45,R45,S45,T45) -> 686710 | V45: =IF(COUNT(U45:U45)=0,"",INDEX(F45:F45,MATCH(MIN(U45:U45),U45:U45,0))) -> Yasir Distibution
A46: 43 | B46: Injection | C46: Isosorbide Dinitrate | D46: Isobaj | E46: Bajwa Pharmaceuticals (Pvt) Ltd | F46: A.K Enterprises | G46: 0.5 mg/ml | H46: 10x10ml | I46: 10 ml ampoule × 1 | J46: Responsive | K46: 300 | L46: 198.75 | U46: =PRODUCT(K46,L46,M46,N46,O46,P46,Q46,R46,S46,T46) -> 59625 | V46: =IF(COUNT(U46:U46)=0,"",INDEX(F46:F46,MATCH(MIN(U46:U46),U46:U46,0))) -> A.K Enterprises
A47: 44 | B47: Tablet | C47: Telmisartan + Amlodipine | D47: Telsarta-A Tab. 5/40 mg | E47: PharmEvo | F47: Rehman Trading Company | G47: 40 mg + 5 mg | H47: 14 tablets | I47: 14 tablets | J47: Responsive | K47: 500 | P47: 20.83 | U47: =PRODUCT(K47,L47,M47,N47,O47,P47,Q47,R47,S47,T47) -> 10415 | V47: =IF(COUNT(U47:U47)=0,"",INDEX(F47:F47,MATCH(MIN(U47:U47),U47:U47,0))) -> Rehman Trading Company
A48: 45 | B48: Tablet | C48: Telmisartan + Amlodipine | D48: Telsarta-A Tab. 5/80 mg | E48: PharmEvo | F48: Rehman Trading Company | G48: 80 mg + 5 mg | H48: 14 tablets | I48: 14 tablets | J48: Responsive | K48: 500 | P48: 27.03 | U48: =PRODUCT(K48,L48,M48,N48,O48,P48,Q48,R48,S48,T48) -> 13515 | V48: =IF(COUNT(U48:U48)=0,"",INDEX(F48:F48,MATCH(MIN(U48:U48),U48:U48,0))) -> Rehman Trading Company
A49: 46 | B49: Tablet | C49: Telmisartan | D49: Telsarta Tab. 20 mg | E49: PharmEvo | F49: Rehman Trading Company | G49: 20 mg | H49: 10 tablets | I49: 14 tablets | J49: Responsive | K49: 200 | P49: 13.09 | U49: =PRODUCT(K49,L49,M49,N49,O49,P49,Q49,R49,S49,T49) -> 2618 | V49: =IF(COUNT(U49:U49)=0,"",INDEX(F49:F49,MATCH(MIN(U49:U49),U49:U49,0))) -> Rehman Trading Company
A50: 47 | B50: Tablet | C50: Losartan Potassium | D50: Zosartan-K | E50: Zafa | F50: Smakz Enterptises | G50: 50 mg | H50: 20 | I50: 14 tablets | J50: Responsive | K50: 300 | R50: 3.8 | U50: =PRODUCT(K50,L50,M50,N50,O50,P50,Q50,R50,S50,T50) -> 1140 | V50: =IF(COUNT(U50:U50)=0,"",INDEX(F50:F50,MATCH(MIN(U50:U50),U50:U50,0))) -> Smakz Enterptises
A51: 48 | B51: Tablet | C51: Lisinopril | D51: Lisna | E51: Zafa | F51: Smakz Enterptises | G51: 5 mg | H51: 20 tablets | I51: 14 tablets | J51: Responsive | K51: 300 | R51: 3.22 | U51: =PRODUCT(K51,L51,M51,N51,O51,P51,Q51,R51,S51,T51) -> 966 | V51: =IF(COUNT(U51:U51)=0,"",INDEX(F51:F51,MATCH(MIN(U51:U51),U51:U51,0))) -> Smakz Enterptises
A52: 49 | B52: Tablet | C52: Bisoprolol | D52: Zibes Tab. 10 mg | E52: PharmEvo | F52: Rehman Trading Company | G52: 10 mg | H52: 20 tablets | I52: 30 tablets | J52: Responsive | K52: 500 | P52: 13.7 | U52: =PRODUCT(K52,L52,M52,N52,O52,P52,Q52,R52,S52,T52) -> 6850 | V52: =IF(COUNT(U52:U52)=0,"",INDEX(F52:F52,MATCH(MIN(U52:U52),U52:U52,0))) -> Rehman Trading Company
A53: 50 | B53: Tablet | C53: Bisoprolol | D53: Zibes Tab. 2.5 mg | E53: PharmEvo | F53: Rehman Trading Company | G53: 2.5 mg | H53: 20 tablets | I53: 30 tablets | J53: Responsive | K53: 500 | P53: 3.14 | U53: =PRODUCT(K53,L53,M53,N53,O53,P53,Q53,R53,S53,T53) -> 1570 | V53: =IF(COUNT(U53:U53)=0,"",INDEX(F53:F53,MATCH(MIN(U53:U53),U53:U53,0))) -> Rehman Trading Company
A54: 51 | B54: Tablet | C54: Nebivolol | D54: Byvas | E54: PharmEvo | F54: Rehman Trading Company | G54: 10 mg | H54: 14 tablets | I54: 14 tablets | J54: Responsive | K54: 100 | P54: 17.3 | U54: =PRODUCT(K54,L54,M54,N54,O54,P54,Q54,R54,S54,T54) -> 1730 | V54: =IF(COUNT(U54:U54)=0,"",INDEX(F54:F54,MATCH(MIN(U54:U54),U54:U54,0))) -> Rehman Trading Company
A55: 52 | B55: Tablet | C55: Nebivolol | D55: Byvas | E55: PharmEvo | F55: Rehman Trading Company | G55: 2.5 mg | H55: 14 tablets | I55: 14 tablets | J55: Responsive | K55: 300 | P55: 9.29 | U55: =PRODUCT(K55,L55,M55,N55,O55,P55,Q55,R55,S55,T55) -> 2787 | V55: =IF(COUNT(U55:U55)=0,"",INDEX(F55:F55,MATCH(MIN(U55:U55),U55:U55,0))) -> Rehman Trading Company
A56: 53 | B56: Tablet | C56: Nebivolol | D56: Byvas | E56: PharmEvo | F56: Rehman Trading Company | G56: 5 mg | H56: 14 tablets | I56: 14 tablets | J56: Responsive | K56: 500 | P56: 14.1 | U56: =PRODUCT(K56,L56,M56,N56,O56,P56,Q56,R56,S56,T56) -> 7050 | V56: =IF(COUNT(U56:U56)=0,"",INDEX(F56:F56,MATCH(MIN(U56:U56),U56:U56,0))) -> Rehman Trading Company
A57: 54 | B57: Tablet | C57: Labetalol | D57: Labetalol | E57: Zafa | F57: Smakz Enterptises | G57: 100 mg | H57: 20 tablets | I57: 30 tablets | J57: Responsive | K57: 300 | R57: 12.75 | U57: =PRODUCT(K57,L57,M57,N57,O57,P57,Q57,R57,S57,T57) -> 3825 | V57: =IF(COUNT(U57:U57)=0,"",INDEX(F57:F57,MATCH(MIN(U57:U57),U57:U57,0))) -> Smakz Enterptises
A58: 55 | B58: Tablet | C58: Hydralazine | D58: Hydralazin | E58: Zafa | F58: Smakz Enterptises | G58: 25 mg | H58: 20 tablets | I58: 100 tablets | J58: Responsive | K58: 300 | R58: 3.95 | U58: =PRODUCT(K58,L58,M58,N58,O58,P58,Q58,R58,S58,T58) -> 1185 | V58: =IF(COUNT(U58:U58)=0,"",INDEX(F58:F58,MATCH(MIN(U58:U58),U58:U58,0))) -> Smakz Enterptises
A59: 56 | B59: Capsule | C59: Nifedipine | D59: Nefedil | E59: Zafa | F59: Smakz Enterptises | G59: 10 mg | H59: 30 capsules | I59: 100 capsules | J59: Responsive | K59: 1000 | R59: 3.67 | U59: =PRODUCT(K59,L59,M59,N59,O59,P59,Q59,R59,S59,T59) -> 3670 | V59: =IF(COUNT(U59:U59)=0,"",INDEX(F59:F59,MATCH(MIN(U59:U59),U59:U59,0))) -> Smakz Enterptises
A60: 57 | B60: Tablet | C60: Atorvastatin | D60: Colezaf | E60: Zafa | F60: Smakz Enterptises | G60: 20 mg | I60: 10 tablets | J60: Responsive | K60: 2000 | R60: 10 | U60: =PRODUCT(K60,L60,M60,N60,O60,P60,Q60,R60,S60,T60) -> 20000 | V60: =IF(COUNT(U60:U60)=0,"",INDEX(F60:F60,MATCH(MIN(U60:U60),U60:U60,0))) -> Smakz Enterptises
A61: 58 | B61: Injection | C61: Hydralazine | D61: Hydralazin | E61: Zafa | F61: Smakz Enterptises | G61: 20 mg | H61: 1 vial × 1 | I61: 1 vial × 1 | J61: Responsive | K61: 1000 | R61: 41.82 | U61: =PRODUCT(K61,L61,M61,N61,O61,P61,Q61,R61,S61,T61) -> 41820 | V61: =IF(COUNT(U61:U61)=0,"",INDEX(F61:F61,MATCH(MIN(U61:U61),U61:U61,0))) -> Smakz Enterptises
A62: 59 | B62: Solution | C62: Salbutamol | D62: Zaftolin | E62: Zafa | F62: Smakz Enterptises | G62: 5 mg/ml | H62: 20 ml bottle | I62: 20 ml bottle | J62: Responsive | K62: 500 | R62: 65 | U62: =PRODUCT(K62,L62,M62,N62,O62,P62,Q62,R62,S62,T62) -> 32500 | V62: =IF(COUNT(U62:U62)=0,"",INDEX(F62:F62,MATCH(MIN(U62:U62),U62:U62,0))) -> Smakz Enterptises
A63: 60 | B63: Syrup | C63: Salbutamol | D63: Zaftolin | E63: Zafa | F63: Smakz Enterptises | G63: 2 mg/5 ml | H63: 120 ml bottle | I63: 120 ml bottle | J63: Responsive | K63: 500 | R63: 50 | U63: =PRODUCT(K63,L63,M63,N63,O63,P63,Q63,R63,S63,T63) -> 25000 | V63: =IF(COUNT(U63:U63)=0,"",INDEX(F63:F63,MATCH(MIN(U63:U63),U63:U63,0))) -> Smakz Enterptises
A64: 61 | B64: Syrup | C64: Diloxanide + Metronidazole | D64: Entamizole | E64: Abbott Labs Pak Ltd | F64: A.K Enterprises | G64: Diloxanide 125 mg + Metronidazole 125 mg/5 ml | H64: 90 ml bottle | I64: 120 ml bottle | J64: Responsive | K64: 500 | L64: 217.5 | U64: =PRODUCT(K64,L64,M64,N64,O64,P64,Q64,R64,S64,T64) -> 108750 | V64: =IF(COUNT(U64:U64)=0,"",INDEX(F64:F64,MATCH(MIN(U64:U64),U64:U64,0))) -> A.K Enterprises
A65: 62 | B65: Tablet | C65: Metronidazole | D65: Metrida | E65: Zafa | F65: Smakz Enterptises | G65: 400 mg | H65: 100 tablets | I65: 100 tablets | J65: Responsive | K65: 5000 | R65: 2.96 | U65: =PRODUCT(K65,L65,M65,N65,O65,P65,Q65,R65,S65,T65) -> 14800 | V65: =IF(COUNT(U65:U65)=0,"",INDEX(F65:F65,MATCH(MIN(U65:U65),U65:U65,0))) -> Smakz Enterptises
A66: 63 | B66: Tablet | C66: Quetiapine | D66: Evokalm | E66: PharmEvo | F66: Rehman Trading Company | G66: 25 mg | H66: 10 tablets | I66: 28 tablets | J66: Responsive | K66: 500 | P66: 9.52 | U66: =PRODUCT(K66,L66,M66,N66,O66,P66,Q66,R66,S66,T66) -> 4760 | V66: =IF(COUNT(U66:U66)=0,"",INDEX(F66:F66,MATCH(MIN(U66:U66),U66:U66,0))) -> Rehman Trading Company
A67: 64 | B67: Tablet | C67: Risperidone | D67: Trendone | E67: Friends Pharma (Pvt) Ltd | F67: Bukhari Medical Supplies | G67: 2 mg | H67: 20 tablets | I67: 20 tablets | J67: Responsive | K67: 100 | N67: 2.8 | U67: =PRODUCT(K67,L67,M67,N67,O67,P67,Q67,R67,S67,T67) -> 280 | V67: =IF(COUNT(U67:U67)=0,"",INDEX(F67:F67,MATCH(MIN(U67:U67),U67:U67,0))) -> Bukhari Medical Supplies
A68: 65 | B68: Syrup | C68: Acefylline Piperazine | D68: Acefyl 125 syp | E68: Abbott Labs Pak Ltd | F68: A.K Enterprises | G68: 50 mg/5 ml | I68: 60 ml bottle | J68: Responsive | K68: 1000 | L68: 215.5 | U68: =PRODUCT(K68,L68,M68,N68,O68,P68,Q68,R68,S68,T68) -> 215500 | V68: =IF(COUNT(U68:U68)=0,"",INDEX(F68:F68,MATCH(MIN(U68:U68),U68:U68,0))) -> A.K Enterprises
A69: 66 | B69: Syrup | C69: Terbutaline | D69: Tesmic | E69: Zafa | F69: Smakz Enterptises | G69: 1.5 mg/5 ml | H69: 120 ml bottle | I69: 120 ml bottle | J69: Responsive | K69: 500 | R69: 55.25 | U69: =PRODUCT(K69,L69,M69,N69,O69,P69,Q69,R69,S69,T69) -> 27625 | V69: =IF(COUNT(U69:U69)=0,"",INDEX(F69:F69,MATCH(MIN(U69:U69),U69:U69,0))) -> Smakz Enterptises
A70: 67 | B70: Injection | C70: Neostigmine Methylsulfate | D70: Neostig-N | E70: Bajwa Pharmaceuticals (Pvt) Ltd | F70: A.K Enterprises | G70: 1 mg/ml | H70: 1 ml ampoule × 10 | I70: 1 ml ampoule × 10 | J70: Responsive | K70: 1000 | L70: 26.5 | U70: =PRODUCT(K70,L70,M70,N70,O70,P70,Q70,R70,S70,T70) -> 26500 | V70: =IF(COUNT(U70:U70)=0,"",INDEX(F70:F70,MATCH(MIN(U70:U70),U70:U70,0))) -> A.K Enterprises
A71: 68 | B71: Injection | C71: Magnesium Sulphate | D71: Epsium | E71: Bajwa Pharmaceuticals (Pvt) Ltd | F71: A.K Enterprises | G71: 50% (500 mg/ml | H71: 25×10 ml | I71: 10 ml ampoule × 10 | J71: Responsive | K71: 500 | L71: 24.9 | U71: =PRODUCT(K71,L71,M71,N71,O71,P71,Q71,R71,S71,T71) -> 12450 | V71: =IF(COUNT(U71:U71)=0,"",INDEX(F71:F71,MATCH(MIN(U71:U71),U71:U71,0))) -> A.K Enterprises
A72: 69 | B72: Injection | C72: Potassium Chloride (KCl) | D72: Zeesol KCL 20ml | E72: Shazeb | F72: Ali Traders | G72: 15% (2 mEq/ml) | H72: 20 ml ampoule × 10 | I72: 20 ml ampoule × 10 | J72: Responsive | K72: 2000 | M72: 21.9 | U72: =PRODUCT(K72,L72,M72,N72,O72,P72,Q72,R72,S72,T72) -> 43800 | V72: =IF(COUNT(U72:U72)=0,"",INDEX(F72:F72,MATCH(MIN(U72:U72),U72:U72,0))) -> Ali Traders
A73: 70 | B73: Tablet | C73: Dinoprostone (PGE2) | D73: Glandin E2 | E73: Nabi Qasim Industries | F73: A.K Enterprises | G73: 3 mg | H73: 1 tablets | I73: 4 tablets | J73: Responsive | K73: 200 | L73: 1019.15 | U73: =PRODUCT(K73,L73,M73,N73,O73,P73,Q73,R73,S73,T73) -> 203830 | V73: =IF(COUNT(U73:U73)=0,"",INDEX(F73:F73,MATCH(MIN(U73:U73),U73:U73,0))) -> A.K Enterprises
A74: 71 | B74: Injection | C74: Human Chorionic Gonadotropin (hCG) | D74: Pubergen 5000 IU Injection | E74: Bio Mark Pharmaceuticals | F74: Impressive Biotechnical & Pharmaceuticals | G74: 5000 IU | H74: 1 vial + diluent × 1 | I74: 1 vial + diluent × 1 | J74: Responsive | K74: 1000 | O74: 2331 | U74: =PRODUCT(K74,L74,M74,N74,O74,P74,Q74,R74,S74,T74) -> 2331000 | V74: =IF(COUNT(U74:U74)=0,"",INDEX(F74:F74,MATCH(MIN(U74:U74),U74:U74,0))) -> Impressive Biotechnical & Pharmaceuticals
A75: 72 | B75: Tablet | C75: Famotidine | D75: Famtaza | E75: Zafa | F75: Smakz Enterptises | G75: 20 mg | H75: 20 tablets | I75: 30 tablets | J75: Responsive | K75: 1000 | R75: 7.7 | U75: =PRODUCT(K75,L75,M75,N75,O75,P75,Q75,R75,S75,T75) -> 7700 | V75: =IF(COUNT(U75:U75)=0,"",INDEX(F75:F75,MATCH(MIN(U75:U75),U75:U75,0))) -> Smakz Enterptises
A76: 73 | B76: Tablet | C76: Folic Acid | D76: Folic Acid | E76: Zafa | F76: Smakz Enterptises | G76: 5 mg | H76: 100 tablets | I76: 100 tablets | J76: Responsive | K76: 15000 | R76: 0.95 | U76: =PRODUCT(K76,L76,M76,N76,O76,P76,Q76,R76,S76,T76) -> 14250 | V76: =IF(COUNT(U76:U76)=0,"",INDEX(F76:F76,MATCH(MIN(U76:U76),U76:U76,0))) -> Smakz Enterptises
A77: 74 | B77: Injection | C77: Tranexamic Acid | D77: Amenex 500mg Inj 5ml | E77: Amaan | F77: Ali Traders | G77: 10% w/v | H77: 10's | I77: 20 ml ampoule × 10 | J77: Responsive | K77: 5000 | M77: 49.5 | U77: =PRODUCT(K77,L77,M77,N77,O77,P77,Q77,R77,S77,T77) -> 247500 | V77: =IF(COUNT(U77:U77)=0,"",INDEX(F77:F77,MATCH(MIN(U77:U77),U77:U77,0))) -> Ali Traders
A78: 75 | B78: Infusion | C78: Dextrose 5% (Glucose 5%) | D78: Pacidex 5D IV 1000 ml | E78: Pacific | F78: Rehman Trading Company | G78: 0.05 | H78: 1000 ml bag | I78: 1000 ml bag | J78: Responsive | K78: 1000 | P78: 87.65 | U78: =PRODUCT(K78,L78,M78,N78,O78,P78,Q78,R78,S78,T78) -> 87650 | V78: =IF(COUNT(U78:U78)=0,"",INDEX(F78:F78,MATCH(MIN(U78:U78),U78:U78,0))) -> Rehman Trading Company
A79: 76 | B79: Infusion | C79: Dextrose 5% (Glucose 5%) | D79: Pacidex 5D IV 500 ml | E79: Pacific | F79: Rehman Trading Company | G79: 0.05 | H79: 500 ml bag | I79: 500 ml bag | J79: Responsive | K79: 500 | P79: 72.45 | U79: =PRODUCT(K79,L79,M79,N79,O79,P79,Q79,R79,S79,T79) -> 36225 | V79: =IF(COUNT(U79:U79)=0,"",INDEX(F79:F79,MATCH(MIN(U79:U79),U79:U79,0))) -> Rehman Trading Company
A80: 77 | B80: Infusion | C80: Dextrose + Sodium Chloride (Dextrose Saline) | D80: Paci-DNS IV 1000 ml | E80: Pacific | F80: Rehman Trading Company | G80: 5% Dextrose + 0.9% NaCl | H80: 1000 ml bottle/bag | I80: 1000 ml bottle/bag | J80: Responsive | K80: 1000 | P80: 80.4 | U80: =PRODUCT(K80,L80,M80,N80,O80,P80,Q80,R80,S80,T80) -> 80400 | V80: =IF(COUNT(U80:U80)=0,"",INDEX(F80:F80,MATCH(MIN(U80:U80),U80:U80,0))) -> Rehman Trading Company
A81: 78 | B81: Infusion | C81: Dextrose + Sodium Chloride (Dextrose Saline) | D81: Paci-DNS IV 500 ml | E81: Pacific | F81: Rehman Trading Company | G81: 5% Dextrose + 0.9% NaCl | H81: 500 ml bottle/bag | I81: 500 ml bottle/bag | J81: Responsive | K81: 500 | P81: 67.14 | U81: =PRODUCT(K81,L81,M81,N81,O81,P81,Q81,R81,S81,T81) -> 33570 | V81: =IF(COUNT(U81:U81)=0,"",INDEX(F81:F81,MATCH(MIN(U81:U81),U81:U81,0))) -> Rehman Trading Company
A82: 79 | B82: Infusion | C82: Dextrose (Glucose) | D82: Pacidex 10D IV 1000 ml | E82: Pacific | F82: Rehman Trading Company | G82: 0.1 | H82: 1000 ml bottle | I82: 1000 ml bottle | J82: Responsive | K82: 1000 | P82: 101.05 | U82: =PRODUCT(K82,L82,M82,N82,O82,P82,Q82,R82,S82,T82) -> 101050 | V82: =IF(COUNT(U82:U82)=0,"",INDEX(F82:F82,MATCH(MIN(U82:U82),U82:U82,0))) -> Rehman Trading Company
A83: 80 | B83: Infusion | C83: Dextrose (Glucose) | D83: Pacidex 10D IV 500 ml | E83: Pacific | F83: Rehman Trading Company | G83: 0.1 | H83: 500 ml bottle | I83: 500 ml bottle | J83: Responsive | K83: 500 | P83: 75.23 | U83: =PRODUCT(K83,L83,M83,N83,O83,P83,Q83,R83,S83,T83) -> 37615 | V83: =IF(COUNT(U83:U83)=0,"",INDEX(F83:F83,MATCH(MIN(U83:U83),U83:U83,0))) -> Rehman Trading Company
A84: 81 | B84: Infusion | C84: Dextrose (Glucose) | D84: Zeesol 25% Dextrose Water 20ml | E84: Shazeb | F84: Ali Traders | G84: 0.25 | H84: 20 ml vial × 1 | I84: 20 ml vial × 1 | J84: Responsive | K84: 1000 | M84: 21.46 | U84: =PRODUCT(K84,L84,M84,N84,O84,P84,Q84,R84,S84,T84) -> 21460 | V84: =IF(COUNT(U84:U84)=0,"",INDEX(F84:F84,MATCH(MIN(U84:U84),U84:U84,0))) -> Ali Traders
A85: 82 | B85: Infusion | C85: Sodium Chloride (Normal Saline) | D85: Pacisal-NS IV 500 ml | E85: Pacific | F85: Rehman Trading Company | G85: 0.009 | H85: 500 ml bottle/bag | I85: 500 ml bottle/bag | J85: Responsive | K85: 1000 | P85: 59.37 | U85: =PRODUCT(K85,L85,M85,N85,O85,P85,Q85,R85,S85,T85) -> 59370 | V85: =IF(COUNT(U85:U85)=0,"",INDEX(F85:F85,MATCH(MIN(U85:U85),U85:U85,0))) -> Rehman Trading Company
A86: 83 | B86: Infusion | C86: Hartmann’s Solution (Ringer Lactate) | D86: PaciLact RL IV 500 ml | E86: Pacific | F86: Rehman Trading Company | G86: — | H86: 500 ml bottle/bag | I86: 500 ml bottle/bag | J86: Responsive | K86: 1000 | P86: 73.02 | U86: =PRODUCT(K86,L86,M86,N86,O86,P86,Q86,R86,S86,T86) -> 73020 | V86: =IF(COUNT(U86:U86)=0,"",INDEX(F86:F86,MATCH(MIN(U86:U86),U86:U86,0))) -> Rehman Trading Company
A87: 84 | B87: Infusion | C87: Sodium Chloride (Normal Saline) | D87: Pacisal-NS IV 100 ml | E87: Pacific | F87: Rehman Trading Company | G87: 0.009 | H87: 100 ml bottle | I87: 100 ml bottle | J87: Responsive | K87: 500 | P87: 46.06 | U87: =PRODUCT(K87,L87,M87,N87,O87,P87,Q87,R87,S87,T87) -> 23030 | V87: =IF(COUNT(U87:U87)=0,"",INDEX(F87:F87,MATCH(MIN(U87:U87),U87:U87,0))) -> Rehman Trading Company
A88: 85 | B88: Syrup | C88: Liquid Paraffin + Magnesium Hydroxide | D88: Cremaffin | E88: Abbott Labs Pak Ltd | F88: A.K Enterprises | G88: 100ml | H88: 120 ml | I88: 100 ml bottle | J88: Responsive | K88: 2000 | L88: 149.94 | U88: =PRODUCT(K88,L88,M88,N88,O88,P88,Q88,R88,S88,T88) -> 299880 | V88: =IF(COUNT(U88:U88)=0,"",INDEX(F88:F88,MATCH(MIN(U88:U88),U88:U88,0))) -> A.K Enterprises
A89: 86 | B89: Syrup | C89: Lactulose | D89: Duphalac | E89: Abbott Labs Pak Ltd | F89: A.K Enterprises | G89: 3.35 g/5 ml | H89: 120 ml bottle | I89: 120 ml bottle | J89: Responsive | K89: 2000 | L89: 255.34 | U89: =PRODUCT(K89,L89,M89,N89,O89,P89,Q89,R89,S89,T89) -> 510680 | V89: =IF(COUNT(U89:U89)=0,"",INDEX(F89:F89,MATCH(MIN(U89:U89),U89:U89,0))) -> A.K Enterprises
A90: 87 | B90: Sachet | C90: Montelukast | D90: Floaid | E90: Abbott Labs Pak Ltd | F90: A.K Enterprises | G90: 4 mg | H90: 10Sachets | I90: 10Sachets | J90: Responsive | K90: 500 | L90: 30.6 | U90: =PRODUCT(K90,L90,M90,N90,O90,P90,Q90,R90,S90,T90) -> 15300 | V90: =IF(COUNT(U90:U90)=0,"",INDEX(F90:F90,MATCH(MIN(U90:U90),U90:U90,0))) -> A.K Enterprises
A91: 88 | B91: Sachet | C91: Acetylcysteine | D91: Mucolator | E91: Abbott Labs Pak Ltd | F91: A.K Enterprises | G91: 600 mg sachet | H91: 30's | I91: Sachets | J91: Responsive | K91: 100 | L91: 29.75 | U91: =PRODUCT(K91,L91,M91,N91,O91,P91,Q91,R91,S91,T91) -> 2975 | V91: =IF(COUNT(U91:U91)=0,"",INDEX(F91:F91,MATCH(MIN(U91:U91),U91:U91,0))) -> A.K Enterprises
A92: 89 | B92: Tablet | C92: Multivitamin + Iron | D92: Iberet Folic-500 Gradumet | E92: Abbott Labs Pak Ltd | F92: A.K Enterprises | H92: 20 tablets | I92: 30 tablets | J92: Responsive | K92: 2000 | L92: 10.77 | U92: =PRODUCT(K92,L92,M92,N92,O92,P92,Q92,R92,S92,T92) -> 21540 | V92: =IF(COUNT(U92:U92)=0,"",INDEX(F92:F92,MATCH(MIN(U92:U92),U92:U92,0))) -> A.K Enterprises
A93: 90 | B93: Syrup | C93: Multivitamin + Iron | D93: Iberet-500 | E93: Abbott Labs Pak Ltd | F93: A.K Enterprises | G93: 120ml | H93: 120 ml bottle | I93: 120 ml bottle | J93: Responsive | K93: 2000 | L93: 153 | U93: =PRODUCT(K93,L93,M93,N93,O93,P93,Q93,R93,S93,T93) -> 306000 | V93: =IF(COUNT(U93:U93)=0,"",INDEX(F93:F93,MATCH(MIN(U93:U93),U93:U93,0))) -> A.K Enterprises
A94: 91 | B94: Tablet | C94: Multivitamin + Vitamin B Complex | D94: Surbex-Z | E94: Abbott Labs Pak Ltd | F94: A.K Enterprises | H94: 30 tablets | I94: 30 tablets | J94: Responsive | K94: 1000 | L94: 13.73 | U94: =PRODUCT(K94,L94,M94,N94,O94,P94,Q94,R94,S94,T94) -> 13730 | V94: =IF(COUNT(U94:U94)=0,"",INDEX(F94:F94,MATCH(MIN(U94:U94),U94:U94,0))) -> A.K Enterprises
A95: 92 | B95: Tablet | C95: Multivitamin + Iron | D95: Iberet Folic-500 Gradumet | E95: Abbott Labs Pak Ltd | F95: A.K Enterprises | H95: 20 tablets | I95: 30 tablets | J95: Responsive | K95: 1000 | L95: 10.77 | U95: =PRODUCT(K95,L95,M95,N95,O95,P95,Q95,R95,S95,T95) -> 10770 | V95: =IF(COUNT(U95:U95)=0,"",INDEX(F95:F95,MATCH(MIN(U95:U95),U95:U95,0))) -> A.K Enterprises
A96: 93 | B96: Syp | C96: Vitamin A + Vitamin D3 + Vitamin C + Vitamin B1 + Vitamin B2 + Vitamin B6 + Vitamin B12 + Nicotinamide | D96: Vi-Daylin | E96: Abbott Labs Pak Ltd | F96: A.K Enterprises | H96: 120 ml bottle | I96: 120 ml bottle | J96: Responsive | K96: 500 | L96: 158.27 | U96: =PRODUCT(K96,L96,M96,N96,O96,P96,Q96,R96,S96,T96) -> 79135 | V96: =IF(COUNT(U96:U96)=0,"",INDEX(F96:F96,MATCH(MIN(U96:U96),U96:U96,0))) -> A.K Enterprises
A97: 94 | B97: Tablet | C97: Vitamin A + Vitamin D3 + Vitamin C + Vitamin B1 + Vitamin B2 + Vitamin B6 + Vitamin B12 + Nicotinamide | D97: Vidaylin-T | E97: Abbott Labs Pak Ltd | F97: A.K Enterprises | G97: Vitamin A 5000IU+ Vitamin D3 400 IU + Vitamin C 75mg + Vitamin B1 1.5mg+ Vitamin B2 1.7mg + Vitamin B6 2mg + Vitamin B12 6mcg + Nicotinamide 20mg | H97: 30 tablets | I97: 30 tablets | J97: Responsive | K97: 1000 | L97: 7.7 | U97: =PRODUCT(K97,L97,M97,N97,O97,P97,Q97,R97,S97,T97) -> 7700 | V97: =IF(COUNT(U97:U97)=0,"",INDEX(F97:F97,MATCH(MIN(U97:U97),U97:U97,0))) -> A.K Enterprises
A98: 95 | B98: Syrup | C98: Folic Acid + Iron Hydroxide Polymaltose Complex | D98: Hemoplex-F Syrup 120ml | E98: Synchro | F98: Ali Traders | G98: 120ml | I98: 120 ml bottle | J98: Responsive | K98: 500 | M98: 175 | U98: =PRODUCT(K98,L98,M98,N98,O98,P98,Q98,R98,S98,T98) -> 87500 | V98: =IF(COUNT(U98:U98)=0,"",INDEX(F98:F98,MATCH(MIN(U98:U98),U98:U98,0))) -> Ali Traders
A99: 96 | B99: Capsule/Tablet | C99: Calcium + Vitamin D | D99: Calcium-P Tab | E99: PDH | F99: Ali Traders | G99: Calcum carbonate 1250mg, vitmin 200IU | H99: 30 capsules/tablets | I99: 30 capsules/tablets | J99: Responsive | K99: 5000 | M99: 7.5 | U99: =PRODUCT(K99,L99,M99,N99,O99,P99,Q99,R99,S99,T99) -> 37500 | V99: =IF(COUNT(U99:U99)=0,"",INDEX(F99:F99,MATCH(MIN(U99:U99),U99:U99,0))) -> Ali Traders
A100: 97 | B100: Injection | C100: Vitamin K (Phytonadione) | D100: K-LOT Injection 10mg/ml IV | E100: Brookes | F100: Yasir Distibution | G100: 10 mg/ml | H100: 1s | I100: 1 ml ampoule × 10 | J100: Responsive | K100: 1000 | T100: 145 | U100: =PRODUCT(K100,L100,M100,N100,O100,P100,Q100,R100,S100,T100) -> 145000 | V100: =IF(COUNT(U100:U100)=0,"",INDEX(F100:F100,MATCH(MIN(U100:U100),U100:U100,0))) -> Yasir Distibution
A101: 98 | B101: Eye Drops | C101: Tropicamide | D101: Mydropic 1% Drops | E101: Innvotek Pharmaceuticals | F101: Bukhari Medical Supplies | G101: 0.01 | H101: 15ml | I101: 5 ml bottle | J101: Responsive | K101: 300 | N101: 162 | U101: =PRODUCT(K101,L101,M101,N101,O101,P101,Q101,R101,S101,T101) -> 48600 | V101: =IF(COUNT(U101:U101)=0,"",INDEX(F101:F101,MATCH(MIN(U101:U101),U101:U101,0))) -> Bukhari Medical Supplies
...

Sheet By Firm
A1: Items Quoted by a Single Firm Only - Medicine / Drug Items (Local Manufacturers)
A2: Items where only one firm quoted a rate, grouped by firm. Values are linked to the 'Single Firm Items' sheet.
M3: Single-firm items per firm
A4: Firm | B4: Sr. No. | C4: Name of Medicine | D4: Dosage Form | E4: Category | F4: Brand Name | G4: Manufacturer | H4: Quantity | I4: Rate (Rs) | J4: Total (Rs) | K4: Remarks | M4: Firm | N4: Items | O4: Value (Rs)
A5: =TRIM(INDEX('Ess Med Single quoted items '!$L$3:$T$3,SUMPRODUCT(('Ess Med Single quoted items '!L5:T5<>"")*(COLUMN('Ess Med Single quoted items '!L5:T5)-COLUMN('Ess Med Single quoted items '!L5)+1)))) -> A.K Enterprises | B5: ='Ess Med Single quoted items '!A5 -> 1 | C5: =TRIM('Ess Med Single quoted items '!C5&"") -> Lidocaine (Lignocaine) | D5: =TRIM('Ess Med Single quoted items '!B5&"") -> Injection | F5: ='Ess Med Single quoted items '!D5&"" -> Baligno | G5: ='Ess Med Single quoted items '!E5&"" -> Bajwa Pharmaceuticals (Pvt) Ltd | H5: ='Ess Med Single quoted items '!K5 -> 500 | I5: =SUM('Ess Med Single quoted items '!L5:T5) -> 21.83 | J5: =H5*I5 -> 10915 | M5: =TRIM('Ess Med Single quoted items '!L3) -> A.K Enterprises | N5: =COUNTIF($A$5:$A$120,M5) -> 24 | O5: =SUMIF($A$5:$A$120,M5,$J$5:$J$120) -> 2155912
A6: =TRIM(INDEX('Ess Med Single quoted items '!$L$3:$T$3,SUMPRODUCT(('Ess Med Single quoted items '!L10:T10<>"")*(COLUMN('Ess Med Single quoted items '!L10:T10)-COLUMN('Ess Med Single quoted items '!L10)+1)))) -> A.K Enterprises | B6: ='Ess Med Single quoted items '!A10 -> 6 | C6: =TRIM('Ess Med Single quoted items '!C10&"") -> Ibuprofen | D6: =TRIM('Ess Med Single quoted items '!B10&"") -> Syrup | F6: ='Ess Med Single quoted items '!D10&"" -> Brufen DS | G6: ='Ess Med Single quoted items '!E10&"" -> Abbott Labs Pak Ltd | H6: ='Ess Med Single quoted items '!K10 -> 1000 | I6: =SUM('Ess Med Single quoted items '!L10:T10) -> 100.37 | J6: =H6*I6 -> 100370 | M6: =TRIM('Ess Med Single quoted items '!M3) -> Ali Traders | N6: =COUNTIF($A$5:$A$120,M6) -> 9 | O6: =SUMIF($A$5:$A$120,M6,$J$5:$J$120) -> 604510
A7: =TRIM(INDEX('Ess Med Single quoted items '!$L$3:$T$3,SUMPRODUCT(('Ess Med Single quoted items '!L11:T11<>"")*(COLUMN('Ess Med Single quoted items '!L11:T11)-COLUMN('Ess Med Single quoted items '!L11)+1)))) -> A.K Enterprises | B7: ='Ess Med Single quoted items '!A11 -> 7 | C7: =TRIM('Ess Med Single quoted items '!C11&"") -> Suxamethonium Chloride (Succinylcholine) | D7: =TRIM('Ess Med Single quoted items '!B11&"") -> Injection | F7: ='Ess Med Single quoted items '!D11&"" -> Suxathon | G7: ='Ess Med Single quoted items '!E11&"" -> Bajwa Pharmaceuticals (Pvt) Ltd | H7: ='Ess Med Single quoted items '!K11 -> 500 | I7: =SUM('Ess Med Single quoted items '!L11:T11) -> 43.23 | J7: =H7*I7 -> 21615 | M7: =TRIM('Ess Med Single quoted items '!N3) -> Bukhari Medical Supplies | N7: =COUNTIF($A$5:$A$120,M7) -> 9 | O7: =SUMIF($A$5:$A$120,M7,$J$5:$J$120) -> 542680
A8: =TRIM(INDEX('Ess Med Single quoted items '!$L$3:$T$3,SUMPRODUCT(('Ess Med Single quoted items '!L28:T28<>"")*(COLUMN('Ess Med Single quoted items '!L28:T28)-COLUMN('Ess Med Single quoted items '!L28)+1)))) -> A.K Enterprises | B8: ='Ess Med Single quoted items '!A28 -> 24 | C8: =TRIM('Ess Med Single quoted items '!C28&"") -> Clarithromycin | D8: =TRIM('Ess Med Single quoted items '!B28&"") -> Tablet | F8: ='Ess Med Single quoted items '!D28&"" -> Klaricid | G8: ='Ess Med Single quoted items '!E28&"" -> Abbott Labs Pak Ltd | H8: ='Ess Med Single quoted items '!K28 -> 500 | I8: =SUM('Ess Med Single quoted items '!L28:T28) -> 79.95 | J8: =H8*I8 -> 39975 | M8: =TRIM('Ess Med Single quoted items '!O3) -> Impressive Biotechnical & Pharmaceuticals | N8: =COUNTIF($A$5:$A$120,M8) -> 8 | O8: =SUMIF($A$5:$A$120,M8,$J$5:$J$120) -> 3376550
A9: =TRIM(INDEX('Ess Med Single quoted items '!$L$3:$T$3,SUMPRODUCT(('Ess Med Single quoted items '!L41:T41<>"")*(COLUMN('Ess Med Single quoted items '!L41:T41)-COLUMN('Ess Med Single quoted items '!L41)+1)))) -> A.K Enterprises | B9: ='Ess Med Single quoted items '!A41 -> 38 | C9: =TRIM('Ess Med Single quoted items '!C41&"") -> Dothiepin (Dosulepin) | D9: =TRIM('Ess Med Single quoted items '!B41&"") -> Tablet | F9: ='Ess Med Single quoted items '!D41&"" -> Prothiaden | G9: ='Ess Med Single quoted items '!E41&"" -> Abbott Labs Pak Ltd | H9: ='Ess Med Single quoted items '!K41 -> 100 | I9: =SUM('Ess Med Single quoted items '!L41:T41) -> 4.97 | J9: =H9*I9 -> 497 | M9: =TRIM('Ess Med Single quoted items '!P3) -> Rehman Trading Company | N9: =COUNTIF($A$5:$A$120,M9) -> 28 | O9: =SUMIF($A$5:$A$120,M9,$J$5:$J$120) -> 1038445
A10: =TRIM(INDEX('Ess Med Single quoted items '!$L$3:$T$3,SUMPRODUCT(('Ess Med Single quoted items '!L42:T42<>"")*(COLUMN('Ess Med Single quoted items '!L42:T42)-COLUMN('Ess Med Single quoted items '!L42)+1)))) -> A.K Enterprises | B10: ='Ess Med Single quoted items '!A42 -> 39 | C10: =TRIM('Ess Med Single quoted items '!C42&"") -> Divalproex Sodium | D10: =TRIM('Ess Med Single quoted items '!B42&"") -> Suspension | F10: ='Ess Med Single quoted items '!D42&"" -> Epival | G10: ='Ess Med Single quoted items '!E42&"" -> Abbott Labs Pak Ltd | H10: ='Ess Med Single quoted items '!K42 -> 300 | I10: =SUM('Ess Med Single quoted items '!L42:T42) -> 274.85 | J10: =H10*I10 -> 82455 | M10: =TRIM('Ess Med Single quoted items '!Q3) -> S.A Knitwear | N10: =COUNTIF($A$5:$A$120,M10) -> 2 | O10: =SUMIF($A$5:$A$120,M10,$J$5:$J$120) -> 35250
A11: =TRIM(INDEX('Ess Med Single quoted items '!$L$3:$T$3,SUMPRODUCT(('Ess Med Single quoted items '!L46:T46<>"")*(COLUMN('Ess Med Single quoted items '!L46:T46)-COLUMN('Ess Med Single quoted items '!L46)+1)))) -> A.K Enterprises | B11: ='Ess Med Single quoted items '!A46 -> 43 | C11: =TRIM('Ess Med Single quoted items '!C46&"") -> Isosorbide Dinitrate | D11: =TRIM('Ess Med Single quoted items '!B46&"") -> Injection | F11: ='Ess Med Single quoted items '!D46&"" -> Isobaj | G11: ='Ess Med Single quoted items '!E46&"" -> Bajwa Pharmaceuticals (Pvt) Ltd | H11: ='Ess Med Single quoted items '!K46 -> 300 | I11: =SUM('Ess Med Single quoted items '!L46:T46) -> 198.75 | J11: =H11*I11 -> 59625 | M11: =TRIM('Ess Med Single quoted items '!R3) -> Smakz Enterprises | N11: =COUNTIF($A$5:$A$120,M11) -> 21 | O11: =SUMIF($A$5:$A$120,M11,$J$5:$J$120) -> 1038751
A12: =TRIM(INDEX('Ess Med Single quoted items '!$L$3:$T$3,SUMPRODUCT(('Ess Med Single quoted items '!L64:T64<>"")*(COLUMN('Ess Med Single quoted items '!L64:T64)-COLUMN('Ess Med Single quoted items '!L64)+1)))) -> A.K Enterprises | B12: ='Ess Med Single quoted items '!A64 -> 61 | C12: =TRIM('Ess Med Single quoted items '!C64&"") -> Diloxanide + Metronidazole | D12: =TRIM('Ess Med Single quoted items '!B64&"") -> Syrup | E12: =TRIM(#REF!&"") -> #REF! | F12: ='Ess Med Single quoted items '!D64&"" -> Entamizole | G12: ='Ess Med Single quoted items '!E64&"" -> Abbott Labs Pak Ltd | H12: ='Ess Med Single quoted items '!K64 -> 500 | I12: =SUM('Ess Med Single quoted items '!L64:T64) -> 217.5 | J12: =H12*I12 -> 108750 | M12: =TRIM('Ess Med Single quoted items '!S3) -> Surgi Vision | N12: =COUNTIF($A$5:$A$120,M12) -> 1 | O12: =SUMIF($A$5:$A$120,M12,$J$5:$J$120) -> 229400
A13: =TRIM(INDEX('Ess Med Single quoted items '!$L$3:$T$3,SUMPRODUCT(('Ess Med Single quoted items '!L68:T68<>"")*(COLUMN('Ess Med Single quoted items '!L68:T68)-COLUMN('Ess Med Single quoted items '!L68)+1)))) -> A.K Enterprises | B13: ='Ess Med Single quoted items '!A68 -> 65 | C13: =TRIM('Ess Med Single quoted items '!C68&"") -> Acefylline Piperazine | D13: =TRIM('Ess Med Single quoted items '!B68&"") -> Syrup | E13: =TRIM(#REF!&"") -> #REF! | F13: ='Ess Med Single quoted items '!D68&"" -> Acefyl 125 syp | G13: ='Ess Med Single quoted items '!E68&"" -> Abbott Labs Pak Ltd | H13: ='Ess Med Single quoted items '!K68 -> 1000 | I13: =SUM('Ess Med Single quoted items '!L68:T68) -> 215.5 | J13: =H13*I13 -> 215500 | M13: =TRIM('Ess Med Single quoted items '!T3) -> Yasir Distribution | N13: =COUNTIF($A$5:$A$120,M13) -> 14 | O13: =SUMIF($A$5:$A$120,M13,$J$5:$J$120) -> 3706144
A14: =TRIM(INDEX('Ess Med Single quoted items '!$L$3:$T$3,SUMPRODUCT(('Ess Med Single quoted items '!L70:T70<>"")*(COLUMN('Ess Med Single quoted items '!L70:T70)-COLUMN('Ess Med Single quoted items '!L70)+1)))) -> A.K Enterprises | B14: ='Ess Med Single quoted items '!A70 -> 67 | C14: =TRIM('Ess Med Single quoted items '!C70&"") -> Neostigmine Methylsulfate | D14: =TRIM('Ess Med Single quoted items '!B70&"") -> Injection | E14: =TRIM(#REF!&"") -> #REF! | F14: ='Ess Med Single quoted items '!D70&"" -> Neostig-N | G14: ='Ess Med Single quoted items '!E70&"" -> Bajwa Pharmaceuticals (Pvt) Ltd | H14: ='Ess Med Single quoted items '!K70 -> 1000 | I14: =SUM('Ess Med Single quoted items '!L70:T70) -> 26.5 | J14: =H14*I14 -> 26500 | M14: Total | N14: =SUM(N5:N13) -> 116 | O14: =SUM(O5:O13) -> 12727642
A15: =TRIM(INDEX('Ess Med Single quoted items '!$L$3:$T$3,SUMPRODUCT(('Ess Med Single quoted items '!L71:T71<>"")*(COLUMN('Ess Med Single quoted items '!L71:T71)-COLUMN('Ess Med Single quoted items '!L71)+1)))) -> A.K Enterprises | B15: ='Ess Med Single quoted items '!A71 -> 68 | C15: =TRIM('Ess Med Single quoted items '!C71&"") -> Magnesium Sulphate | D15: =TRIM('Ess Med Single quoted items '!B71&"") -> Injection | E15: =TRIM(#REF!&"") -> #REF! | F15: ='Ess Med Single quoted items '!D71&"" -> Epsium | G15: ='Ess Med Single quoted items '!E71&"" -> Bajwa Pharmaceuticals (Pvt) Ltd | H15: ='Ess Med Single quoted items '!K71 -> 500 | I15: =SUM('Ess Med Single quoted items '!L71:T71) -> 24.9 | J15: =H15*I15 -> 12450
A16: =TRIM(INDEX('Ess Med Single quoted items '!$L$3:$T$3,SUMPRODUCT(('Ess Med Single quoted items '!L73:T73<>"")*(COLUMN('Ess Med Single quoted items '!L73:T73)-COLUMN('Ess Med Single quoted items '!L73)+1)))) -> A.K Enterprises | B16: ='Ess Med Single quoted items '!A73 -> 70 | C16: =TRIM('Ess Med Single quoted items '!C73&"") -> Dinoprostone (PGE2) | D16: =TRIM('Ess Med Single quoted items '!B73&"") -> Tablet | E16: =TRIM(#REF!&"") -> #REF! | F16: ='Ess Med Single quoted items '!D73&"" -> Glandin E2 | G16: ='Ess Med Single quoted items '!E73&"" -> Nabi Qasim Industries | H16: ='Ess Med Single quoted items '!K73 -> 200 | I16: =SUM('Ess Med Single quoted items '!L73:T73) -> 1019.15 | J16: =H16*I16 -> 203830
A17: =TRIM(INDEX('Ess Med Single quoted items '!$L$3:$T$3,SUMPRODUCT(('Ess Med Single quoted items '!L88:T88<>"")*(COLUMN('Ess Med Single quoted items '!L88:T88)-COLUMN('Ess Med Single quoted items '!L88)+1)))) -> A.K Enterprises | B17: ='Ess Med Single quoted items '!A88 -> 85 | C17: =TRIM('Ess Med Single quoted items '!C88&"") -> Liquid Paraffin + Magnesium Hydroxide | D17: =TRIM('Ess Med Single quoted items '!B88&"") -> Syrup | E17: =TRIM(#REF!&"") -> #REF! | F17: ='Ess Med Single quoted items '!D88&"" -> Cremaffin | G17: ='Ess Med Single quoted items '!E88&"" -> Abbott Labs Pak Ltd | H17: ='Ess Med Single quoted items '!K88 -> 2000 | I17: =SUM('Ess Med Single quoted items '!L88:T88) -> 149.94 | J17: =H17*I17 -> 299880
A18: =TRIM(INDEX('Ess Med Single quoted items '!$L$3:$T$3,SUMPRODUCT(('Ess Med Single quoted items '!L89:T89<>"")*(COLUMN('Ess Med Single quoted items '!L89:T89)-COLUMN('Ess Med Single quoted items '!L89)+1)))) -> A.K Enterprises | B18: ='Ess Med Single quoted items '!A89 -> 86 | C18: =TRIM('Ess Med Single quoted items '!C89&"") -> Lactulose | D18: =TRIM('Ess Med Single quoted items '!B89&"") -> Syrup | E18: =TRIM(#REF!&"") -> #REF! | F18: ='Ess Med Single quoted items '!D89&"" -> Duphalac | G18: ='Ess Med Single quoted items '!E89&"" -> Abbott Labs Pak Ltd | H18: ='Ess Med Single quoted items '!K89 -> 2000 | I18: =SUM('Ess Med Single quoted items '!L89:T89) -> 255.34 | J18: =H18*I18 -> 510680
A19: =TRIM(INDEX('Ess Med Single quoted items '!$L$3:$T$3,SUMPRODUCT(('Ess Med Single quoted items '!L90:T90<>"")*(COLUMN('Ess Med Single quoted items '!L90:T90)-COLUMN('Ess Med Single quoted items '!L90)+1)))) -> A.K Enterprises | B19: ='Ess Med Single quoted items '!A90 -> 87 | C19: =TRIM('Ess Med Single quoted items '!C90&"") -> Montelukast | D19: =TRIM('Ess Med Single quoted items '!B90&"") -> Sachet | E19: =TRIM(#REF!&"") -> #REF! | F19: ='Ess Med Single quoted items '!D90&"" -> Floaid | G19: ='Ess Med Single quoted items '!E90&"" -> Abbott Labs Pak Ltd | H19: ='Ess Med Single quoted items '!K90 -> 500 | I19: =SUM('Ess Med Single quoted items '!L90:T90) -> 30.6 | J19: =H19*I19 -> 15300
A20: =TRIM(INDEX('Ess Med Single quoted items '!$L$3:$T$3,SUMPRODUCT(('Ess Med Single quoted items '!L91:T91<>"")*(COLUMN('Ess Med Single quoted items '!L91:T91)-COLUMN('Ess Med Single quoted items '!L91)+1)))) -> A.K Enterprises | B20: ='Ess Med Single quoted items '!A91 -> 88 | C20: =TRIM('Ess Med Single quoted items '!C91&"") -> Acetylcysteine | D20: =TRIM('Ess Med Single quoted items '!B91&"") -> Sachet | E20: =TRIM(#REF!&"") -> #REF! | F20: ='Ess Med Single quoted items '!D91&"" -> Mucolator | G20: ='Ess Med Single quoted items '!E91&"" -> Abbott Labs Pak Ltd | H20: ='Ess Med Single quoted items '!K91 -> 100 | I20: =SUM('Ess Med Single quoted items '!L91:T91) -> 29.75 | J20: =H20*I20 -> 2975
A21: =TRIM(INDEX('Ess Med Single quoted items '!$L$3:$T$3,SUMPRODUCT(('Ess Med Single quoted items '!L92:T92<>"")*(COLUMN('Ess Med Single quoted items '!L92:T92)-COLUMN('Ess Med Single quoted items '!L92)+1)))) -> A.K Enterprises | B21: ='Ess Med Single quoted items '!A92 -> 89 | C21: =TRIM('Ess Med Single quoted items '!C92&"") -> Multivitamin + Iron | D21: =TRIM('Ess Med Single quoted items '!B92&"") -> Tablet | E21: =TRIM(#REF!&"") -> #REF! | F21: ='Ess Med Single quoted items '!D92&"" -> Iberet Folic-500 Gradumet | G21: ='Ess Med Single quoted items '!E92&"" -> Abbott Labs Pak Ltd | H21: ='Ess Med Single quoted items '!K92 -> 2000 | I21: =SUM('Ess Med Single quoted items '!L92:T92) -> 10.77 | J21: =H21*I21 -> 21540
A22: =TRIM(INDEX('Ess Med Single quoted items '!$L$3:$T$3,SUMPRODUCT(('Ess Med Single quoted items '!L93:T93<>"")*(COLUMN('Ess Med Single quoted items '!L93:T93)-COLUMN('Ess Med Single quoted items '!L93)+1)))) -> A.K Enterprises | B22: ='Ess Med Single quoted items '!A93 -> 90 | C22: =TRIM('Ess Med Single quoted items '!C93&"") -> Multivitamin + Iron | D22: =TRIM('Ess Med Single quoted items '!B93&"") -> Syrup | E22: =TRIM(#REF!&"") -> #REF! | F22: ='Ess Med Single quoted items '!D93&"" -> Iberet-500 | G22: ='Ess Med Single quoted items '!E93&"" -> Abbott Labs Pak Ltd | H22: ='Ess Med Single quoted items '!K93 -> 2000 | I22: =SUM('Ess Med Single quoted items '!L93:T93) -> 153 | J22: =H22*I22 -> 306000
A23: =TRIM(INDEX('Ess Med Single quoted items '!$L$3:$T$3,SUMPRODUCT(('Ess Med Single quoted items '!L94:T94<>"")*(COLUMN('Ess Med Single quoted items '!L94:T94)-COLUMN('Ess Med Single quoted items '!L94)+1)))) -> A.K Enterprises | B23: ='Ess Med Single quoted items '!A94 -> 91 | C23: =TRIM('Ess Med Single quoted items '!C94&"") -> Multivitamin + Vitamin B Complex | D23: =TRIM('Ess Med Single quoted items '!B94&"") -> Tablet | E23: =TRIM(#REF!&"") -> #REF! | F23: ='Ess Med Single quoted items '!D94&"" -> Surbex-Z | G23: ='Ess Med Single quoted items '!E94&"" -> Abbott Labs Pak Ltd | H23: ='Ess Med Single quoted items '!K94 -> 1000 | I23: =SUM('Ess Med Single quoted items '!L94:T94) -> 13.73 | J23: =H23*I23 -> 13730
A24: =TRIM(INDEX('Ess Med Single quoted items '!$L$3:$T$3,SUMPRODUCT(('Ess Med Single quoted items '!L95:T95<>"")*(COLUMN('Ess Med Single quoted items '!L95:T95)-COLUMN('Ess Med Single quoted items '!L95)+1)))) -> A.K Enterprises | B24: ='Ess Med Single quoted items '!A95 -> 92 | C24: =TRIM('Ess Med Single quoted items '!C95&"") -> Multivitamin + Iron | D24: =TRIM('Ess Med Single quoted items '!B95&"") -> Tablet | E24: =TRIM(#REF!&"") -> #REF! | F24: ='Ess Med Single quoted items '!D95&"" -> Iberet Folic-500 Gradumet | G24: ='Ess Med Single quoted items '!E95&"" -> Abbott Labs Pak Ltd | H24: ='Ess Med Single quoted items '!K95 -> 1000 | I24: =SUM('Ess Med Single quoted items '!L95:T95) -> 10.77 | J24: =H24*I24 -> 10770
A25: =TRIM(INDEX('Ess Med Single quoted items '!$L$3:$T$3,SUMPRODUCT(('Ess Med Single quoted items '!L96:T96<>"")*(COLUMN('Ess Med Single quoted items '!L96:T96)-COLUMN('Ess Med Single quoted items '!L96)+1)))) -> A.K Enterprises | B25: ='Ess Med Single quoted items '!A96 -> 93 | C25: =TRIM('Ess Med Single quoted items '!C96&"") -> Vitamin A + Vitamin D3 + Vitamin C + Vitamin B1 + Vitamin B2 + Vitamin B6 + Vitamin B12 + Nicotinamide | D25: =TRIM('Ess Med Single quoted items '!B96&"") -> Syp | E25: =TRIM(#REF!&"") -> #REF! | F25: ='Ess Med Single quoted items '!D96&"" -> Vi-Daylin | G25: ='Ess Med Single quoted items '!E96&"" -> Abbott Labs Pak Ltd | H25: ='Ess Med Single quoted items '!K96 -> 500 | I25: =SUM('Ess Med Single quoted items '!L96:T96) -> 158.27 | J25: =H25*I25 -> 79135
A26: =TRIM(INDEX('Ess Med Single quoted items '!$L$3:$T$3,SUMPRODUCT(('Ess Med Single quoted items '!L97:T97<>"")*(COLUMN('Ess Med Single quoted items '!L97:T97)-COLUMN('Ess Med Single quoted items '!L97)+1)))) -> A.K Enterprises | B26: ='Ess Med Single quoted items '!A97 -> 94 | C26: =TRIM('Ess Med Single quoted items '!C97&"") -> Vitamin A + Vitamin D3 + Vitamin C + Vitamin B1 + Vitamin B2 + Vitamin B6 + Vitamin B12 + Nicotinamide | D26: =TRIM('Ess Med Single quoted items '!B97&"") -> Tablet | E26: =TRIM(#REF!&"") -> #REF! | F26: ='Ess Med Single quoted items '!D97&"" -> Vidaylin-T | G26: ='Ess Med Single quoted items '!E97&"" -> Abbott Labs Pak Ltd | H26: ='Ess Med Single quoted items '!K97 -> 1000 | I26: =SUM('Ess Med Single quoted items '!L97:T97) -> 7.7 | J26: =H26*I26 -> 7700
A27: =TRIM(INDEX('Ess Med Single quoted items '!$L$3:$T$3,SUMPRODUCT(('Ess Med Single quoted items '!L118:T118<>"")*(COLUMN('Ess Med Single quoted items '!L118:T118)-COLUMN('Ess Med Single quoted items '!L118)+1)))) -> A.K Enterprises | B27: ='Ess Med Single quoted items '!A118 -> 115 | C27: =TRIM('Ess Med Single quoted items '!C118&"") -> Thyroxine Sodium (Levothyroxine Sodium) | D27: =TRIM('Ess Med Single quoted items '!B118&"") -> Tablet | E27: =TRIM(#REF!&"") -> #REF! | F27: ='Ess Med Single quoted items '!D118&"" -> Thyronorm | G27: ='Ess Med Single quoted items '!E118&"" -> Abbott Labs Pak Ltd | H27: ='Ess Med Single quoted items '!K118 -> 1000 | I27: =SUM('Ess Med Single quoted items '!L118:T118) -> 2.27 | J27: =H27*I27 -> 2270
A28: =TRIM(INDEX('Ess Med Single quoted items '!$L$3:$T$3,SUMPRODUCT(('Ess Med Single quoted items '!L119:T119<>"")*(COLUMN('Ess Med Single quoted items '!L119:T119)-COLUMN('Ess Med Single quoted items '!L119)+1)))) -> A.K Enterprises | B28: ='Ess Med Single quoted items '!A119 -> 116 | C28: =TRIM('Ess Med Single quoted items '!C119&"") -> Levothyroxine Sodium | D28: =TRIM('Ess Med Single quoted items '!B119&"") -> Tablet | E28: =TRIM(#REF!&"") -> #REF! | F28: ='Ess Med Single quoted items '!D119&"" -> Thyronorm | G28: ='Ess Med Single quoted items '!E119&"" -> Abbott Labs Pak Ltd | H28: ='Ess Med Single quoted items '!K119 -> 1000 | I28: =SUM('Ess Med Single quoted items '!L119:T119) -> 3.45 | J28: =H28*I28 -> 3450
A29: =TRIM(INDEX('Ess Med Single quoted items '!$L$3:$T$3,SUMPRODUCT(('Ess Med Single quoted items '!L15:T15<>"")*(COLUMN('Ess Med Single quoted items '!L15:T15)-COLUMN('Ess Med Single quoted items '!L15)+1)))) -> Ali Traders | B29: ='Ess Med Single quoted items '!A15 -> 11 | C29: =TRIM('Ess Med Single quoted items '!C15&"") -> Albendazole | D29: =TRIM('Ess Med Single quoted items '!B15&"") -> Suspension | F29: ='Ess Med Single quoted items '!D15&"" -> Janzole Syp 10ml | G29: ='Ess Med Single quoted items '!E15&"" -> JAWA | H29: ='Ess Med Single quoted items '!K15 -> 1000 | I29: =SUM('Ess Med Single quoted items '!L15:T15) -> 46 | J29: =H29*I29 -> 46000
A30: =TRIM(INDEX('Ess Med Single quoted items '!$L$3:$T$3,SUMPRODUCT(('Ess Med Single quoted items '!L26:T26<>"")*(COLUMN('Ess Med Single quoted items '!L26:T26)-COLUMN('Ess Med Single quoted items '!L26)+1)))) -> Ali Traders | B30: ='Ess Med Single quoted items '!A26 -> 22 | C30: =TRIM('Ess Med Single quoted items '!C26&"") -> Ceftriaxone | D30: =TRIM('Ess Med Single quoted items '!B26&"") -> Injection | F30: ='Ess Med Single quoted items '!D26&"" -> Taxocyn 250mg IM Inj | G30: ='Ess Med Single quoted items '!E26&"" -> Synchro | H30: ='Ess Med Single quoted items '!K26 -> 1000 | I30: =SUM('Ess Med Single quoted items '!L26:T26) -> 83 | J30: =H30*I30 -> 83000
A31: =TRIM(INDEX('Ess Med Single quoted items '!$L$3:$T$3,SUMPRODUCT(('Ess Med Single quoted items '!L72:T72<>"")*(COLUMN('Ess Med Single quoted items '!L72:T72)-COLUMN('Ess Med Single quoted items '!L72)+1)))) -> Ali Traders | B31: ='Ess Med Single quoted items '!A72 -> 69 | C31: =TRIM('Ess Med Single quoted items '!C72&"") -> Potassium Chloride (KCl) | D31: =TRIM('Ess Med Single quoted items '!B72&"") -> Injection | E31: =TRIM(#REF!&"") -> #REF! | F31: ='Ess Med Single quoted items '!D72&"" -> Zeesol KCL 20ml | G31: ='Ess Med Single quoted items '!E72&"" -> Shazeb | H31: ='Ess Med Single quoted items '!K72 -> 2000 | I31: =SUM('Ess Med Single quoted items '!L72:T72) -> 21.9 | J31: =H31*I31 -> 43800
A32: =TRIM(INDEX('Ess Med Single quoted items '!$L$3:$T$3,SUMPRODUCT(('Ess Med Single quoted items '!L77:T77<>"")*(COLUMN('Ess Med Single quoted items '!L77:T77)-COLUMN('Ess Med Single quoted items '!L77)+1)))) -> Ali Traders | B32: ='Ess Med Single quoted items '!A77 -> 74 | C32: =TRIM('Ess Med Single quoted items '!C77&"") -> Tranexamic Acid | D32: =TRIM('Ess Med Single quoted items '!B77&"") -> Injection | E32: =TRIM(#REF!&"") -> #REF! | F32: ='Ess Med Single quoted items '!D77&"" -> Amenex 500mg Inj 5ml | G32: ='Ess Med Single quoted items '!E77&"" -> Amaan | H32: ='Ess Med Single quoted items '!K77 -> 5000 | I32: =SUM('Ess Med Single quoted items '!L77:T77) -> 49.5 | J32: =H32*I32 -> 247500
A33: =TRIM(INDEX('Ess Med Single quoted items '!$L$3:$T$3,SUMPRODUCT(('Ess Med Single quoted items '!L84:T84<>"")*(COLUMN('Ess Med Single quoted items '!L84:T84)-COLUMN('Ess Med Single quoted items '!L84)+1)))) -> Ali Traders | B33: ='Ess Med Single quoted items '!A84 -> 81 | C33: =TRIM('Ess Med Single quoted items '!C84&"") -> Dextrose (Glucose) | D33: =TRIM('Ess Med Single quoted items '!B84&"") -> Infusion | E33: =TRIM(#REF!&"") -> #REF! | F33: ='Ess Med Single quoted items '!D84&"" -> Zeesol 25% Dextrose Water 20ml | G33: ='Ess Med Single quoted items '!E84&"" -> Shazeb | H33: ='Ess Med Single quoted items '!K84 -> 1000 | I33: =SUM('Ess Med Single quoted items '!L84:T84) -> 21.46 | J33: =H33*I33 -> 21460
A34: =TRIM(INDEX('Ess Med Single quoted items '!$L$3:$T$3,SUMPRODUCT(('Ess Med Single quoted items '!L98:T98<>"")*(COLUMN('Ess Med Single quoted items '!L98:T98)-COLUMN('Ess Med Single quoted items '!L98)+1)))) -> Ali Traders | B34: ='Ess Med Single quoted items '!A98 -> 95 | C34: =TRIM('Ess Med Single quoted items '!C98&"") -> Folic Acid + Iron Hydroxide Polymaltose Complex | D34: =TRIM('Ess Med Single quoted items '!B98&"") -> Syrup | E34: =TRIM(#REF!&"") -> #REF! | F34: ='Ess Med Single quoted items '!D98&"" -> Hemoplex-F Syrup 120ml | G34: ='Ess Med Single quoted items '!E98&"" -> Synchro | H34: ='Ess Med Single quoted items '!K98 -> 500 | I34: =SUM('Ess Med Single quoted items '!L98:T98) -> 175 | J34: =H34*I34 -> 87500
A35: =TRIM(INDEX('Ess Med Single quoted items '!$L$3:$T$3,SUMPRODUCT(('Ess Med Single quoted items '!L99:T99<>"")*(COLUMN('Ess Med Single quoted items '!L99:T99)-COLUMN('Ess Med Single quoted items '!L99)+1)))) -> Ali Traders | B35: ='Ess Med Single quoted items '!A99 -> 96 | C35: =TRIM('Ess Med Single quoted items '!C99&"") -> Calcium + Vitamin D | D35: =TRIM('Ess Med Single quoted items '!B99&"") -> Capsule/Tablet | E35: =TRIM(#REF!&"") -> #REF! | F35: ='Ess Med Single quoted items '!D99&"" -> Calcium-P Tab | G35: ='Ess Med Single quoted items '!E99&"" -> PDH | H35: ='Ess Med Single quoted items '!K99 -> 5000 | I35: =SUM('Ess Med Single quoted items '!L99:T99) -> 7.5 | J35: =H35*I35 -> 37500
A36: =TRIM(INDEX('Ess Med Single quoted items '!$L$3:$T$3,SUMPRODUCT(('Ess Med Single quoted items '!L107:T107<>"")*(COLUMN('Ess Med Single quoted items '!L107:T107)-COLUMN('Ess Med Single quoted items '!L107)+1)))) -> Ali Traders | B36: ='Ess Med Single quoted items '!A107 -> 104 | C36: =TRIM('Ess Med Single quoted items '!C107&"") -> Oral Rehydration Salts (ORS) | D36: =TRIM('Ess Med Single quoted items '!B107&"") -> Sachet | E36: =TRIM(#REF!&"") -> #REF! | F36: ='Ess Med Single quoted items '!D107&"" -> Osmofaas 11gm Sachet | G36: ='Ess Med Single quoted items '!E107&"" -> FAAS | H36: ='Ess Med Single quoted items '!K107 -> 500 | I36: =SUM('Ess Med Single quoted items '!L107:T107) -> 13.5 | J36: =H36*I36 -> 6750
A37: =TRIM(INDEX('Ess Med Single quoted items '!$L$3:$T$3,SUMPRODUCT(('Ess Med Single quoted items '!L120:T120<>"")*(COLUMN('Ess Med Single quoted items '!L120:T120)-COLUMN('Ess Med Single quoted items '!L120)+1)))) -> Ali Traders | B37: ='Ess Med Single quoted items '!A120 -> 117 | C37: =TRIM('Ess Med Single quoted items '!C120&"") -> Oxytocin | D37: =TRIM('Ess Med Single quoted items '!B120&"") -> Injection | E37: =TRIM(#REF!&"") -> #REF! | F37: ='Ess Med Single quoted items '!D120&"" -> Oxytocin 5 I.U 1ml Inj | G37: ='Ess Med Single quoted items '!E120&"" -> Amaan | H37: ='Ess Med Single quoted items '!K120 -> 2000 | I37: =SUM('Ess Med Single quoted items '!L120:T120) -> 15.5 | J37: =H37*I37 -> 31000
A38: =TRIM(INDEX('Ess Med Single quoted items '!$L$3:$T$3,SUMPRODUCT(('Ess Med Single quoted items '!L7:T7<>"")*(COLUMN('Ess Med Single quoted items '!L7:T7)-COLUMN('Ess Med Single quoted items '!L7)+1)))) -> Bukhari Medical Supplies | B38: ='Ess Med Single quoted items '!A7 -> 3 | C38: =TRIM('Ess Med Single quoted items '!C7&"") -> Clotrimazole | D38: =TRIM('Ess Med Single quoted items '!B7&"") -> Cream | F38: ='Ess Med Single quoted items '!D7&"" -> Wimtazol Cream | G38: ='Ess Med Single quoted items '!E7&"" -> Wimits Pharmaceuticals Pvt Ltd | H38: ='Ess Med Single quoted items '!K7 -> 1000 | I38: =SUM('Ess Med Single quoted items '!L7:T7) -> 84 | J38: =H38*I38 -> 84000
A39: =TRIM(INDEX('Ess Med Single quoted items '!$L$3:$T$3,SUMPRODUCT(('Ess Med Single quoted items '!L8:T8<>"")*(COLUMN('Ess Med Single quoted items '!L8:T8)-COLUMN('Ess Med Single quoted items '!L8)+1)))) -> Bukhari Medical Supplies | B39: ='Ess Med Single quoted items '!A8 -> 4 | C39: =TRIM('Ess Med Single quoted items '!C8&"") -> Ketoconazole | D39: =TRIM('Ess Med Single quoted items '!B8&"") -> Cream | F39: ='Ess Med Single quoted items '!D8&"" -> Nizral Cream | G39: ='Ess Med Single quoted items '!E8&"" -> Wimits Pharmaceuticals Pvt Ltd | H39: ='Ess Med Single quoted items '!K8 -> 1000 | I39: =SUM('Ess Med Single quoted items '!L8:T8) -> 75.4 | J39: =H39*I39 -> 75400
A40: =TRIM(INDEX('Ess Med Single quoted items '!$L$3:$T$3,SUMPRODUCT(('Ess Med Single quoted items '!L14:T14<>"")*(COLUMN('Ess Med Single quoted items '!L14:T14)-COLUMN('Ess Med Single quoted items '!L14)+1)))) -> Bukhari Medical Supplies | B40: ='Ess Med Single quoted items '!A14 -> 10 | C40: =TRIM('Ess Med Single quoted items '!C14&"") -> Lidocaine (Lignocaine) | D40: =TRIM('Ess Med Single quoted items '!B14&"") -> Gel | F40: ='Ess Med Single quoted items '!D14&"" -> Ligwim | G40: ='Ess Med Single quoted items '!E14&"" -> Wimits Pharmaceuticals Pvt Ltd | H40: ='Ess Med Single quoted items '!K14 -> 1000 | I40: =SUM('Ess Med Single quoted items '!L14:T14) -> 20.8 | J40: =H40*I40 -> 20800
A41: =TRIM(INDEX('Ess Med Single quoted items '!$L$3:$T$3,SUMPRODUCT(('Ess Med Single quoted items '!L33:T33<>"")*(COLUMN('Ess Med Single quoted items '!L33:T33)-COLUMN('Ess Med Single quoted items '!L33)+1)))) -> Bukhari Medical Supplies | B41: ='Ess Med Single quoted items '!A33 -> 29 | C41: =TRIM('Ess Med Single quoted items '!C33&"") -> Ciprofloxacin | D41: =TRIM('Ess Med Single quoted items '!B33&"") -> Eye/Ear Drops | F41: ='Ess Med Single quoted items '!D33&"" -> Invoflox Eye Drops | G41: ='Ess Med Single quoted items '!E33&"" -> Innvotek Pharmaceuticals | H41: ='Ess Med Single quoted items '!K33 -> 1000 | I41: =SUM('Ess Med Single quoted items '!L33:T33) -> 91 | J41: =H41*I41 -> 91000
A42: =TRIM(INDEX('Ess Med Single quoted items '!$L$3:$T$3,SUMPRODUCT(('Ess Med Single quoted items '!L34:T34<>"")*(COLUMN('Ess Med Single quoted items '!L34:T34)-COLUMN('Ess Med Single quoted items '!L34)+1)))) -> Bukhari Medical Supplies | B42: ='Ess Med Single quoted items '!A34 -> 30 | C42: =TRIM('Ess Med Single quoted items '!C34&"") -> Ciprofloxacin | D42: =TRIM('Ess Med Single quoted items '!B34&"") -> Eye Drops | F42: ='Ess Med Single quoted items '!D34&"" -> Invoflox Eye Drops | G42: ='Ess Med Single quoted items '!E34&"" -> Innvotek Pharmaceuticals | H42: ='Ess Med Single quoted items '!K34 -> 500 | I42: =SUM('Ess Med Single quoted items '!L34:T34) -> 91 | J42: =H42*I42 -> 45500
A43: =TRIM(INDEX('Ess Med Single quoted items '!$L$3:$T$3,SUMPRODUCT(('Ess Med Single quoted items '!L35:T35<>"")*(COLUMN('Ess Med Single quoted items '!L35:T35)-COLUMN('Ess Med Single quoted items '!L35)+1)))) -> Bukhari Medical Supplies | B43: ='Ess Med Single quoted items '!A35 -> 31 | C43: =TRIM('Ess Med Single quoted items '!C35&"") -> Ciprofloxacin | D43: =TRIM('Ess Med Single quoted items '!B35&"") -> Eye Drops | F43: ='Ess Med Single quoted items '!D35&"" -> Invoflox Eye Drops | G43: ='Ess Med Single quoted items '!E35&"" -> Innvotek Pharmaceuticals | H43: ='Ess Med Single quoted items '!K35 -> 100 | I43: =SUM('Ess Med Single quoted items '!L35:T35) -> 91 | J43: =H43*I43 -> 9100
A44: =TRIM(INDEX('Ess Med Single quoted items '!$L$3:$T$3,SUMPRODUCT(('Ess Med Single quoted items '!L37:T37<>"")*(COLUMN('Ess Med Single quoted items '!L37:T37)-COLUMN('Ess Med Single quoted items '!L37)+1)))) -> Bukhari Medical Supplies | B44: ='Ess Med Single quoted items '!A37 -> 33 | C44: =TRIM('Ess Med Single quoted items '!C37&"") -> Betamethasone Valerate + Neomycin | D44: =TRIM('Ess Med Single quoted items '!B37&"") -> Cream | F44: ='Ess Med Single quoted items '!D37&"" -> Wimbeta-N Cream | G44: ='Ess Med Single quoted items '!E37&"" -> Wimits Pharmaceuticals Pvt Ltd | H44: ='Ess Med Single quoted items '!K37 -> 2000 | I44: =SUM('Ess Med Single quoted items '!L37:T37) -> 84 | J44: =H44*I44 -> 168000
A45: =TRIM(INDEX('Ess Med Single quoted items '!$L$3:$T$3,SUMPRODUCT(('Ess Med Single quoted items '!L67:T67<>"")*(COLUMN('Ess Med Single quoted items '!L67:T67)-COLUMN('Ess Med Single quoted items '!L67)+1)))) -> Bukhari Medical Supplies | B45: ='Ess Med Single quoted items '!A67 -> 64 | C45: =TRIM('Ess Med Single quoted items '!C67&"") -> Risperidone | D45: =TRIM('Ess Med Single quoted items '!B67&"") -> Tablet | E45: =TRIM(#REF!&"") -> #REF! | F45: ='Ess Med Single quoted items '!D67&"" -> Trendone | G45: ='Ess Med Single quoted items '!E67&"" -> Friends Pharma (Pvt) Ltd | H45: ='Ess Med Single quoted items '!K67 -> 100 | I45: =SUM('Ess Med Single quoted items '!L67:T67) -> 2.8 | J45: =H45*I45 -> 280
A46: =TRIM(INDEX('Ess Med Single quoted items '!$L$3:$T$3,SUMPRODUCT(('Ess Med Single quoted items '!L101:T101<>"")*(COLUMN('Ess Med Single quoted items '!L101:T101)-COLUMN('Ess Med Single quoted items '!L101)+1)))) -> Bukhari Medical Supplies | B46: ='Ess Med Single quoted items '!A101 -> 98 | C46: =TRIM('Ess Med Single quoted items '!C101&"") -> Tropicamide | D46: =TRIM('Ess Med Single quoted items '!B101&"") -> Eye Drops | E46: =TRIM(#REF!&"") -> #REF! | F46: ='Ess Med Single quoted items '!D101&"" -> Mydropic 1% Drops | G46: ='Ess Med Single quoted items '!E101&"" -> Innvotek Pharmaceuticals | H46: ='Ess Med Single quoted items '!K101 -> 300 | I46: =SUM('Ess Med Single quoted items '!L101:T101) -> 162 | J46: =H46*I46 -> 48600
A47: =TRIM(INDEX('Ess Med Single quoted items '!$L$3:$T$3,SUMPRODUCT(('Ess Med Single quoted items '!L6:T6<>"")*(COLUMN('Ess Med Single quoted items '!L6:T6)-COLUMN('Ess Med Single quoted items '!L6)+1)))) -> Impressive Biotechnical & Pharmaceuticals | B47: ='Ess Med Single quoted items '!A6 -> 2 | C47: =TRIM('Ess Med Single quoted items '!C6&"") -> Amphotericin B | D47: =TRIM('Ess Med Single quoted items '!B6&"") -> Injection | F47: ='Ess Med Single quoted items '!D6&"" -> Amphotericin B Lyophilized 50mg Injection | G47: ='Ess Med Single quoted items '!E6&"" -> MTI Medical (Pvt) Ltd | H47: ='Ess Med Single quoted items '!K6 -> 500 | I47: =SUM('Ess Med Single quoted items '!L6:T6) -> 1091 | J47: =H47*I47 -> 545500
A48: =TRIM(INDEX('Ess Med Single quoted items '!$L$3:$T$3,SUMPRODUCT(('Ess Med Single quoted items '!L27:T27<>"")*(COLUMN('Ess Med Single quoted items '!L27:T27)-COLUMN('Ess Med Single quoted items '!L27)+1)))) -> Impressive Biotechnical & Pharmaceuticals | B48: ='Ess Med Single quoted items '!A27 -> 23 | C48: =TRIM('Ess Med Single quoted items '!C27&"") -> Azithromycin | D48: =TRIM('Ess Med Single quoted items '!B27&"") -> Injection | F48: ='Ess Med Single quoted items '!D27&"" -> ZECMO 500mg IV Injection | G48: ='Ess Med Single quoted items '!E27&"" -> MTI Medical (Pvt) Ltd | H48: ='Ess Med Single quoted items '!K27 -> 500 | I48: =SUM('Ess Med Single quoted items '!L27:T27) -> 270 | J48: =H48*I48 -> 135000
A49: =TRIM(INDEX('Ess Med Single quoted items '!$L$3:$T$3,SUMPRODUCT(('Ess Med Single quoted items '!L40:T40<>"")*(COLUMN('Ess Med Single quoted items '!L40:T40)-COLUMN('Ess Med Single quoted items '!L40)+1)))) -> Impressive Biotechnical & Pharmaceuticals | B49: ='Ess Med Single quoted items '!#REF! -> #REF! | C49: =TRIM('Ess Med Single quoted items '!#REF!&"") -> #REF! | D49: =TRIM('Ess Med Single quoted items '!#REF!&"") -> #REF! | F49: ='Ess Med Single quoted items '!D40&"" -> Vasparin 25000 IU/5ml Injection | G49: ='Ess Med Single quoted items '!E40&"" -> Shandong Luoxin Pharmaceuticals Group Stock Co. Ltd. | H49: ='Ess Med Single quoted items '!K40 -> 200 | I49: =SUM('Ess Med Single quoted items '!L40:T40) -> 859 | J49: =H49*I49 -> 171800 | K49: Check: this Vasparin (heparin) quote sits under Atropine Sulphate in the source sheet.
A50: =TRIM(INDEX('Ess Med Single quoted items '!$L$3:$T$3,SUMPRODUCT(('Ess Med Single quoted items '!L44:T44<>"")*(COLUMN('Ess Med Single quoted items '!L44:T44)-COLUMN('Ess Med Single quoted items '!L44)+1)))) -> Impressive Biotechnical & Pharmaceuticals | B50: ='Ess Med Single quoted items '!A44 -> 41 | C50: =TRIM('Ess Med Single quoted items '!C44&"") -> Loratadine | D50: =TRIM('Ess Med Single quoted items '!B44&"") -> Syrup | F50: ='Ess Med Single quoted items '!D44&"" -> LORANTEX Syrup | G50: ='Ess Med Single quoted items '!E44&"" -> MTI Medical (Pvt) Ltd | H50: ='Ess Med Single quoted items '!K44 -> 2000 | I50: =SUM('Ess Med Single quoted items '!L44:T44) -> 55 | J50: =H50*I50 -> 110000
A51: =TRIM(INDEX('Ess Med Single quoted items '!$L$3:$T$3,SUMPRODUCT(('Ess Med Single quoted items '!L74:T74<>"")*(COLUMN('Ess Med Single quoted items '!L74:T74)-COLUMN('Ess Med Single quoted items '!L74)+1)))) -> Impressive Biotechnical & Pharmaceuticals | B51: ='Ess Med Single quoted items '!A74 -> 71 | C51: =TRIM('Ess Med Single quoted items '!C74&"") -> Human Chorionic Gonadotropin (hCG) | D51: =TRIM('Ess Med Single quoted items '!B74&"") -> Injection | E51: =TRIM(#REF!&"") -> #REF! | F51: ='Ess Med Single quoted items '!D74&"" -> Pubergen 5000 IU Injection | G51: ='Ess Med Single quoted items '!E74&"" -> Bio Mark Pharmaceuticals | H51: ='Ess Med Single quoted items '!K74 -> 1000 | I51: =SUM('Ess Med Single quoted items '!L74:T74) -> 2331 | J51: =H51*I51 -> 2331000
A52: =TRIM(INDEX('Ess Med Single quoted items '!$L$3:$T$3,SUMPRODUCT(('Ess Med Single quoted items '!L102:T102<>"")*(COLUMN('Ess Med Single quoted items '!L102:T102)-COLUMN('Ess Med Single quoted items '!L102)+1)))) -> Impressive Biotechnical & Pharmaceuticals | B52: ='Ess Med Single quoted items '!A102 -> 99 | C52: =TRIM('Ess Med Single quoted items '!C102&"") -> Tramadol Hydrochloride | D52: =TRIM('Ess Med Single quoted items '!B102&"") -> Capsule | E52: =TRIM(#REF!&"") -> #REF! | F52: ='Ess Med Single quoted items '!D102&"" -> BITRAMOL 50mg Capsule | G52: ='Ess Med Single quoted items '!E102&"" -> MTI Medical (Pvt) Ltd | H52: ='Ess Med Single quoted items '!K102 -> 3000 | I52: =SUM('Ess Med Single quoted items '!L102:T102) -> 8 | J52: =H52*I52 -> 24000
A53: =TRIM(INDEX('Ess Med Single quoted items '!$L$3:$T$3,SUMPRODUCT(('Ess Med Single quoted items '!L111:T111<>"")*(COLUMN('Ess Med Single quoted items '!L111:T111)-COLUMN('Ess Med Single quoted items '!L111)+1)))) -> Impressive Biotechnical & Pharmaceuticals | B53: ='Ess Med Single quoted items '!A111 -> 108 | C53: =TRIM('Ess Med Single quoted items '!C111&"") -> Progesterone | D53: =TRIM('Ess Med Single quoted items '!B111&"") -> Tablet | E53: =TRIM(#REF!&"") -> #REF! | F53: ='Ess Med Single quoted items '!D111&"" -> Sugest 100mg Tablet | G53: ='Ess Med Single quoted items '!E111&"" -> Bio Mark Pharmaceuticals | H53: ='Ess Med Single quoted items '!K111 -> 1000 | I53: =SUM('Ess Med Single quoted items '!L111:T111) -> 55.25 | J53: =H53*I53 -> 55250
A54: =TRIM(INDEX('Ess Med Single quoted items '!$L$3:$T$3,SUMPRODUCT(('Ess Med Single quoted items '!L112:T112<>"")*(COLUMN('Ess Med Single quoted items '!L112:T112)-COLUMN('Ess Med Single quoted items '!L112)+1)))) -> Impressive Biotechnical & Pharmaceuticals | B54: ='Ess Med Single quoted items '!A112 -> 109 | C54: =TRIM('Ess Med Single quoted items '!C112&"") -> Itopride Hydrochloride | D54: =TRIM('Ess Med Single quoted items '!B112&"") -> Tablet | E54: =TRIM(#REF!&"") -> #REF! | F54: ='Ess Med Single quoted items '!D112&"" -> TRIDEXIL 50mg Tablet | G54: ='Ess Med Single quoted items '!E112&"" -> MTI Medical (Pvt) Ltd | H54: ='Ess Med Single quoted items '!K112 -> 500 | I54: =SUM('Ess Med Single quoted items '!L112:T112) -> 8 | J54: =H54*I54 -> 4000
A55: =TRIM(INDEX('Ess Med Single quoted items '!$L$3:$T$3,SUMPRODUCT(('Ess Med Single quoted items '!L9:T9<>"")*(COLUMN('Ess Med Single quoted items '!L9:T9)-COLUMN('Ess Med Single quoted items '!L9)+1)))) -> Rehman Trading Company | B55: ='Ess Med Single quoted items '!A9 -> 5 | C55: =TRIM('Ess Med Single quoted items '!C9&"") -> Fenticonazole Nitrate | D55: =TRIM('Ess Med Single quoted items '!B9&"") -> Cream | F55: ='Ess Med Single quoted items '!D9&"" -> Lomexin Dermal Cream 10 g | G55: ='Ess Med Single quoted items '!E9&"" -> Pacific | H55: ='Ess Med Single quoted items '!K9 -> 1000 | I55: =SUM('Ess Med Single quoted items '!L9:T9) -> 153.16 | J55: =H55*I55 -> 153160
A56: =TRIM(INDEX('Ess Med Single quoted items '!$L$3:$T$3,SUMPRODUCT(('Ess Med Single quoted items '!L13:T13<>"")*(COLUMN('Ess Med Single quoted items '!L13:T13)-COLUMN('Ess Med Single quoted items '!L13)+1)))) -> Rehman Trading Company | B56: ='Ess Med Single quoted items '!A13 -> 9 | C56: =TRIM('Ess Med Single quoted items '!C13&"") -> Paracetamol | D56: =TRIM('Ess Med Single quoted items '!B13&"") -> Drops | F56: ='Ess Med Single quoted items '!D13&"" -> Pacipar Infant Drops 80 mg/0.8 ml | G56: ='Ess Med Single quoted items '!E13&"" -> Pacific | H56: ='Ess Med Single quoted items '!K13 -> 2000 | I56: =VALUE(LEFT('Ess Med Single quoted items '!P13,LEN('Ess Med Single quoted items '!P13)-1)) -> 47.05 | J56: =H56*I56 -> 94100 | K56: Rate typed as text '47.05.' in the source sheet - read as 47.05.
A57: =TRIM(INDEX('Ess Med Single quoted items '!$L$3:$T$3,SUMPRODUCT(('Ess Med Single quoted items '!L16:T16<>"")*(COLUMN('Ess Med Single quoted items '!L16:T16)-COLUMN('Ess Med Single quoted items '!L16)+1)))) -> Rehman Trading Company | B57: ='Ess Med Single quoted items '!A16 -> 12 | C57: =TRIM('Ess Med Single quoted items '!C16&"") -> Glimepiride + Metformin | D57: =TRIM('Ess Med Single quoted items '!B16&"") -> Tablet | F57: ='Ess Med Single quoted items '!D16&"" -> Evopride Plus | G57: ='Ess Med Single quoted items '!E16&"" -> PharmEvo | H57: ='Ess Med Single quoted items '!K16 -> 500 | I57: =SUM('Ess Med Single quoted items '!L16:T16) -> 5.38 | J57: =H57*I57 -> 2690
A58: =TRIM(INDEX('Ess Med Single quoted items '!$L$3:$T$3,SUMPRODUCT(('Ess Med Single quoted items '!L17:T17<>"")*(COLUMN('Ess Med Single quoted items '!L17:T17)-COLUMN('Ess Med Single quoted items '!L17)+1)))) -> Rehman Trading Company | B58: ='Ess Med Single quoted items '!A17 -> 13 | C58: =TRIM('Ess Med Single quoted items '!C17&"") -> Glimepiride | D58: =TRIM('Ess Med Single quoted items '!B17&"") -> Tablet | F58: ='Ess Med Single quoted items '!D17&"" -> Evopride | G58: ='Ess Med Single quoted items '!E17&"" -> PharmEvo | H58: ='Ess Med Single quoted items '!K17 -> 2000 | I58: =SUM('Ess Med Single quoted items '!L17:T17) -> 3.81 | J58: =H58*I58 -> 7620
A59: =TRIM(INDEX('Ess Med Single quoted items '!$L$3:$T$3,SUMPRODUCT(('Ess Med Single quoted items '!L18:T18<>"")*(COLUMN('Ess Med Single quoted items '!L18:T18)-COLUMN('Ess Med Single quoted items '!L18)+1)))) -> Rehman Trading Company | B59: ='Ess Med Single quoted items '!A18 -> 14 | C59: =TRIM('Ess Med Single quoted items '!C18&"") -> Glimepiride + Metformin | D59: =TRIM('Ess Med Single quoted items '!B18&"") -> Tablet | F59: ='Ess Med Single quoted items '!D18&"" -> Evopride Plus | G59: ='Ess Med Single quoted items '!E18&"" -> PharmEvo | H59: ='Ess Med Single quoted items '!K18 -> 1000 | I59: =SUM('Ess Med Single quoted items '!L18:T18) -> 9.87 | J59: =H59*I59 -> 9870
A60: =TRIM(INDEX('Ess Med Single quoted items '!$L$3:$T$3,SUMPRODUCT(('Ess Med Single quoted items '!L19:T19<>"")*(COLUMN('Ess Med Single quoted items '!L19:T19)-COLUMN('Ess Med Single quoted items '!L19)+1)))) -> Rehman Trading Company | B60: ='Ess Med Single quoted items '!A19 -> 15 | C60: =TRIM('Ess Med Single quoted items '!C19&"") -> Glimepiride | D60: =TRIM('Ess Med Single quoted items '!B19&"") -> Tablet | F60: ='Ess Med Single quoted items '!D19&"" -> Evopride | G60: ='Ess Med Single quoted items '!E19&"" -> PharmEvo | H60: ='Ess Med Single quoted items '!K19 -> 50 | I60: =SUM('Ess Med Single quoted items '!L19:T19) -> 10.2 | J60: =H60*I60 -> 510
A61: =TRIM(INDEX('Ess Med Single quoted items '!$L$3:$T$3,SUMPRODUCT(('Ess Med Single quoted items '!L43:T43<>"")*(COLUMN('Ess Med Single quoted items '!L43:T43)-COLUMN('Ess Med Single quoted items '!L43)+1)))) -> Rehman Trading Company | B61: ='Ess Med Single quoted items '!A43 -> 40 | C61: =TRIM('Ess Med Single quoted items '!C43&"") -> Levetiracetam | D61: =TRIM('Ess Med Single quoted items '!B43&"") -> Injection | F61: ='Ess Med Single quoted items '!D43&"" -> Klevra | G61: ='Ess Med Single quoted items '!E43&"" -> PharmEvo | H61: ='Ess Med Single quoted items '!K43 -> 500 | I61: =SUM('Ess Med Single quoted items '!L43:T43) -> 274.98 | J61: =H61*I61 -> 137490
A62: =TRIM(INDEX('Ess Med Single quoted items '!$L$3:$T$3,SUMPRODUCT(('Ess Med Single quoted items '!L47:T47<>"")*(COLUMN('Ess Med Single quoted items '!L47:T47)-COLUMN('Ess Med Single quoted items '!L47)+1)))) -> Rehman Trading Company | B62: ='Ess Med Single quoted items '!A47 -> 44 | C62: =TRIM('Ess Med Single quoted items '!C47&"") -> Telmisartan + Amlodipine | D62: =TRIM('Ess Med Single quoted items '!B47&"") -> Tablet | F62: ='Ess Med Single quoted items '!D47&"" -> Telsarta-A Tab. 5/40 mg | G62: ='Ess Med Single quoted items '!E47&"" -> PharmEvo | H62: ='Ess Med Single quoted items '!K47 -> 500 | I62: =SUM('Ess Med Single quoted items '!L47:T47) -> 20.83 | J62: =H62*I62 -> 10415
A63: =TRIM(INDEX('Ess Med Single quoted items '!$L$3:$T$3,SUMPRODUCT(('Ess Med Single quoted items '!L48:T48<>"")*(COLUMN('Ess Med Single quoted items '!L48:T48)-COLUMN('Ess Med Single quoted items '!L48)+1)))) -> Rehman Trading Company | B63: ='Ess Med Single quoted items '!A48 -> 45 | C63: =TRIM('Ess Med Single quoted items '!C48&"") -> Telmisartan + Amlodipine | D63: =TRIM('Ess Med Single quoted items '!B48&"") -> Tablet | F63: ='Ess Med Single quoted items '!D48&"" -> Telsarta-A Tab. 5/80 mg | G63: ='Ess Med Single quoted items '!E48&"" -> PharmEvo | H63: ='Ess Med Single quoted items '!K48 -> 500 | I63: =SUM('Ess Med Single quoted items '!L48:T48) -> 27.03 | J63: =H63*I63 -> 13515
A64: =TRIM(INDEX('Ess Med Single quoted items '!$L$3:$T$3,SUMPRODUCT(('Ess Med Single quoted items '!L49:T49<>"")*(COLUMN('Ess Med Single quoted items '!L49:T49)-COLUMN('Ess Med Single quoted items '!L49)+1)))) -> Rehman Trading Company | B64: ='Ess Med Single quoted items '!A49 -> 46 | C64: =TRIM('Ess Med Single quoted items '!C49&"") -> Telmisartan | D64: =TRIM('Ess Med Single quoted items '!B49&"") -> Tablet | F64: ='Ess Med Single quoted items '!D49&"" -> Telsarta Tab. 20 mg | G64: ='Ess Med Single quoted items '!E49&"" -> PharmEvo | H64: ='Ess Med Single quoted items '!K49 -> 200 | I64: =SUM('Ess Med Single quoted items '!L49:T49) -> 13.09 | J64: =H64*I64 -> 2618
A65: =TRIM(INDEX('Ess Med Single quoted items '!$L$3:$T$3,SUMPRODUCT(('Ess Med Single quoted items '!L52:T52<>"")*(COLUMN('Ess Med Single quoted items '!L52:T52)-COLUMN('Ess Med Single quoted items '!L52)+1)))) -> Rehman Trading Company | B65: ='Ess Med Single quoted items '!A52 -> 49 | C65: =TRIM('Ess Med Single quoted items '!C52&"") -> Bisoprolol | D65: =TRIM('Ess Med Single quoted items '!B52&"") -> Tablet | F65: ='Ess Med Single quoted items '!D52&"" -> Zibes Tab. 10 mg | G65: ='Ess Med Single quoted items '!E52&"" -> PharmEvo | H65: ='Ess Med Single quoted items '!K52 -> 500 | I65: =SUM('Ess Med Single quoted items '!L52:T52) -> 13.7 | J65: =H65*I65 -> 6850
A66: =TRIM(INDEX('Ess Med Single quoted items '!$L$3:$T$3,SUMPRODUCT(('Ess Med Single quoted items '!L53:T53<>"")*(COLUMN('Ess Med Single quoted items '!L53:T53)-COLUMN('Ess Med Single quoted items '!L53)+1)))) -> Rehman Trading Company | B66: ='Ess Med Single quoted items '!A53 -> 50 | C66: =TRIM('Ess Med Single quoted items '!C53&"") -> Bisoprolol | D66: =TRIM('Ess Med Single quoted items '!B53&"") -> Tablet | F66: ='Ess Med Single quoted items '!D53&"" -> Zibes Tab. 2.5 mg | G66: ='Ess Med Single quoted items '!E53&"" -> PharmEvo | H66: ='Ess Med Single quoted items '!K53 -> 500 | I66: =SUM('Ess Med Single quoted items '!L53:T53) -> 3.14 | J66: =H66*I66 -> 1570
A67: =TRIM(INDEX('Ess Med Single quoted items '!$L$3:$T$3,SUMPRODUCT(('Ess Med Single quoted items '!L54:T54<>"")*(COLUMN('Ess Med Single quoted items '!L54:T54)-COLUMN('Ess Med Single quoted items '!L54)+1)))) -> Rehman Trading Company | B67: ='Ess Med Single quoted items '!A54 -> 51 | C67: =TRIM('Ess Med Single quoted items '!C54&"") -> Nebivolol | D67: =TRIM('Ess Med Single quoted items '!B54&"") -> Tablet | F67: ='Ess Med Single quoted items '!D54&"" -> Byvas | G67: ='Ess Med Single quoted items '!E54&"" -> PharmEvo | H67: ='Ess Med Single quoted items '!K54 -> 100 | I67: =SUM('Ess Med Single quoted items '!L54:T54) -> 17.3 | J67: =H67*I67 -> 1730
A68: =TRIM(INDEX('Ess Med Single quoted items '!$L$3:$T$3,SUMPRODUCT(('Ess Med Single quoted items '!L55:T55<>"")*(COLUMN('Ess Med Single quoted items '!L55:T55)-COLUMN('Ess Med Single quoted items '!L55)+1)))) -> Rehman Trading Company | B68: ='Ess Med Single quoted items '!A55 -> 52 | C68: =TRIM('Ess Med Single quoted items '!C55&"") -> Nebivolol | D68: =TRIM('Ess Med Single quoted items '!B55&"") -> Tablet | F68: ='Ess Med Single quoted items '!D55&"" -> Byvas | G68: ='Ess Med Single quoted items '!E55&"" -> PharmEvo | H68: ='Ess Med Single quoted items '!K55 -> 300 | I68: =SUM('Ess Med Single quoted items '!L55:T55) -> 9.29 | J68: =H68*I68 -> 2787
A69: =TRIM(INDEX('Ess Med Single quoted items '!$L$3:$T$3,SUMPRODUCT(('Ess Med Single quoted items '!L56:T56<>"")*(COLUMN('Ess Med Single quoted items '!L56:T56)-COLUMN('Ess Med Single quoted items '!L56)+1)))) -> Rehman Trading Company | B69: ='Ess Med Single quoted items '!A56 -> 53 | C69: =TRIM('Ess Med Single quoted items '!C56&"") -> Nebivolol | D69: =TRIM('Ess Med Single quoted items '!B56&"") -> Tablet | F69: ='Ess Med Single quoted items '!D56&"" -> Byvas | G69: ='Ess Med Single quoted items '!E56&"" -> PharmEvo | H69: ='Ess Med Single quoted items '!K56 -> 500 | I69: =SUM('Ess Med Single quoted items '!L56:T56) -> 14.1 | J69: =H69*I69 -> 7050
A70: =TRIM(INDEX('Ess Med Single quoted items '!$L$3:$T$3,SUMPRODUCT(('Ess Med Single quoted items '!L66:T66<>"")*(COLUMN('Ess Med Single quoted items '!L66:T66)-COLUMN('Ess Med Single quoted items '!L66)+1)))) -> Rehman Trading Company | B70: ='Ess Med Single quoted items '!A66 -> 63 | C70: =TRIM('Ess Med Single quoted items '!C66&"") -> Quetiapine | D70: =TRIM('Ess Med Single quoted items '!B66&"") -> Tablet | E70: =TRIM(#REF!&"") -> #REF! | F70: ='Ess Med Single quoted items '!D66&"" -> Evokalm | G70: ='Ess Med Single quoted items '!E66&"" -> PharmEvo | H70: ='Ess Med Single quoted items '!K66 -> 500 | I70: =SUM('Ess Med Single quoted items '!L66:T66) -> 9.52 | J70: =H70*I70 -> 4760
A71: =TRIM(INDEX('Ess Med Single quoted items '!$L$3:$T$3,SUMPRODUCT(('Ess Med Single quoted items '!L78:T78<>"")*(COLUMN('Ess Med Single quoted items '!L78:T78)-COLUMN('Ess Med Single quoted items '!L78)+1)))) -> Rehman Trading Company | B71: ='Ess Med Single quoted items '!A78 -> 75 | C71: =TRIM('Ess Med Single quoted items '!C78&"") -> Dextrose 5% (Glucose 5%) | D71: =TRIM('Ess Med Single quoted items '!B78&"") -> Infusion | E71: =TRIM(#REF!&"") -> #REF! | F71: ='Ess Med Single quoted items '!D78&"" -> Pacidex 5D IV 1000 ml | G71: ='Ess Med Single quoted items '!E78&"" -> Pacific | H71: ='Ess Med Single quoted items '!K78 -> 1000 | I71: =SUM('Ess Med Single quoted items '!L78:T78) -> 87.65 | J71: =H71*I71 -> 87650
A72: =TRIM(INDEX('Ess Med Single quoted items '!$L$3:$T$3,SUMPRODUCT(('Ess Med Single quoted items '!L79:T79<>"")*(COLUMN('Ess Med Single quoted items '!L79:T79)-COLUMN('Ess Med Single quoted items '!L79)+1)))) -> Rehman Trading Company | B72: ='Ess Med Single quoted items '!A79 -> 76 | C72: =TRIM('Ess Med Single quoted items '!C79&"") -> Dextrose 5% (Glucose 5%) | D72: =TRIM('Ess Med Single quoted items '!B79&"") -> Infusion | E72: =TRIM(#REF!&"") -> #REF! | F72: ='Ess Med Single quoted items '!D79&"" -> Pacidex 5D IV 500 ml | G72: ='Ess Med Single quoted items '!E79&"" -> Pacific | H72: ='Ess Med Single quoted items '!K79 -> 500 | I72: =SUM('Ess Med Single quoted items '!L79:T79) -> 72.45 | J72: =H72*I72 -> 36225
A73: =TRIM(INDEX('Ess Med Single quoted items '!$L$3:$T$3,SUMPRODUCT(('Ess Med Single quoted items '!L80:T80<>"")*(COLUMN('Ess Med Single quoted items '!L80:T80)-COLUMN('Ess Med Single quoted items '!L80)+1)))) -> Rehman Trading Company | B73: ='Ess Med Single quoted items '!A80 -> 77 | C73: =TRIM('Ess Med Single quoted items '!C80&"") -> Dextrose + Sodium Chloride (Dextrose Saline) | D73: =TRIM('Ess Med Single quoted items '!B80&"") -> Infusion | E73: =TRIM(#REF!&"") -> #REF! | F73: ='Ess Med Single quoted items '!D80&"" -> Paci-DNS IV 1000 ml | G73: ='Ess Med Single quoted items '!E80&"" -> Pacific | H73: ='Ess Med Single quoted items '!K80 -> 1000 | I73: =SUM('Ess Med Single quoted items '!L80:T80) -> 80.4 | J73: =H73*I73 -> 80400
A74: =TRIM(INDEX('Ess Med Single quoted items '!$L$3:$T$3,SUMPRODUCT(('Ess Med Single quoted items '!L81:T81<>"")*(COLUMN('Ess Med Single quoted items '!L81:T81)-COLUMN('Ess Med Single quoted items '!L81)+1)))) -> Rehman Trading Company | B74: ='Ess Med Single quoted items '!A81 -> 78 | C74: =TRIM('Ess Med Single quoted items '!C81&"") -> Dextrose + Sodium Chloride (Dextrose Saline) | D74: =TRIM('Ess Med Single quoted items '!B81&"") -> Infusion | E74: =TRIM(#REF!&"") -> #REF! | F74: ='Ess Med Single quoted items '!D81&"" -> Paci-DNS IV 500 ml | G74: ='Ess Med Single quoted items '!E81&"" -> Pacific | H74: ='Ess Med Single quoted items '!K81 -> 500 | I74: =SUM('Ess Med Single quoted items '!L81:T81) -> 67.14 | J74: =H74*I74 -> 33570
A75: =TRIM(INDEX('Ess Med Single quoted items '!$L$3:$T$3,SUMPRODUCT(('Ess Med Single quoted items '!L82:T82<>"")*(COLUMN('Ess Med Single quoted items '!L82:T82)-COLUMN('Ess Med Single quoted items '!L82)+1)))) -> Rehman Trading Company | B75: ='Ess Med Single quoted items '!A82 -> 79 | C75: =TRIM('Ess Med Single quoted items '!C82&"") -> Dextrose (Glucose) | D75: =TRIM('Ess Med Single quoted items '!B82&"") -> Infusion | E75: =TRIM(#REF!&"") -> #REF! | F75: ='Ess Med Single quoted items '!D82&"" -> Pacidex 10D IV 1000 ml | G75: ='Ess Med Single quoted items '!E82&"" -> Pacific | H75: ='Ess Med Single quoted items '!K82 -> 1000 | I75: =SUM('Ess Med Single quoted items '!L82:T82) -> 101.05 | J75: =H75*I75 -> 101050
A76: =TRIM(INDEX('Ess Med Single quoted items '!$L$3:$T$3,SUMPRODUCT(('Ess Med Single quoted items '!L83:T83<>"")*(COLUMN('Ess Med Single quoted items '!L83:T83)-COLUMN('Ess Med Single quoted items '!L83)+1)))) -> Rehman Trading Company | B76: ='Ess Med Single quoted items '!A83 -> 80 | C76: =TRIM('Ess Med Single quoted items '!C83&"") -> Dextrose (Glucose) | D76: =TRIM('Ess Med Single quoted items '!B83&"") -> Infusion | E76: =TRIM(#REF!&"") -> #REF! | F76: ='Ess Med Single quoted items '!D83&"" -> Pacidex 10D IV 500 ml | G76: ='Ess Med Single quoted items '!E83&"" -> Pacific | H76: ='Ess Med Single quoted items '!K83 -> 500 | I76: =SUM('Ess Med Single quoted items '!L83:T83) -> 75.23 | J76: =H76*I76 -> 37615
A77: =TRIM(INDEX('Ess Med Single quoted items '!$L$3:$T$3,SUMPRODUCT(('Ess Med Single quoted items '!L85:T85<>"")*(COLUMN('Ess Med Single quoted items '!L85:T85)-COLUMN('Ess Med Single quoted items '!L85)+1)))) -> Rehman Trading Company | B77: ='Ess Med Single quoted items '!A85 -> 82 | C77: =TRIM('Ess Med Single quoted items '!C85&"") -> Sodium Chloride (Normal Saline) | D77: =TRIM('Ess Med Single quoted items '!B85&"") -> Infusion | E77: =TRIM(#REF!&"") -> #REF! | F77: ='Ess Med Single quoted items '!D85&"" -> Pacisal-NS IV 500 ml | G77: ='Ess Med Single quoted items '!E85&"" -> Pacific | H77: ='Ess Med Single quoted items '!K85 -> 1000 | I77: =SUM('Ess Med Single quoted items '!L85:T85) -> 59.37 | J77: =H77*I77 -> 59370
A78: =TRIM(INDEX('Ess Med Single quoted items '!$L$3:$T$3,SUMPRODUCT(('Ess Med Single quoted items '!L86:T86<>"")*(COLUMN('Ess Med Single quoted items '!L86:T86)-COLUMN('Ess Med Single quoted items '!L86)+1)))) -> Rehman Trading Company | B78: ='Ess Med Single quoted items '!A86 -> 83 | C78: =TRIM('Ess Med Single quoted items '!C86&"") -> Hartmann’s Solution (Ringer Lactate) | D78: =TRIM('Ess Med Single quoted items '!B86&"") -> Infusion | E78: =TRIM(#REF!&"") -> #REF! | F78: ='Ess Med Single quoted items '!D86&"" -> PaciLact RL IV 500 ml | G78: ='Ess Med Single quoted items '!E86&"" -> Pacific | H78: ='Ess Med Single quoted items '!K86 -> 1000 | I78: =SUM('Ess Med Single quoted items '!L86:T86) -> 73.02 | J78: =H78*I78 -> 73020
A79: =TRIM(INDEX('Ess Med Single quoted items '!$L$3:$T$3,SUMPRODUCT(('Ess Med Single quoted items '!L87:T87<>"")*(COLUMN('Ess Med Single quoted items '!L87:T87)-COLUMN('Ess Med Single quoted items '!L87)+1)))) -> Rehman Trading Company | B79: ='Ess Med Single quoted items '!A87 -> 84 | C79: =TRIM('Ess Med Single quoted items '!C87&"") -> Sodium Chloride (Normal Saline) | D79: =TRIM('Ess Med Single quoted items '!B87&"") -> Infusion | E79: =TRIM(#REF!&"") -> #REF! | F79: ='Ess Med Single quoted items '!D87&"" -> Pacisal-NS IV 100 ml | G79: ='Ess Med Single quoted items '!E87&"" -> Pacific | H79: ='Ess Med Single quoted items '!K87 -> 500 | I79: =SUM('Ess Med Single quoted items '!L87:T87) -> 46.06 | J79: =H79*I79 -> 23030
A80: =TRIM(INDEX('Ess Med Single quoted items '!$L$3:$T$3,SUMPRODUCT(('Ess Med Single quoted items '!L108:T108<>"")*(COLUMN('Ess Med Single quoted items '!L108:T108)-COLUMN('Ess Med Single quoted items '!L108)+1)))) -> Rehman Trading Company | B80: ='Ess Med Single quoted items '!A108 -> 105 | C80: =TRIM('Ess Med Single quoted items '!C108&"") -> Dextrose + Sodium Chloride (Paediatric Solution) | D80: =TRIM('Ess Med Single quoted items '!B108&"") -> Infusion | E80: =TRIM(#REF!&"") -> #REF! | F80: ='Ess Med Single quoted items '!D108&"" -> Paci-DNS IV 500 ml | G80: ='Ess Med Single quoted items '!E108&"" -> Pacific | H80: ='Ess Med Single quoted items '!K108 -> 500 | I80: =SUM('Ess Med Single quoted items '!L108:T108) -> 67.14 | J80: =H80*I80 -> 33570
A81: =TRIM(INDEX('Ess Med Single quoted items '!$L$3:$T$3,SUMPRODUCT(('Ess Med Single quoted items '!L113:T113<>"")*(COLUMN('Ess Med Single quoted items '!L113:T113)-COLUMN('Ess Med Single quoted items '!L113)+1)))) -> Rehman Trading Company | B81: ='Ess Med Single quoted items '!A113 -> 110 | C81: =TRIM('Ess Med Single quoted items '!C113&"") -> Dexlansoprazole | D81: =TRIM('Ess Med Single quoted items '!B113&"") -> Tablet | E81: =TRIM(#REF!&"") -> #REF! | F81: ='Ess Med Single quoted items '!D113&"" -> Redexa Cap. 30 mg | G81: ='Ess Med Single quoted items '!E113&"" -> PharmEvo | H81: ='Ess Med Single quoted items '!K113 -> 500 | I81: =SUM('Ess Med Single quoted items '!L113:T113) -> 13.08 | J81: =H81*I81 -> 6540
A82: =TRIM(INDEX('Ess Med Single quoted items '!$L$3:$T$3,SUMPRODUCT(('Ess Med Single quoted items '!L114:T114<>"")*(COLUMN('Ess Med Single quoted items '!L114:T114)-COLUMN('Ess Med Single quoted items '!L114)+1)))) -> Rehman Trading Company | B82: ='Ess Med Single quoted items '!A114 -> 111 | C82: =TRIM('Ess Med Single quoted items '!C114&"") -> Dexlansoprazole | D82: =TRIM('Ess Med Single quoted items '!B114&"") -> Tablet | E82: =TRIM(#REF!&"") -> #REF! | F82: ='Ess Med Single quoted items '!D114&"" -> Redexa Cap. 60 mg | G82: ='Ess Med Single quoted items '!E114&"" -> PharmEvo | H82: ='Ess Med Single quoted items '!K114 -> 500 | I82: =SUM('Ess Med Single quoted items '!L114:T114) -> 19.34 | J82: =H82*I82 -> 9670
A83: =TRIM(INDEX('Ess Med Single quoted items '!$L$3:$T$3,SUMPRODUCT(('Ess Med Single quoted items '!L12:T12<>"")*(COLUMN('Ess Med Single quoted items '!L12:T12)-COLUMN('Ess Med Single quoted items '!L12)+1)))) -> S.A Knitwear | B83: ='Ess Med Single quoted items '!A12 -> 8 | C83: =TRIM('Ess Med Single quoted items '!C12&"") -> Paracetamol + Orphenadrine Citrate | D83: =TRIM('Ess Med Single quoted items '!B12&"") -> Tablet | F83: ='Ess Med Single quoted items '!D12&"" -> Torphen Tablets | G83: ='Ess Med Single quoted items '!E12&"" -> Trison Research Laboratories (Pvt) Ltd. | H83: ='Ess Med Single quoted items '!K12 -> 5000 | I83: =SUM('Ess Med Single quoted items '!L12:T12) -> 3.25 | J83: =H83*I83 -> 16250
A84: =TRIM(INDEX('Ess Med Single quoted items '!$L$3:$T$3,SUMPRODUCT(('Ess Med Single quoted items '!L103:T103<>"")*(COLUMN('Ess Med Single quoted items '!L103:T103)-COLUMN('Ess Med Single quoted items '!L103)+1)))) -> S.A Knitwear | B84: ='Ess Med Single quoted items '!A103 -> 100 | C84: =TRIM('Ess Med Single quoted items '!C103&"") -> Paracetamol + Tramadol | D84: =TRIM('Ess Med Single quoted items '!B103&"") -> Tablet | E84: =TRIM(#REF!&"") -> #REF! | F84: ='Ess Med Single quoted items '!D103&"" -> Astadol Tablets | G84: ='Ess Med Single quoted items '!E103&"" -> Trison Research Laboratories (Pvt) Ltd. | H84: ='Ess Med Single quoted items '!K103 -> 5000 | I84: =SUM('Ess Med Single quoted items '!L103:T103) -> 3.8 | J84: =H84*I84 -> 19000
A85: =TRIM(INDEX('Ess Med Single quoted items '!$L$3:$T$3,SUMPRODUCT(('Ess Med Single quoted items '!L20:T20<>"")*(COLUMN('Ess Med Single quoted items '!L20:T20)-COLUMN('Ess Med Single quoted items '!L20)+1)))) -> Smakz Enterprises | B85: ='Ess Med Single quoted items '!A20 -> 16 | C85: =TRIM('Ess Med Single quoted items '!C20&"") -> Co-amoxiclav (Amoxicillin + Clavulanic Acid) | D85: =TRIM('Ess Med Single quoted items '!B20&"") -> Tablet | F85: ='Ess Med Single quoted items '!D20&"" -> Zamoclave | G85: ='Ess Med Single quoted items '!E20&"" -> Zafa | H85: ='Ess Med Single quoted items '!K20 -> 5000 | I85: =SUM('Ess Med Single quoted items '!L20:T20) -> 38 | J85: =H85*I85 -> 190000
A86: =TRIM(INDEX('Ess Med Single quoted items '!$L$3:$T$3,SUMPRODUCT(('Ess Med Single quoted items '!L21:T21<>"")*(COLUMN('Ess Med Single quoted items '!L21:T21)-COLUMN('Ess Med Single quoted items '!L21)+1)))) -> Smakz Enterprises | B86: ='Ess Med Single quoted items '!A21 -> 17 | C86: =TRIM('Ess Med Single quoted items '!C21&"") -> Co-amoxiclav (Amoxicillin + Clavulanic Acid) | D86: =TRIM('Ess Med Single quoted items '!B21&"") -> Tablet | F86: ='Ess Med Single quoted items '!D21&"" -> Zamoclave | G86: ='Ess Med Single quoted items '!E21&"" -> Zafa | H86: ='Ess Med Single quoted items '!K21 -> 1500 | I86: =SUM('Ess Med Single quoted items '!L21:T21) -> 23 | J86: =H86*I86 -> 34500
A87: =TRIM(INDEX('Ess Med Single quoted items '!$L$3:$T$3,SUMPRODUCT(('Ess Med Single quoted items '!L22:T22<>"")*(COLUMN('Ess Med Single quoted items '!L22:T22)-COLUMN('Ess Med Single quoted items '!L22)+1)))) -> Smakz Enterprises | B87: ='Ess Med Single quoted items '!A22 -> 18 | C87: =TRIM('Ess Med Single quoted items '!C22&"") -> Co-amoxiclav (Amoxicillin + Clavulanic Acid) | D87: =TRIM('Ess Med Single quoted items '!B22&"") -> Tablet | F87: ='Ess Med Single quoted items '!D22&"" -> Zamoclave | G87: ='Ess Med Single quoted items '!E22&"" -> Zafa | H87: ='Ess Med Single quoted items '!K22 -> 2000 | I87: =SUM('Ess Med Single quoted items '!L22:T22) -> 29.8 | J87: =H87*I87 -> 59600
A88: =TRIM(INDEX('Ess Med Single quoted items '!$L$3:$T$3,SUMPRODUCT(('Ess Med Single quoted items '!L23:T23<>"")*(COLUMN('Ess Med Single quoted items '!L23:T23)-COLUMN('Ess Med Single quoted items '!L23)+1)))) -> Smakz Enterprises | B88: ='Ess Med Single quoted items '!A23 -> 19 | C88: =TRIM('Ess Med Single quoted items '!C23&"") -> Co-amoxiclav | D88: =TRIM('Ess Med Single quoted items '!B23&"") -> Suspension | F88: ='Ess Med Single quoted items '!D23&"" -> Stamentin | G88: ='Ess Med Single quoted items '!E23&"" -> Srallion Pharma | H88: ='Ess Med Single quoted items '!K23 -> 1000 | I88: =SUM('Ess Med Single quoted items '!L23:T23) -> 150 | J88: =H88*I88 -> 150000
A89: =TRIM(INDEX('Ess Med Single quoted items '!$L$3:$T$3,SUMPRODUCT(('Ess Med Single quoted items '!L24:T24<>"")*(COLUMN('Ess Med Single quoted items '!L24:T24)-COLUMN('Ess Med Single quoted items '!L24)+1)))) -> Smakz Enterprises | B89: ='Ess Med Single quoted items '!A24 -> 20 | C89: =TRIM('Ess Med Single quoted items '!C24&"") -> Co-amoxiclav | D89: =TRIM('Ess Med Single quoted items '!B24&"") -> Suspension | F89: ='Ess Med Single quoted items '!D24&"" -> Stamentin | G89: ='Ess Med Single quoted items '!E24&"" -> Srallion Pharma | H89: ='Ess Med Single quoted items '!K24 -> 1000 | I89: =SUM('Ess Med Single quoted items '!L24:T24) -> 190 | J89: =H89*I89 -> 190000
A90: =TRIM(INDEX('Ess Med Single quoted items '!$L$3:$T$3,SUMPRODUCT(('Ess Med Single quoted items '!L25:T25<>"")*(COLUMN('Ess Med Single quoted items '!L25:T25)-COLUMN('Ess Med Single quoted items '!L25)+1)))) -> Smakz Enterprises | B90: ='Ess Med Single quoted items '!A25 -> 21 | C90: =TRIM('Ess Med Single quoted items '!C25&"") -> Cefotaxime | D90: =TRIM('Ess Med Single quoted items '!B25&"") -> Injection | F90: ='Ess Med Single quoted items '!D25&"" -> Zipenta | G90: ='Ess Med Single quoted items '!E25&"" -> Zafa | H90: ='Ess Med Single quoted items '!K25 -> 3000 | I90: =SUM('Ess Med Single quoted items '!L25:T25) -> 70 | J90: =H90*I90 -> 210000
A91: =TRIM(INDEX('Ess Med Single quoted items '!$L$3:$T$3,SUMPRODUCT(('Ess Med Single quoted items '!L36:T36<>"")*(COLUMN('Ess Med Single quoted items '!L36:T36)-COLUMN('Ess Med Single quoted items '!L36)+1)))) -> Smakz Enterprises | B91: ='Ess Med Single quoted items '!A36 -> 32 | C91: =TRIM('Ess Med Single quoted items '!C36&"") -> Doxycycline | D91: =TRIM('Ess Med Single quoted items '!B36&"") -> Capsule | F91: ='Ess Med Single quoted items '!D36&"" -> Doxycycline | G91: ='Ess Med Single quoted items '!E36&"" -> Zafa | H91: ='Ess Med Single quoted items '!K36 -> 1000 | I91: =SUM('Ess Med Single quoted items '!L36:T36) -> 4.5 | J91: =H91*I91 -> 4500
A92: =TRIM(INDEX('Ess Med Single quoted items '!$L$3:$T$3,SUMPRODUCT(('Ess Med Single quoted items '!L50:T50<>"")*(COLUMN('Ess Med Single quoted items '!L50:T50)-COLUMN('Ess Med Single quoted items '!L50)+1)))) -> Smakz Enterprises | B92: ='Ess Med Single quoted items '!A50 -> 47 | C92: =TRIM('Ess Med Single quoted items '!C50&"") -> Losartan Potassium | D92: =TRIM('Ess Med Single quoted items '!B50&"") -> Tablet | F92: ='Ess Med Single quoted items '!D50&"" -> Zosartan-K | G92: ='Ess Med Single quoted items '!E50&"" -> Zafa | H92: ='Ess Med Single quoted items '!K50 -> 300 | I92: =SUM('Ess Med Single quoted items '!L50:T50) -> 3.8 | J92: =H92*I92 -> 1140
A93: =TRIM(INDEX('Ess Med Single quoted items '!$L$3:$T$3,SUMPRODUCT(('Ess Med Single quoted items '!L51:T51<>"")*(COLUMN('Ess Med Single quoted items '!L51:T51)-COLUMN('Ess Med Single quoted items '!L51)+1)))) -> Smakz Enterprises | B93: ='Ess Med Single quoted items '!A51 -> 48 | C93: =TRIM('Ess Med Single quoted items '!C51&"") -> Lisinopril | D93: =TRIM('Ess Med Single quoted items '!B51&"") -> Tablet | F93: ='Ess Med Single quoted items '!D51&"" -> Lisna | G93: ='Ess Med Single quoted items '!E51&"" -> Zafa | H93: ='Ess Med Single quoted items '!K51 -> 300 | I93: =SUM('Ess Med Single quoted items '!L51:T51) -> 3.22 | J93: =H93*I93 -> 966
A94: =TRIM(INDEX('Ess Med Single quoted items '!$L$3:$T$3,SUMPRODUCT(('Ess Med Single quoted items '!L57:T57<>"")*(COLUMN('Ess Med Single quoted items '!L57:T57)-COLUMN('Ess Med Single quoted items '!L57)+1)))) -> Smakz Enterprises | B94: ='Ess Med Single quoted items '!A57 -> 54 | C94: =TRIM('Ess Med Single quoted items '!C57&"") -> Labetalol | D94: =TRIM('Ess Med Single quoted items '!B57&"") -> Tablet | F94: ='Ess Med Single quoted items '!D57&"" -> Labetalol | G94: ='Ess Med Single quoted items '!E57&"" -> Zafa | H94: ='Ess Med Single quoted items '!K57 -> 300 | I94: =SUM('Ess Med Single quoted items '!L57:T57) -> 12.75 | J94: =H94*I94 -> 3825
A95: =TRIM(INDEX('Ess Med Single quoted items '!$L$3:$T$3,SUMPRODUCT(('Ess Med Single quoted items '!L58:T58<>"")*(COLUMN('Ess Med Single quoted items '!L58:T58)-COLUMN('Ess Med Single quoted items '!L58)+1)))) -> Smakz Enterprises | B95: ='Ess Med Single quoted items '!A58 -> 55 | C95: =TRIM('Ess Med Single quoted items '!C58&"") -> Hydralazine | D95: =TRIM('Ess Med Single quoted items '!B58&"") -> Tablet | F95: ='Ess Med Single quoted items '!D58&"" -> Hydralazin | G95: ='Ess Med Single quoted items '!E58&"" -> Zafa | H95: ='Ess Med Single quoted items '!K58 -> 300 | I95: =SUM('Ess Med Single quoted items '!L58:T58) -> 3.95 | J95: =H95*I95 -> 1185
A96: =TRIM(INDEX('Ess Med Single quoted items '!$L$3:$T$3,SUMPRODUCT(('Ess Med Single quoted items '!L59:T59<>"")*(COLUMN('Ess Med Single quoted items '!L59:T59)-COLUMN('Ess Med Single quoted items '!L59)+1)))) -> Smakz Enterprises | B96: ='Ess Med Single quoted items '!A59 -> 56 | C96: =TRIM('Ess Med Single quoted items '!C59&"") -> Nifedipine | D96: =TRIM('Ess Med Single quoted items '!B59&"") -> Capsule | F96: ='Ess Med Single quoted items '!D59&"" -> Nefedil | G96: ='Ess Med Single quoted items '!E59&"" -> Zafa | H96: ='Ess Med Single quoted items '!K59 -> 1000 | I96: =SUM('Ess Med Single quoted items '!L59:T59) -> 3.67 | J96: =H96*I96 -> 3670
A97: =TRIM(INDEX('Ess Med Single quoted items '!$L$3:$T$3,SUMPRODUCT(('Ess Med Single quoted items '!L60:T60<>"")*(COLUMN('Ess Med Single quoted items '!L60:T60)-COLUMN('Ess Med Single quoted items '!L60)+1)))) -> Smakz Enterprises | B97: ='Ess Med Single quoted items '!A60 -> 57 | C97: =TRIM('Ess Med Single quoted items '!C60&"") -> Atorvastatin | D97: =TRIM('Ess Med Single quoted items '!B60&"") -> Tablet | F97: ='Ess Med Single quoted items '!D60&"" -> Colezaf | G97: ='Ess Med Single quoted items '!E60&"" -> Zafa | H97: ='Ess Med Single quoted items '!K60 -> 2000 | I97: =SUM('Ess Med Single quoted items '!L60:T60) -> 10 | J97: =H97*I97 -> 20000
A98: =TRIM(INDEX('Ess Med Single quoted items '!$L$3:$T$3,SUMPRODUCT(('Ess Med Single quoted items '!L61:T61<>"")*(COLUMN('Ess Med Single quoted items '!L61:T61)-COLUMN('Ess Med Single quoted items '!L61)+1)))) -> Smakz Enterprises | B98: ='Ess Med Single quoted items '!A61 -> 58 | C98: =TRIM('Ess Med Single quoted items '!C61&"") -> Hydralazine | D98: =TRIM('Ess Med Single quoted items '!B61&"") -> Injection | F98: ='Ess Med Single quoted items '!D61&"" -> Hydralazin | G98: ='Ess Med Single quoted items '!E61&"" -> Zafa | H98: ='Ess Med Single quoted items '!K61 -> 1000 | I98: =SUM('Ess Med Single quoted items '!L61:T61) -> 41.82 | J98: =H98*I98 -> 41820
A99: =TRIM(INDEX('Ess Med Single quoted items '!$L$3:$T$3,SUMPRODUCT(('Ess Med Single quoted items '!L62:T62<>"")*(COLUMN('Ess Med Single quoted items '!L62:T62)-COLUMN('Ess Med Single quoted items '!L62)+1)))) -> Smakz Enterprises | B99: ='Ess Med Single quoted items '!A62 -> 59 | C99: =TRIM('Ess Med Single quoted items '!C62&"") -> Salbutamol | D99: =TRIM('Ess Med Single quoted items '!B62&"") -> Solution | F99: ='Ess Med Single quoted items '!D62&"" -> Zaftolin | G99: ='Ess Med Single quoted items '!E62&"" -> Zafa | H99: ='Ess Med Single quoted items '!K62 -> 500 | I99: =SUM('Ess Med Single quoted items '!L62:T62) -> 65 | J99: =H99*I99 -> 32500
A100: =TRIM(INDEX('Ess Med Single quoted items '!$L$3:$T$3,SUMPRODUCT(('Ess Med Single quoted items '!L63:T63<>"")*(COLUMN('Ess Med Single quoted items '!L63:T63)-COLUMN('Ess Med Single quoted items '!L63)+1)))) -> Smakz Enterprises | B100: ='Ess Med Single quoted items '!A63 -> 60 | C100: =TRIM('Ess Med Single quoted items '!C63&"") -> Salbutamol | D100: =TRIM('Ess Med Single quoted items '!B63&"") -> Syrup | F100: ='Ess Med Single quoted items '!D63&"" -> Zaftolin | G100: ='Ess Med Single quoted items '!E63&"" -> Zafa | H100: ='Ess Med Single quoted items '!K63 -> 500 | I100: =SUM('Ess Med Single quoted items '!L63:T63) -> 50 | J100: =H100*I100 -> 25000
...
