Workbook

Sheet Ess Med Single quoted items 
A1: FINANCIAL EVALUATION REPORT FOR THE TENDER OF MEDICINE / DRUG ITEMS (Single Quoted Items
A2: Financial Evaluation Criteria FOR DRUGS/MEDICINES FOR LOCAL MANUFACTURERS
A3: Sr. No | B3: Dosage Form | C3: Name of Medicine and Firms | D3: Brand Name / Conuntry of Origin | E3: Manufacturer | F3: Firm | G3: Offered Specifications | H3: Offered Pack Size | I3: Quoted Pack Size | J3: Technical Status | K3: Quntity | L3: A.K Enterprises | M3: Ali Traders | N3: Bukhari Medical Supplies | O3: Impressive Biotechnical & Pharmaceuticals | P3: Rehman Trading Company | Q3: S.A Knitwear | R3: Smakz Enterprises | S3: Surgi Vision | T3: Yasir Distribution | U3: Total Cost | V3: Quoted Firms
A5: 1 | B5: Injection | C5: Lidocaine (Lignocaine) | D5: Baligno | E5: Bajwa Pharmaceuticals (Pvt) Ltd | F5: A.K Enterprises | G5: 2% (20 mg/ml) | H5: 30 ml vial × 1 | I5: 30 ml vial × 1 | J5: Responsive | K5: 500 | L5: 21.83 | U5: =PRODUCT(K5,L5,M5,N5,O5,P5,Q5,R5,S5,T5) -> 10915 | V5: =IF(COUNT(U5:U5)=0,"",INDEX(F5:F5,MATCH(MIN(U5:U5),U5:U5,0))) -> A.K Enterprises
A6: 2 | B6: Injection | C6: Amphotericin B | D6: Amphotericin B Lyophilized 50mg Injection | E6: MTI Medical (Pvt) Ltd | F6: Impressive Biotechnical & Pharmaceuticals | G6: 50 mg | H6: 1 vial × 1 | I6: 1 vial × 1 | J6: Responsive | K6: 500 | O6: 1091 | U6: =PRODUCT(K6,L6,M6,N6,O6,P6,Q6,R6,S6,T6) -> 545500 | V6: =IF(COUNT(U6:U6)=0,"",INDEX(F6:F6,MATCH(MIN(U6:U6),U6:U6,0))) -> Impressive Biotechnical & Pharmaceuticals
A7: 3 | B7: Cream | C7: Clotrimazole | D7: Wimtazol Cream | E7: Wimits Pharmaceuticals Pvt Ltd | F7: Bukhari Medical Supplies | G7: 1% + 1% | H7: 20 g tube | I7: 20 g tube | J7: Responsive | K7: 1000 | N7: 84 | U7: =PRODUCT(K7,L7,M7,N7,O7,P7,Q7,R7,S7,T7) -> 84000 | V7: =IF(COUNT(U7:U7)=0,"",INDEX(F7:F7,MATCH(MIN(U7:U7),U7:U7,0))) -> Bukhari Medical Supplies
A8: 4 | B8: Cream | C8: Ketoconazole | D8: Nizral Cream | E8: Wimits Pharmaceuticals Pvt Ltd | F8: Bukhari Medical Supplies | G8: 0.02 | H8: 10 g tube | I8: 10 g tube | J8: Responsive | K8: 1000 | N8: 75.4 | U8: =PRODUCT(K8,L8,M8,N8,O8,P8,Q8,R8,S8,T8) -> 75400 | V8: =IF(COUNT(U8:U8)=0,"",INDEX(F8:F8,MATCH(MIN(U8:U8),U8:U8,0))) -> Bukhari Medical Supplies
A9: 5 | B9: Cream | C9: Fenticonazole Nitrate | D9: Lomexin Dermal Cream 10 g | E9: Pacific | F9: Rehman Trading Company | G9: 0.02 | H9: 30 g tube | I9: 30 g tube | J9: Responsive | K9: 1000 | P9: 153.16 | U9: =PRODUCT(K9,L9,M9,N9,O9,P9,Q9,R9,S9,T9) -> 153160 | V9: =IF(COUNT(U9:U9)=0,"",INDEX(F9:F9,MATCH(MIN(U9:U9),U9:U9,0))) -> Rehman Trading Company
A10: 6 | B10: Syrup | C10: Ibuprofen | D10: Brufen DS | E10: Abbott Labs Pak Ltd | F10: A.K Enterprises | G10: 200 mg/5 ml | H10: 90 ml bottle | I10: 90 ml bottle | J10: Responsive | K10: 1000 | L10: 100.37 | U10: =PRODUCT(K10,L10,M10,N10,O10,P10,Q10,R10,S10,T10) -> 100370 | V10: =IF(COUNT(U10:U10)=0,"",INDEX(F10:F10,MATCH(MIN(U10:U10),U10:U10,0))) -> A.K Enterprises
A11: 7 | B11: Injection | C11: Suxamethonium Chloride (Succinylcholine) | D11: Suxathon | E11: Bajwa Pharmaceuticals (Pvt) Ltd | F11: A.K Enterprises | G11: 100 mg/2 ml | H11: 2 ml ampoule × 1 | I11: 2 ml ampoule × 1 | J11: Responsive | K11: 500 | L11: 43.23 | U11: =PRODUCT(K11,L11,M11,N11,O11,P11,Q11,R11,S11,T11) -> 21615 | V11: =IF(COUNT(U11:U11)=0,"",INDEX(F11:F11,MATCH(MIN(U11:U11),U11:U11,0))) -> A.K Enterprises
A12: 8 | B12: Tablet | C12: Paracetamol + Orphenadrine Citrate | D12: Torphen Tablets | E12: Trison Research Laboratories (Pvt) Ltd. | F12: S.A Knitwear | G12: Paracetamol 450 mg + Orphenadrine 35 mg | H12: 20 tablets | I12: 20 tablets | J12: Responsive | K12: 5000 | Q12: 3.25 | U12: =PRODUCT(K12,L12,M12,N12,O12,P12,Q12,R12,S12,T12) -> 16250 | V12: =IF(COUNT(U12:U12)=0,"",INDEX(F12:F12,MATCH(MIN(U12:U12),U12:U12,0))) -> S.A Knitwear
A13: 9 | B13: Drops | C13: Paracetamol | D13: Pacipar Infant Drops 80 mg/0.8 ml | E13: Pacific | F13: Rehman Trading Company | G13: 100 mg/ml | H13: 15 ml bottle | I13: 15 ml bottle | J13: Responsive | K13: 2000 | P13: 47.05. | U13: =PRODUCT(K13,L13,M13,N13,O13,P13,Q13,R13,S13,T13) -> 2000 | V13: =IF(COUNT(U13:U13)=0,"",INDEX(F13:F13,MATCH(MIN(U13:U13),U13:U13,0))) -> Rehman Trading Company
A14: 10 | B14: Gel | C14: Lidocaine (Lignocaine) | D14: Ligwim | E14: Wimits Pharmaceuticals Pvt Ltd | F14: Bukhari Medical Supplies | G14: 0.02 | H14: 30 g tube | I14: 30 g tube | J14: Responsive | K14: 1000 | N14: 20.8 | U14: =PRODUCT(K14,L14,M14,N14,O14,P14,Q14,R14,S14,T14) -> 20800 | V14: =IF(COUNT(U14:U14)=0,"",INDEX(F14:F14,MATCH(MIN(U14:U14),U14:U14,0))) -> Bukhari Medical Supplies
A15: 11 | B15: Suspension | C15: Albendazole | D15: Janzole Syp 10ml | E15: JAWA | F15: Ali Traders | G15: 200 mg/5 ml* | H15: 10 ml bottle | I15: 10 ml bottle | J15: Responsive | K15: 1000 | M15: 46 | U15: =PRODUCT(K15,L15,M15,N15,O15,P15,Q15,R15,S15,T15) -> 46000 | V15: =IF(COUNT(U15:U15)=0,"",INDEX(F15:F15,MATCH(MIN(U15:U15),U15:U15,0))) -> Ali Traders
A16: 12 | B16: Tablet | C16: Glimepiride + Metformin | D16: Evopride Plus | E16: PharmEvo | F16: Rehman Trading Company | G16: 1 mg + 500 mg | H16: 30 tablets | I16: 20 tablets | J16: Responsive | K16: 500 | P16: 5.38 | U16: =PRODUCT(K16,L16,M16,N16,O16,P16,Q16,R16,S16,T16) -> 2690 | V16: =IF(COUNT(U16:U16)=0,"",INDEX(F16:F16,MATCH(MIN(U16:U16),U16:U16,0))) -> Rehman Trading Company
A17: 13 | B17: Tablet | C17: Glimepiride | D17: Evopride | E17: PharmEvo | F17: Rehman Trading Company | G17: 1 mg | H17: 30 tablets | I17: 30 tablets | J17: Responsive | K17: 2000 | P17: 3.81 | U17: =PRODUCT(K17,L17,M17,N17,O17,P17,Q17,R17,S17,T17) -> 7620 | V17: =IF(COUNT(U17:U17)=0,"",INDEX(F17:F17,MATCH(MIN(U17:U17),U17:U17,0))) -> Rehman Trading Company
A18: 14 | B18: Tablet | C18: Glimepiride + Metformin | D18: Evopride Plus | E18: PharmEvo | F18: Rehman Trading Company | G18: 2 mg + 500 mg | H18: 30 tablets | I18: 20 tablets | J18: Responsive | K18: 1000 | P18: 9.87 | U18: =PRODUCT(K18,L18,M18,N18,O18,P18,Q18,R18,S18,T18) -> 9870 | V18: =IF(COUNT(U18:U18)=0,"",INDEX(F18:F18,MATCH(MIN(U18:U18),U18:U18,0))) -> Rehman Trading Company
A19: 15 | B19: Tablet | C19: Glimepiride | D19: Evopride | E19: PharmEvo | F19: Rehman Trading Company | G19: 3 mg | H19: 30 tablets | I19: 30 tablets | J19: Responsive | K19: 50 | P19: 10.2 | U19: =PRODUCT(K19,L19,M19,N19,O19,P19,Q19,R19,S19,T19) -> 510 | V19: =IF(COUNT(U19:U19)=0,"",INDEX(F19:F19,MATCH(MIN(U19:U19),U19:U19,0))) -> Rehman Trading Company
A20: 16 | B20: Tablet | C20: Co-amoxiclav (Amoxicillin + Clavulanic Acid) | D20: Zamoclave | E20: Zafa | F20: Smakz Enterptises | G20: 1 g | H20: 6 tablets | I20: 14 tablets | J20: Responsive | K20: 5000 | R20: 38 | U20: =PRODUCT(K20,L20,M20,N20,O20,P20,Q20,R20,S20,T20) -> 190000 | V20: =IF(COUNT(U20:U20)=0,"",INDEX(F20:F20,MATCH(MIN(U20:U20),U20:U20,0))) -> Smakz Enterptises
A21: 17 | B21: Tablet | C21: Co-amoxiclav (Amoxicillin + Clavulanic Acid) | D21: Zamoclave | E21: Zafa | F21: Smakz Enterptises | G21: 375 mg | H21: 10 tablets | I21: 10 tablets | J21: Responsive | K21: 1500 | R21: 23 | U21: =PRODUCT(K21,L21,M21,N21,O21,P21,Q21,R21,S21,T21) -> 34500 | V21: =IF(COUNT(U21:U21)=0,"",INDEX(F21:F21,MATCH(MIN(U21:U21),U21:U21,0))) -> Smakz Enterptises
A22: 18 | B22: Tablet | C22: Co-amoxiclav (Amoxicillin + Clavulanic Acid) | D22: Zamoclave | E22: Zafa | F22: Smakz Enterptises | G22: 625 mg | H22: 10 tablets | I22: 14 tablets | J22: Responsive | K22: 2000 | R22: 29.8 | U22: =PRODUCT(K22,L22,M22,N22,O22,P22,Q22,R22,S22,T22) -> 59600 | V22: =IF(COUNT(U22:U22)=0,"",INDEX(F22:F22,MATCH(MIN(U22:U22),U22:U22,0))) -> Smakz Enterptises
A23: 19 | B23: Suspension | C23: Co-amoxiclav | D23: Stamentin | E23: Srallion Pharma | F23: Smakz Enterptises | G23: 156.25 mg/5 ml | H23: 60 ml bottle | I23: 90 ml bottle | J23: Responsive | K23: 1000 | R23: 150 | U23: =PRODUCT(K23,L23,M23,N23,O23,P23,Q23,R23,S23,T23) -> 150000 | V23: =IF(COUNT(U23:U23)=0,"",INDEX(F23:F23,MATCH(MIN(U23:U23),U23:U23,0))) -> Smakz Enterptises
A24: 20 | B24: Suspension | C24: Co-amoxiclav | D24: Stamentin | E24: Srallion Pharma | F24: Smakz Enterptises | G24: 312.5 mg/5 ml | H24: 60 ml bottle | I24: 70 ml bottle | J24: Responsive | K24: 1000 | R24: 190 | U24: =PRODUCT(K24,L24,M24,N24,O24,P24,Q24,R24,S24,T24) -> 190000 | V24: =IF(COUNT(U24:U24)=0,"",INDEX(F24:F24,MATCH(MIN(U24:U24),U24:U24,0))) -> Smakz Enterptises
A25: 21 | B25: Injection | C25: Cefotaxime | D25: Zipenta | E25: Zafa | F25: Smakz Enterptises | G25: 250 mg IV | I25: 1 vial × 1 | J25: Responsive | K25: 3000 | R25: 70 | U25: =PRODUCT(K25,L25,M25,N25,O25,P25,Q25,R25,S25,T25) -> 210000 | V25: =IF(COUNT(U25:U25)=0,"",INDEX(F25:F25,MATCH(MIN(U25:U25),U25:U25,0))) -> Smakz Enterptises
A26: 22 | B26: Injection | C26: Ceftriaxone | D26: Taxocyn 250mg IM Inj | E26: Synchro | F26: Ali Traders | G26: 250 mg IM | H26: 1 vial × 1 | I26: 1 vial × 1 | J26: Responsive | K26: 1000 | M26: 83 | U26: =PRODUCT(K26,L26,M26,N26,O26,P26,Q26,R26,S26,T26) -> 83000 | V26: =IF(COUNT(U26:U26)=0,"",INDEX(F26:F26,MATCH(MIN(U26:U26),U26:U26,0))) -> Ali Traders
A27: 23 | B27: Injection | C27: Azithromycin | D27: ZECMO 500mg IV Injection | E27: MTI Medical (Pvt) Ltd | F27: Impressive Biotechnical & Pharmaceuticals | G27: 500 mg IV | H27: 1 vial × 1 | I27: 1 vial × 1 | J27: Responsive | K27: 500 | O27: 270 | U27: =PRODUCT(K27,L27,M27,N27,O27,P27,Q27,R27,S27,T27) -> 135000 | V27: =IF(COUNT(U27:U27)=0,"",INDEX(F27:F27,MATCH(MIN(U27:U27),U27:U27,0))) -> Impressive Biotechnical & Pharmaceuticals
A28: 24 | B28: Tablet | C28: Clarithromycin | D28: Klaricid | E28: Abbott Labs Pak Ltd | F28: A.K Enterprises | G28: 500 mg | H28: 10 tablets | I28: 10 tablets | J28: Responsive | K28: 500 | L28: 79.95 | U28: =PRODUCT(K28,L28,M28,N28,O28,P28,Q28,R28,S28,T28) -> 39975 | V28: =IF(COUNT(U28:U28)=0,"",INDEX(F28:F28,MATCH(MIN(U28:U28),U28:U28,0))) -> A.K Enterprises
A29: 25 | B29: Ear/Eye Drops | C29: Ciprofloxacin + Dexamethasone | D29: Zeprodex Otic Ear Drops | E29: Zhejiang Langhua Pharmaceutical, China | F29: Yasir Distibution | G29: Ciprofloxacin 0.3% + Dexamethasone 0.1% | H29: 5 ml bottle | I29: 5 ml bottle | J29: Responsive | K29: 1000 | T29: 165.04 | U29: =PRODUCT(K29,L29,M29,N29,O29,P29,Q29,R29,S29,T29) -> 165040 | V29: =IF(COUNT(U29:U29)=0,"",INDEX(F29:F29,MATCH(MIN(U29:U29),U29:U29,0))) -> Yasir Distibution
A30: 26 | B30: Ear Drops | C30: Ciprofloxacin + Dexamethasone | D30: Zeprodex Otic Ear Drops | E30: Zhejiang Langhua Pharmaceutical, China | F30: Yasir Distibution | G30: Ciprofloxacin 0.3% + Dexamethasone 0.1% | H30: 5 ml bottle | I30: 5 ml bottle | J30: Responsive | K30: 100 | T30: 165.04 | U30: =PRODUCT(K30,L30,M30,N30,O30,P30,Q30,R30,S30,T30) -> 16504 | V30: =IF(COUNT(U30:U30)=0,"",INDEX(F30:F30,MATCH(MIN(U30:U30),U30:U30,0))) -> Yasir Distibution
A31: 27 | B31: Ear Drops | C31: Ciprofloxacin + Lidocaine (Lignocaine) | D31: Zeprociane Otic Ear Drops | E31: Zhejiang Langhua, China / GUFFIC Biosciences, India | F31: Yasir Distibution | G31: Ciprofloxacin 0.3% + Lignocaine 2% | I31: 5 ml bottle | J31: Responsive | K31: 1000 | T31: 144.57 | U31: =PRODUCT(K31,L31,M31,N31,O31,P31,Q31,R31,S31,T31) -> 144570 | V31: =IF(COUNT(U31:U31)=0,"",INDEX(F31:F31,MATCH(MIN(U31:U31),U31:U31,0))) -> Yasir Distibution
A32: 28 | B32: Injection | C32: Ciprofloxacin | D32: Ciprok Inj 2mg/ml | E32: Brookes | F32: Yasir Distibution | G32: 200mg/100ml | H32: 100 ml infusion bottle × 1 | I32: 100 ml infusion bottle × 1 | J32: Responsive | K32: 1000 | T32: 156.25 | U32: =PRODUCT(K32,L32,M32,N32,O32,P32,Q32,R32,S32,T32) -> 156250 | V32: =IF(COUNT(U32:U32)=0,"",INDEX(F32:F32,MATCH(MIN(U32:U32),U32:U32,0))) -> Yasir Distibution
A33: 29 | B33: Eye/Ear Drops | C33: Ciprofloxacin | D33: Invoflox Eye Drops | E33: Innvotek Pharmaceuticals | F33: Bukhari Medical Supplies | G33: 0.003 | H33: 5 ml bottle | I33: 5 ml bottle | J33: Responsive | K33: 1000 | N33: 91 | U33: =PRODUCT(K33,L33,M33,N33,O33,P33,Q33,R33,S33,T33) -> 91000 | V33: =IF(COUNT(U33:U33)=0,"",INDEX(F33:F33,MATCH(MIN(U33:U33),U33:U33,0))) -> Bukhari Medical Supplies
A34: 30 | B34: Eye Drops | C34: Ciprofloxacin | D34: Invoflox Eye Drops | E34: Innvotek Pharmaceuticals | F34: Bukhari Medical Supplies | G34: 0.003 | H34: 5 ml bottle | I34: 5 ml bottle | J34: Responsive | K34: 500 | N34: 91 | U34: =PRODUCT(K34,L34,M34,N34,O34,P34,Q34,R34,S34,T34) -> 45500 | V34: =IF(COUNT(U34:U34)=0,"",INDEX(F34:F34,MATCH(MIN(U34:U34),U34:U34,0))) -> Bukhari Medical Supplies
A35: 31 | B35: Eye Drops | C35: Ciprofloxacin | D35: Invoflox Eye Drops | E35: Innvotek Pharmaceuticals | F35: Bukhari Medical Supplies | G35: 0.003 | H35: 5 ml bottle | I35: 5 ml bottle | J35: Responsive | K35: 100 | N35: 91 | U35: =PRODUCT(K35,L35,M35,N35,O35,P35,Q35,R35,S35,T35) -> 9100 | V35: =IF(COUNT(U35:U35)=0,"",INDEX(F35:F35,MATCH(MIN(U35:U35),U35:U35,0))) -> Bukhari Medical Supplies
A36: 32 | B36: Capsule | C36: Doxycycline | D36: Doxycycline | E36: Zafa | F36: Smakz Enterptises | G36: 100 mg | H36: 100 capsules | I36: 10 capsules | J36: Responsive | K36: 1000 | R36: 4.5 | U36: =PRODUCT(K36,L36,M36,N36,O36,P36,Q36,R36,S36,T36) -> 4500 | V36: =IF(COUNT(U36:U36)=0,"",INDEX(F36:F36,MATCH(MIN(U36:U36),U36:U36,0))) -> Smakz Enterptises
A37: 33 | B37: Cream | C37: Betamethasone Valerate + Neomycin | D37: Wimbeta-N Cream | E37: Wimits Pharmaceuticals Pvt Ltd | F37: Bukhari Medical Supplies | G37: Betamethasone 0.1% + Neomycin 0.5% | H37: 15 g | I37: 10 g tube | J37: Responsive | K37: 2000 | N37: 84 | U37: =PRODUCT(K37,L37,M37,N37,O37,P37,Q37,R37,S37,T37) -> 168000 | V37: =IF(COUNT(U37:U37)=0,"",INDEX(F37:F37,MATCH(MIN(U37:U37),U37:U37,0))) -> Bukhari Medical Supplies
A38: 34 | B38: Ear/Eye Drops | C38: Triamcinolone + Neomycin + Gramicidin + Nystatin | D38: Xecomb Ear Drops | E38: Ayurvedic Pharmaceutical Ltd., India | F38: Yasir Distibution | G38: Triamcinolone 0.1% + Neomycin + Gramicidin + Nystatin | H38: 10 ml bottle | I38: 10 ml bottle | J38: Responsive | K38: 1000 | T38: 290.7 | U38: =PRODUCT(K38,L38,M38,N38,O38,P38,Q38,R38,S38,T38) -> 290700 | V38: =IF(COUNT(U38:U38)=0,"",INDEX(F38:F38,MATCH(MIN(U38:U38),U38:U38,0))) -> Yasir Distibution
A39: 35 | B39: Cream | C39: Fusidic Acid + Hydrocortisone | D39: Fusac-H Cream | E39: Jiangsu Joyang, China / Tianjin Pharma, China | F39: Yasir Distibution | G39: Fusidic Acid 2% + Hydrocortisone 1% | H39: 15 g tube | I39: 15 g tube | J39: Responsive | K39: 500 | T39: 303.45 | U39: =PRODUCT(K39,L39,M39,N39,O39,P39,Q39,R39,S39,T39) -> 151725 | V39: =IF(COUNT(U39:U39)=0,"",INDEX(F39:F39,MATCH(MIN(U39:U39),U39:U39,0))) -> Yasir Distibution
A40: 37 | D40: Vasparin 25000 IU/5ml Injection | E40: Shandong Luoxin Pharmaceuticals Group Stock Co. Ltd. | F40: Impressive Biotechnical & Pharmaceuticals | J40: Responsive | K40: 200 | O40: 859 | U40: =PRODUCT(K40,L40,M40,N40,O40,P40,Q40,R40,S40,T40) -> 171800 | V40: =IF(COUNT(U40:U40)=0,"",INDEX(F40:F40,MATCH(MIN(U40:U40),U40:U40,0))) -> Impressive Biotechnical & Pharmaceuticals
A41: 38 | B41: Tablet | C41: Dothiepin (Dosulepin) | D41: Prothiaden | E41: Abbott Labs Pak Ltd | F41: A.K Enterprises | G41: 25 mg | H41: 10×10's | I41: 30 tablets | J41: Responsive | K41: 100 | L41: 4.97 | U41: =PRODUCT(K41,L41,M41,N41,O41,P41,Q41,R41,S41,T41) -> 497 | V41: =IF(COUNT(U41:U41)=0,"",INDEX(F41:F41,MATCH(MIN(U41:U41),U41:U41,0))) -> A.K Enterprises
...

Sheet By Firm
A1: Items Quoted by a Single Firm Only - Medicine / Drug Items (Local Manufacturers)
A2: Items where only one firm quoted a rate, grouped by firm. Values are linked to the 'Single Firm Items' sheet.
M3: Single-firm items per firm
A4: Firm | B4: Sr. No. | C4: Name of Medicine | D4: Dosage Form | E4: Category | F4: Brand Name | G4: Manufacturer | H4: Quantity | I4: Rate (Rs) | J4: Total (Rs) | K4: Remarks | M4: Firm | N4: Items | O4: Value (Rs)
A5: =TRIM(INDEX('Ess Med Single quoted items '!$L$3:$T$3,SUMPRODUCT(('Ess Med Single quoted items '!L5:T5<>"")*(COLUMN('Ess Med Single quoted items '!L5:T5)-COLUMN('Ess Med Single quoted items '!L5)+1)))) -> A.K Enterprises | B5: ='Ess Med Single quoted items '!A5 -> 1 | C5: =TRIM('Ess Med Single quoted items '!C5&"") -> Lidocaine (Lignocaine) | D5: =TRIM('Ess Med Single quoted items '!B5&"") -> Injection | F5: ='Ess Med Single quoted items '!D5&"" -> Baligno | G5: ='Ess Med Single quoted items '!E5&"" -> Bajwa Pharmaceuticals (Pvt) Ltd | H5: ='Ess Med Single quoted items '!K5 -> 500 | I5: =SUM('Ess Med Single quoted items '!L5:T5) -> 21.83 | J5: =H5*I5 -> 10915 | M5: =TRIM('Ess Med Single quoted items '!L3) -> A.K Enterprises | N5: =COUNTIF($A$5:$A$120,M5) -> 24 | O5: =SUMIF($A$5:$A$120,M5,$J$5:$J$120) -> 2155912
A6: =TRIM(INDEX('Ess Med Single quoted items '!$L$3:$T$3,SUMPRODUCT(('Ess Med Single quoted items '!L10:T10<>"")*(COLUMN('Ess Med Single quoted items '!L10:T10)-COLUMN('Ess Med Single quoted items '!L10)+1)))) -> A.K Enterprises | B6: ='Ess Med Single quoted items '!A10 -> 6 | C6: =TRIM('Ess Med Single quoted items '!C10&"") -> Ibuprofen | D6: =TRIM('Ess Med Single quoted items '!B10&"") -> Syrup | F6: ='Ess Med Single quoted items '!D10&"" -> Brufen DS | G6: ='Ess Med Single quoted items '!E10&"" -> Abbott Labs Pak Ltd | H6: ='Ess Med Single quoted items '!K10 -> 1000 | I6: =SUM('Ess Med Single quoted items '!L10:T10) -> 100.37 | J6: =H6*I6 -> 100370 | M6: =TRIM('Ess Med Single quoted items '!M3) -> Ali Traders | N6: =COUNTIF($A$5:$A$120,M6) -> 9 | O6: =SUMIF($A$5:$A$120,M6,$J$5:$J$120) -> 604510
A7: =TRIM(INDEX('Ess Med Single quoted items '!$L$3:$T$3,SUMPRODUCT(('Ess Med Single quoted items '!L11:T11<>"")*(COLUMN('Ess Med Single quoted items '!L11:T11)-COLUMN('Ess Med Single quoted items '!L11)+1)))) -> A.K Enterprises | B7: ='Ess Med Single quoted items '!A11 -> 7 | C7: =TRIM('Ess Med Single quoted items '!C11&"") -> Suxamethonium Chloride (Succinylcholine) | D7: =TRIM('Ess Med Single quoted items '!B11&"") -> Injection | F7: ='Ess Med Single quoted items '!D11&"" -> Suxathon | G7: ='Ess Med Single quoted items '!E11&"" -> Bajwa Pharmaceuticals (Pvt) Ltd | H7: ='Ess Med Single quoted items '!K11 -> 500 | I7: =SUM('Ess Med Single quoted items '!L11:T11) -> 43.23 | J7: =H7*I7 -> 21615 | M7: =TRIM('Ess Med Single quoted items '!N3) -> Bukhari Medical Supplies | N7: =COUNTIF($A$5:$A$120,M7) -> 9 | O7: =SUMIF($A$5:$A$120,M7,$J$5:$J$120) -> 542680
A8: =TRIM(INDEX('Ess Med Single quoted items '!$L$3:$T$3,SUMPRODUCT(('Ess Med Single quoted items '!L28:T28<>"")*(COLUMN('Ess Med Single quoted items '!L28:T28)-COLUMN('Ess Med Single quoted items '!L28)+1)))) -> A.K Enterprises | B8: ='Ess Med Single quoted items '!A28 -> 24 | C8: =TRIM('Ess Med Single quoted items '!C28&"") -> Clarithromycin | D8: =TRIM('Ess Med Single quoted items '!B28&"") -> Tablet | F8: ='Ess Med Single quoted items '!D28&"" -> Klaricid | G8: ='Ess Med Single quoted items '!E28&"" -> Abbott Labs Pak Ltd | H8: ='Ess Med Single quoted items '!K28 -> 500 | I8: =SUM('Ess Med Single quoted items '!L28:T28) -> 79.95 | J8: =H8*I8 -> 39975 | M8: =TRIM('Ess Med Single quoted items '!O3) -> Impressive Biotechnical & Pharmaceuticals | N8: =COUNTIF($A$5:$A$120,M8) -> 8 | O8: =SUMIF($A$5:$A$120,M8,$J$5:$J$120) -> 3376550
A9: =TRIM(INDEX('Ess Med Single quoted items '!$L$3:$T$3,SUMPRODUCT(('Ess Med Single quoted items '!L41:T41<>"")*(COLUMN('Ess Med Single quoted items '!L41:T41)-COLUMN('Ess Med Single quoted items '!L41)+1)))) -> A.K Enterprises | B9: ='Ess Med Single quoted items '!A41 -> 38 | C9: =TRIM('Ess Med Single quoted items '!C41&"") -> Dothiepin (Dosulepin) | D9: =TRIM('Ess Med Single quoted items '!B41&"") -> Tablet | F9: ='Ess Med Single quoted items '!D41&"" -> Prothiaden | G9: ='Ess Med Single quoted items '!E41&"" -> Abbott Labs Pak Ltd | H9: ='Ess Med Single quoted items '!K41 -> 100 | I9: =SUM('Ess Med Single quoted items '!L41:T41) -> 4.97 | J9: =H9*I9 -> 497 | M9: =TRIM('Ess Med Single quoted items '!P3) -> Rehman Trading Company | N9: =COUNTIF($A$5:$A$120,M9) -> 28 | O9: =SUMIF($A$5:$A$120,M9,$J$5:$J$120) -> 1038445
A10: =TRIM(INDEX('Ess Med Single quoted items '!$L$3:$T$3,SUMPRODUCT(('Ess Med Single quoted items '!L42:T42<>"")*(COLUMN('Ess Med Single quoted items '!L42:T42)-COLUMN('Ess Med Single quoted items '!L42)+1)))) -> A.K Enterprises | B10: ='Ess Med Single quoted items '!A42 -> 39 | C10: =TRIM('Ess Med Single quoted items '!C42&"") -> Divalproex Sodium | D10: =TRIM('Ess Med Single quoted items '!B42&"") -> Suspension | F10: ='Ess Med Single quoted items '!D42&"" -> Epival | G10: ='Ess Med Single quoted items '!E42&"" -> Abbott Labs Pak Ltd | H10: ='Ess Med Single quoted items '!K42 -> 300 | I10: =SUM('Ess Med Single quoted items '!L42:T42) -> 274.85 | J10: =H10*I10 -> 82455 | M10: =TRIM('Ess Med Single quoted items '!Q3) -> S.A Knitwear | N10: =COUNTIF($A$5:$A$120,M10) -> 2 | O10: =SUMIF($A$5:$A$120,M10,$J$5:$J$120) -> 35250
A11: =TRIM(INDEX('Ess Med Single quoted items '!$L$3:$T$3,SUMPRODUCT(('Ess Med Single quoted items '!L46:T46<>"")*(COLUMN('Ess Med Single quoted items '!L46:T46)-COLUMN('Ess Med Single quoted items '!L46)+1)))) -> A.K Enterprises | B11: ='Ess Med Single quoted items '!A46 -> 43 | C11: =TRIM('Ess Med Single quoted items '!C46&"") -> Isosorbide Dinitrate | D11: =TRIM('Ess Med Single quoted items '!B46&"") -> Injection | F11: ='Ess Med Single quoted items '!D46&"" -> Isobaj | G11: ='Ess Med Single quoted items '!E46&"" -> Bajwa Pharmaceuticals (Pvt) Ltd | H11: ='Ess Med Single quoted items '!K46 -> 300 | I11: =SUM('Ess Med Single quoted items '!L46:T46) -> 198.75 | J11: =H11*I11 -> 59625 | M11: =TRIM('Ess Med Single quoted items '!R3) -> Smakz Enterprises | N11: =COUNTIF($A$5:$A$120,M11) -> 21 | O11: =SUMIF($A$5:$A$120,M11,$J$5:$J$120) -> 1038751
A12: =TRIM(INDEX('Ess Med Single quoted items '!$L$3:$T$3,SUMPRODUCT(('Ess Med Single quoted items '!L64:T64<>"")*(COLUMN('Ess Med Single quoted items '!L64:T64)-COLUMN('Ess Med Single quoted items '!L64)+1)))) -> A.K Enterprises | B12: ='Ess Med Single quoted items '!A64 -> 61 | C12: =TRIM('Ess Med Single quoted items '!C64&"") -> Diloxanide + Metronidazole | D12: =TRIM('Ess Med Single quoted items '!B64&"") -> Syrup | E12: =TRIM(#REF!&"") -> #REF! | F12: ='Ess Med Single quoted items '!D64&"" -> Entamizole | G12: ='Ess Med Single quoted items '!E64&"" -> Abbott Labs Pak Ltd | H12: ='Ess Med Single quoted items '!K64 -> 500 | I12: =SUM('Ess Med Single quoted items '!L64:T64) -> 217.5 | J12: =H12*I12 -> 108750 | M12: =TRIM('Ess Med Single quoted items '!S3) -> Surgi Vision | N12: =COUNTIF($A$5:$A$120,M12) -> 1 | O12: =SUMIF($A$5:$A$120,M12,$J$5:$J$120) -> 229400
A13: =TRIM(INDEX('Ess Med Single quoted items '!$L$3:$T$3,SUMPRODUCT(('Ess Med Single quoted items '!L68:T68<>"")*(COLUMN('Ess Med Single quoted items '!L68:T68)-COLUMN('Ess Med Single quoted items '!L68)+1)))) -> A.K Enterprises | B13: ='Ess Med Single quoted items '!A68 -> 65 | C13: =TRIM('Ess Med Single quoted items '!C68&"") -> Acefylline Piperazine | D13: =TRIM('Ess Med Single quoted items '!B68&"") -> Syrup | E13: =TRIM(#REF!&"") -> #REF! | F13: ='Ess Med Single quoted items '!D68&"" -> Acefyl 125 syp | G13: ='Ess Med Single quoted items '!E68&"" -> Abbott Labs Pak Ltd | H13: ='Ess Med Single quoted items '!K68 -> 1000 | I13: =SUM('Ess Med Single quoted items '!L68:T68) -> 215.5 | J13: =H13*I13 -> 215500 | M13: =TRIM('Ess Med Single quoted items '!T3) -> Yasir Distribution | N13: =COUNTIF($A$5:$A$120,M13) -> 14 | O13: =SUMIF($A$5:$A$120,M13,$J$5:$J$120) -> 3706144
A14: =TRIM(INDEX('Ess Med Single quoted items '!$L$3:$T$3,SUMPRODUCT(('Ess Med Single quoted items '!L70:T70<>"")*(COLUMN('Ess Med Single quoted items '!L70:T70)-COLUMN('Ess Med Single quoted items '!L70)+1)))) -> A.K Enterprises | B14: ='Ess Med Single quoted items '!A70 -> 67 | C14: =TRIM('Ess Med Single quoted items '!C70&"") -> Neostigmine Methylsulfate | D14: =TRIM('Ess Med Single quoted items '!B70&"") -> Injection | E14: =TRIM(#REF!&"") -> #REF! | F14: ='Ess Med Single quoted items '!D70&"" -> Neostig-N | G14: ='Ess Med Single quoted items '!E70&"" -> Bajwa Pharmaceuticals (Pvt) Ltd | H14: ='Ess Med Single quoted items '!K70 -> 1000 | I14: =SUM('Ess Med Single quoted items '!L70:T70) -> 26.5 | J14: =H14*I14 -> 26500 | M14: Total | N14: =SUM(N5:N13) -> 116 | O14: =SUM(O5:O13) -> 12727642
A15: =TRIM(INDEX('Ess Med Single quoted items '!$L$3:$T$3,SUMPRODUCT(('Ess Med Single quoted items '!L71:T71<>"")*(COLUMN('Ess Med Single quoted items '!L71:T71)-COLUMN('Ess Med Single quoted items '!L71)+1)))) -> A.K Enterprises | B15: ='Ess Med Single quoted items '!A71 -> 68 | C15: =TRIM('Ess Med Single quoted items '!C71&"") -> Magnesium Sulphate | D15: =TRIM('Ess Med Single quoted items '!B71&"") -> Injection | E15: =TRIM(#REF!&"") -> #REF! | F15: ='Ess Med Single quoted items '!D71&"" -> Epsium | G15: ='Ess Med Single quoted items '!E71&"" -> Bajwa Pharmaceuticals (Pvt) Ltd | H15: ='Ess Med Single quoted items '!K71 -> 500 | I15: =SUM('Ess Med Single quoted items '!L71:T71) -> 24.9 | J15: =H15*I15 -> 12450
A16: =TRIM(INDEX('Ess Med Single quoted items '!$L$3:$T$3,SUMPRODUCT(('Ess Med Single quoted items '!L73:T73<>"")*(COLUMN('Ess Med Single quoted items '!L73:T73)-COLUMN('Ess Med Single quoted items '!L73)+1)))) -> A.K Enterprises | B16: ='Ess Med Single quoted items '!A73 -> 70 | C16: =TRIM('Ess Med Single quoted items '!C73&"") -> Dinoprostone (PGE2) | D16: =TRIM('Ess Med Single quoted items '!B73&"") -> Tablet | E16: =TRIM(#REF!&"") -> #REF! | F16: ='Ess Med Single quoted items '!D73&"" -> Glandin E2 | G16: ='Ess Med Single quoted items '!E73&"" -> Nabi Qasim Industries | H16: ='Ess Med Single quoted items '!K73 -> 200 | I16: =SUM('Ess Med Single quoted items '!L73:T73) -> 1019.15 | J16: =H16*I16 -> 203830
A17: =TRIM(INDEX('Ess Med Single quoted items '!$L$3:$T$3,SUMPRODUCT(('Ess Med Single quoted items '!L88:T88<>"")*(COLUMN('Ess Med Single quoted items '!L88:T88)-COLUMN('Ess Med Single quoted items '!L88)+1)))) -> A.K Enterprises | B17: ='Ess Med Single quoted items '!A88 -> 85 | C17: =TRIM('Ess Med Single quoted items '!C88&"") -> Liquid Paraffin + Magnesium Hydroxide | D17: =TRIM('Ess Med Single quoted items '!B88&"") -> Syrup | E17: =TRIM(#REF!&"") -> #REF! | F17: ='Ess Med Single quoted items '!D88&"" -> Cremaffin | G17: ='Ess Med Single quoted items '!E88&"" -> Abbott Labs Pak Ltd | H17: ='Ess Med Single quoted items '!K88 -> 2000 | I17: =SUM('Ess Med Single quoted items '!L88:T88) -> 149.94 | J17: =H17*I17 -> 299880
A18: =TRIM(INDEX('Ess Med Single quoted items '!$L$3:$T$3,SUMPRODUCT(('Ess Med Single quoted items '!L89:T89<>"")*(COLUMN('Ess Med Single quoted items '!L89:T89)-COLUMN('Ess Med Single quoted items '!L89)+1)))) -> A.K Enterprises | B18: ='Ess Med Single quoted items '!A89 -> 86 | C18: =TRIM('Ess Med Single quoted items '!C89&"") -> Lactulose | D18: =TRIM('Ess Med Single quoted items '!B89&"") -> Syrup | E18: =TRIM(#REF!&"") -> #REF! | F18: ='Ess Med Single quoted items '!D89&"" -> Duphalac | G18: ='Ess Med Single quoted items '!E89&"" -> Abbott Labs Pak Ltd | H18: ='Ess Med Single quoted items '!K89 -> 2000 | I18: =SUM('Ess Med Single quoted items '!L89:T89) -> 255.34 | J18: =H18*I18 -> 510680
A19: =TRIM(INDEX('Ess Med Single quoted items '!$L$3:$T$3,SUMPRODUCT(('Ess Med Single quoted items '!L90:T90<>"")*(COLUMN('Ess Med Single quoted items '!L90:T90)-COLUMN('Ess Med Single quoted items '!L90)+1)))) -> A.K Enterprises | B19: ='Ess Med Single quoted items '!A90 -> 87 | C19: =TRIM('Ess Med Single quoted items '!C90&"") -> Montelukast | D19: =TRIM('Ess Med Single quoted items '!B90&"") -> Sachet | E19: =TRIM(#REF!&"") -> #REF! | F19: ='Ess Med Single quoted items '!D90&"" -> Floaid | G19: ='Ess Med Single quoted items '!E90&"" -> Abbott Labs Pak Ltd | H19: ='Ess Med Single quoted items '!K90 -> 500 | I19: =SUM('Ess Med Single quoted items '!L90:T90) -> 30.6 | J19: =H19*I19 -> 15300
A20: =TRIM(INDEX('Ess Med Single quoted items '!$L$3:$T$3,SUMPRODUCT(('Ess Med Single quoted items '!L91:T91<>"")*(COLUMN('Ess Med Single quoted items '!L91:T91)-COLUMN('Ess Med Single quoted items '!L91)+1)))) -> A.K Enterprises | B20: ='Ess Med Single quoted items '!A91 -> 88 | C20: =TRIM('Ess Med Single quoted items '!C91&"") -> Acetylcysteine | D20: =TRIM('Ess Med Single quoted items '!B91&"") -> Sachet | E20: =TRIM(#REF!&"") -> #REF! | F20: ='Ess Med Single quoted items '!D91&"" -> Mucolator | G20: ='Ess Med Single quoted items '!E91&"" -> Abbott Labs Pak Ltd | H20: ='Ess Med Single quoted items '!K91 -> 100 | I20: =SUM('Ess Med Single quoted items '!L91:T91) -> 29.75 | J20: =H20*I20 -> 2975
A21: =TRIM(INDEX('Ess Med Single quoted items '!$L$3:$T$3,SUMPRODUCT(('Ess Med Single quoted items '!L92:T92<>"")*(COLUMN('Ess Med Single quoted items '!L92:T92)-COLUMN('Ess Med Single quoted items '!L92)+1)))) -> A.K Enterprises | B21: ='Ess Med Single quoted items '!A92 -> 89 | C21: =TRIM('Ess Med Single quoted items '!C92&"") -> Multivitamin + Iron | D21: =TRIM('Ess Med Single quoted items '!B92&"") -> Tablet | E21: =TRIM(#REF!&"") -> #REF! | F21: ='Ess Med Single quoted items '!D92&"" -> Iberet Folic-500 Gradumet | G21: ='Ess Med Single quoted items '!E92&"" -> Abbott Labs Pak Ltd | H21: ='Ess Med Single quoted items '!K92 -> 2000 | I21: =SUM('Ess Med Single quoted items '!L92:T92) -> 10.77 | J21: =H21*I21 -> 21540
A22: =TRIM(INDEX('Ess Med Single quoted items '!$L$3:$T$3,SUMPRODUCT(('Ess Med Single quoted items '!L93:T93<>"")*(COLUMN('Ess Med Single quoted items '!L93:T93)-COLUMN('Ess Med Single quoted items '!L93)+1)))) -> A.K Enterprises | B22: ='Ess Med Single quoted items '!A93 -> 90 | C22: =TRIM('Ess Med Single quoted items '!C93&"") -> Multivitamin + Iron | D22: =TRIM('Ess Med Single quoted items '!B93&"") -> Syrup | E22: =TRIM(#REF!&"") -> #REF! | F22: ='Ess Med Single quoted items '!D93&"" -> Iberet-500 | G22: ='Ess Med Single quoted items '!E93&"" -> Abbott Labs Pak Ltd | H22: ='Ess Med Single quoted items '!K93 -> 2000 | I22: =SUM('Ess Med Single quoted items '!L93:T93) -> 153 | J22: =H22*I22 -> 306000
A23: =TRIM(INDEX('Ess Med Single quoted items '!$L$3:$T$3,SUMPRODUCT(('Ess Med Single quoted items '!L94:T94<>"")*(COLUMN('Ess Med Single quoted items '!L94:T94)-COLUMN('Ess Med Single quoted items '!L94)+1)))) -> A.K Enterprises | B23: ='Ess Med Single quoted items '!A94 -> 91 | C23: =TRIM('Ess Med Single quoted items '!C94&"") -> Multivitamin + Vitamin B Complex | D23: =TRIM('Ess Med Single quoted items '!B94&"") -> Tablet | E23: =TRIM(#REF!&"") -> #REF! | F23: ='Ess Med Single quoted items '!D94&"" -> Surbex-Z | G23: ='Ess Med Single quoted items '!E94&"" -> Abbott Labs Pak Ltd | H23: ='Ess Med Single quoted items '!K94 -> 1000 | I23: =SUM('Ess Med Single quoted items '!L94:T94) -> 13.73 | J23: =H23*I23 -> 13730
A24: =TRIM(INDEX('Ess Med Single quoted items '!$L$3:$T$3,SUMPRODUCT(('Ess Med Single quoted items '!L95:T95<>"")*(COLUMN('Ess Med Single quoted items '!L95:T95)-COLUMN('Ess Med Single quoted items '!L95)+1)))) -> A.K Enterprises | B24: ='Ess Med Single quoted items '!A95 -> 92 | C24: =TRIM('Ess Med Single quoted items '!C95&"") -> Multivitamin + Iron | D24: =TRIM('Ess Med Single quoted items '!B95&"") -> Tablet | E24: =TRIM(#REF!&"") -> #REF! | F24: ='Ess Med Single quoted items '!D95&"" -> Iberet Folic-500 Gradumet | G24: ='Ess Med Single quoted items '!E95&"" -> Abbott Labs Pak Ltd | H24: ='Ess Med Single quoted items '!K95 -> 1000 | I24: =SUM('Ess Med Single quoted items '!L95:T95) -> 10.77 | J24: =H24*I24 -> 10770
A25: =TRIM(INDEX('Ess Med Single quoted items '!$L$3:$T$3,SUMPRODUCT(('Ess Med Single quoted items '!L96:T96<>"")*(COLUMN('Ess Med Single quoted items '!L96:T96)-COLUMN('Ess Med Single quoted items '!L96)+1)))) -> A.K Enterprises | B25: ='Ess Med Single quoted items '!A96 -> 93 | C25: =TRIM('Ess Med Single quoted items '!C96&"") -> Vitamin A + Vitamin D3 + Vitamin C + Vitamin B1 + Vitamin B2 + Vitamin B6 + Vitamin B12 + Nicotinamide | D25: =TRIM('Ess Med Single quoted items '!B96&"") -> Syp | E25: =TRIM(#REF!&"") -> #REF! | F25: ='Ess Med Single quoted items '!D96&"" -> Vi-Daylin | G25: ='Ess Med Single quoted items '!E96&"" -> Abbott Labs Pak Ltd | H25: ='Ess Med Single quoted items '!K96 -> 500 | I25: =SUM('Ess Med Single quoted items '!L96:T96) -> 158.27 | J25: =H25*I25 -> 79135
A26: =TRIM(INDEX('Ess Med Single quoted items '!$L$3:$T$3,SUMPRODUCT(('Ess Med Single quoted items '!L97:T97<>"")*(COLUMN('Ess Med Single quoted items '!L97:T97)-COLUMN('Ess Med Single quoted items '!L97)+1)))) -> A.K Enterprises | B26: ='Ess Med Single quoted items '!A97 -> 94 | C26: =TRIM('Ess Med Single quoted items '!C97&"") -> Vitamin A + Vitamin D3 + Vitamin C + Vitamin B1 + Vitamin B2 + Vitamin B6 + Vitamin B12 + Nicotinamide | D26: =TRIM('Ess Med Single quoted items '!B97&"") -> Tablet | E26: =TRIM(#REF!&"") -> #REF! | F26: ='Ess Med Single quoted items '!D97&"" -> Vidaylin-T | G26: ='Ess Med Single quoted items '!E97&"" -> Abbott Labs Pak Ltd | H26: ='Ess Med Single quoted items '!K97 -> 1000 | I26: =SUM('Ess Med Single quoted items '!L97:T97) -> 7.7 | J26: =H26*I26 -> 7700
A27: =TRIM(INDEX('Ess Med Single quoted items '!$L$3:$T$3,SUMPRODUCT(('Ess Med Single quoted items '!L118:T118<>"")*(COLUMN('Ess Med Single quoted items '!L118:T118)-COLUMN('Ess Med Single quoted items '!L118)+1)))) -> A.K Enterprises | B27: ='Ess Med Single quoted items '!A118 -> 115 | C27: =TRIM('Ess Med Single quoted items '!C118&"") -> Thyroxine Sodium (Levothyroxine Sodium) | D27: =TRIM('Ess Med Single quoted items '!B118&"") -> Tablet | E27: =TRIM(#REF!&"") -> #REF! | F27: ='Ess Med Single quoted items '!D118&"" -> Thyronorm | G27: ='Ess Med Single quoted items '!E118&"" -> Abbott Labs Pak Ltd | H27: ='Ess Med Single quoted items '!K118 -> 1000 | I27: =SUM('Ess Med Single quoted items '!L118:T118) -> 2.27 | J27: =H27*I27 -> 2270
A28: =TRIM(INDEX('Ess Med Single quoted items '!$L$3:$T$3,SUMPRODUCT(('Ess Med Single quoted items '!L119:T119<>"")*(COLUMN('Ess Med Single quoted items '!L119:T119)-COLUMN('Ess Med Single quoted items '!L119)+1)))) -> A.K Enterprises | B28: ='Ess Med Single quoted items '!A119 -> 116 | C28: =TRIM('Ess Med Single quoted items '!C119&"") -> Levothyroxine Sodium | D28: =TRIM('Ess Med Single quoted items '!B119&"") -> Tablet | E28: =TRIM(#REF!&"") -> #REF! | F28: ='Ess Med Single quoted items '!D119&"" -> Thyronorm | G28: ='Ess Med Single quoted items '!E119&"" -> Abbott Labs Pak Ltd | H28: ='Ess Med Single quoted items '!K119 -> 1000 | I28: =SUM('Ess Med Single quoted items '!L119:T119) -> 3.45 | J28: =H28*I28 -> 3450
A29: =TRIM(INDEX('Ess Med Single quoted items '!$L$3:$T$3,SUMPRODUCT(('Ess Med Single quoted items '!L15:T15<>"")*(COLUMN('Ess Med Single quoted items '!L15:T15)-COLUMN('Ess Med Single quoted items '!L15)+1)))) -> Ali Traders | B29: ='Ess Med Single quoted items '!A15 -> 11 | C29: =TRIM('Ess Med Single quoted items '!C15&"") -> Albendazole | D29: =TRIM('Ess Med Single quoted items '!B15&"") -> Suspension | F29: ='Ess Med Single quoted items '!D15&"" -> Janzole Syp 10ml | G29: ='Ess Med Single quoted items '!E15&"" -> JAWA | H29: ='Ess Med Single quoted items '!K15 -> 1000 | I29: =SUM('Ess Med Single quoted items '!L15:T15) -> 46 | J29: =H29*I29 -> 46000
A30: =TRIM(INDEX('Ess Med Single quoted items '!$L$3:$T$3,SUMPRODUCT(('Ess Med Single quoted items '!L26:T26<>"")*(COLUMN('Ess Med Single quoted items '!L26:T26)-COLUMN('Ess Med Single quoted items '!L26)+1)))) -> Ali Traders | B30: ='Ess Med Single quoted items '!A26 -> 22 | C30: =TRIM('Ess Med Single quoted items '!C26&"") -> Ceftriaxone | D30: =TRIM('Ess Med Single quoted items '!B26&"") -> Injection | F30: ='Ess Med Single quoted items '!D26&"" -> Taxocyn 250mg IM Inj | G30: ='Ess Med Single quoted items '!E26&"" -> Synchro | H30: ='Ess Med Single quoted items '!K26 -> 1000 | I30: =SUM('Ess Med Single quoted items '!L26:T26) -> 83 | J30: =H30*I30 -> 83000
A31: =TRIM(INDEX('Ess Med Single quoted items '!$L$3:$T$3,SUMPRODUCT(('Ess Med Single quoted items '!L72:T72<>"")*(COLUMN('Ess Med Single quoted items '!L72:T72)-COLUMN('Ess Med Single quoted items '!L72)+1)))) -> Ali Traders | B31: ='Ess Med Single quoted items '!A72 -> 69 | C31: =TRIM('Ess Med Single quoted items '!C72&"") -> Potassium Chloride (KCl) | D31: =TRIM('Ess Med Single quoted items '!B72&"") -> Injection | E31: =TRIM(#REF!&"") -> #REF! | F31: ='Ess Med Single quoted items '!D72&"" -> Zeesol KCL 20ml | G31: ='Ess Med Single quoted items '!E72&"" -> Shazeb | H31: ='Ess Med Single quoted items '!K72 -> 2000 | I31: =SUM('Ess Med Single quoted items '!L72:T72) -> 21.9 | J31: =H31*I31 -> 43800
A32: =TRIM(INDEX('Ess Med Single quoted items '!$L$3:$T$3,SUMPRODUCT(('Ess Med Single quoted items '!L77:T77<>"")*(COLUMN('Ess Med Single quoted items '!L77:T77)-COLUMN('Ess Med Single quoted items '!L77)+1)))) -> Ali Traders | B32: ='Ess Med Single quoted items '!A77 -> 74 | C32: =TRIM('Ess Med Single quoted items '!C77&"") -> Tranexamic Acid | D32: =TRIM('Ess Med Single quoted items '!B77&"") -> Injection | E32: =TRIM(#REF!&"") -> #REF! | F32: ='Ess Med Single quoted items '!D77&"" -> Amenex 500mg Inj 5ml | G32: ='Ess Med Single quoted items '!E77&"" -> Amaan | H32: ='Ess Med Single quoted items '!K77 -> 5000 | I32: =SUM('Ess Med Single quoted items '!L77:T77) -> 49.5 | J32: =H32*I32 -> 247500
A33: =TRIM(INDEX('Ess Med Single quoted items '!$L$3:$T$3,SUMPRODUCT(('Ess Med Single quoted items '!L84:T84<>"")*(COLUMN('Ess Med Single quoted items '!L84:T84)-COLUMN('Ess Med Single quoted items '!L84)+1)))) -> Ali Traders | B33: ='Ess Med Single quoted items '!A84 -> 81 | C33: =TRIM('Ess Med Single quoted items '!C84&"") -> Dextrose (Glucose) | D33: =TRIM('Ess Med Single quoted items '!B84&"") -> Infusion | E33: =TRIM(#REF!&"") -> #REF! | F33: ='Ess Med Single quoted items '!D84&"" -> Zeesol 25% Dextrose Water 20ml | G33: ='Ess Med Single quoted items '!E84&"" -> Shazeb | H33: ='Ess Med Single quoted items '!K84 -> 1000 | I33: =SUM('Ess Med Single quoted items '!L84:T84) -> 21.46 | J33: =H33*I33 -> 21460
A34: =TRIM(INDEX('Ess Med Single quoted items '!$L$3:$T$3,SUMPRODUCT(('Ess Med Single quoted items '!L98:T98<>"")*(COLUMN('Ess Med Single quoted items '!L98:T98)-COLUMN('Ess Med Single quoted items '!L98)+1)))) -> Ali Traders | B34: ='Ess Med Single quoted items '!A98 -> 95 | C34: =TRIM('Ess Med Single quoted items '!C98&"") -> Folic Acid + Iron Hydroxide Polymaltose Complex | D34: =TRIM('Ess Med Single quoted items '!B98&"") -> Syrup | E34: =TRIM(#REF!&"") -> #REF! | F34: ='Ess Med Single quoted items '!D98&"" -> Hemoplex-F Syrup 120ml | G34: ='Ess Med Single quoted items '!E98&"" -> Synchro | H34: ='Ess Med Single quoted items '!K98 -> 500 | I34: =SUM('Ess Med Single quoted items '!L98:T98) -> 175 | J34: =H34*I34 -> 87500
A35: =TRIM(INDEX('Ess Med Single quoted items '!$L$3:$T$3,SUMPRODUCT(('Ess Med Single quoted items '!L99:T99<>"")*(COLUMN('Ess Med Single quoted items '!L99:T99)-COLUMN('Ess Med Single quoted items '!L99)+1)))) -> Ali Traders | B35: ='Ess Med Single quoted items '!A99 -> 96 | C35: =TRIM('Ess Med Single quoted items '!C99&"") -> Calcium + Vitamin D | D35: =TRIM('Ess Med Single quoted items '!B99&"") -> Capsule/Tablet | E35: =TRIM(#REF!&"") -> #REF! | F35: ='Ess Med Single quoted items '!D99&"" -> Calcium-P Tab | G35: ='Ess Med Single quoted items '!E99&"" -> PDH | H35: ='Ess Med Single quoted items '!K99 -> 5000 | I35: =SUM('Ess Med Single quoted items '!L99:T99) -> 7.5 | J35: =H35*I35 -> 37500
A36: =TRIM(INDEX('Ess Med Single quoted items '!$L$3:$T$3,SUMPRODUCT(('Ess Med Single quoted items '!L107:T107<>"")*(COLUMN('Ess Med Single quoted items '!L107:T107)-COLUMN('Ess Med Single quoted items '!L107)+1)))) -> Ali Traders | B36: ='Ess Med Single quoted items '!A107 -> 104 | C36: =TRIM('Ess Med Single quoted items '!C107&"") -> Oral Rehydration Salts (ORS) | D36: =TRIM('Ess Med Single quoted items '!B107&"") -> Sachet | E36: =TRIM(#REF!&"") -> #REF! | F36: ='Ess Med Single quoted items '!D107&"" -> Osmofaas 11gm Sachet | G36: ='Ess Med Single quoted items '!E107&"" -> FAAS | H36: ='Ess Med Single quoted items '!K107 -> 500 | I36: =SUM('Ess Med Single quoted items '!L107:T107) -> 13.5 | J36: =H36*I36 -> 6750
A37: =TRIM(INDEX('Ess Med Single quoted items '!$L$3:$T$3,SUMPRODUCT(('Ess Med Single quoted items '!L120:T120<>"")*(COLUMN('Ess Med Single quoted items '!L120:T120)-COLUMN('Ess Med Single quoted items '!L120)+1)))) -> Ali Traders | B37: ='Ess Med Single quoted items '!A120 -> 117 | C37: =TRIM('Ess Med Single quoted items '!C120&"") -> Oxytocin | D37: =TRIM('Ess Med Single quoted items '!B120&"") -> Injection | E37: =TRIM(#REF!&"") -> #REF! | F37: ='Ess Med Single quoted items '!D120&"" -> Oxytocin 5 I.U 1ml Inj | G37: ='Ess Med Single quoted items '!E120&"" -> Amaan | H37: ='Ess Med Single quoted items '!K120 -> 2000 | I37: =SUM('Ess Med Single quoted items '!L120:T120) -> 15.5 | J37: =H37*I37 -> 31000
A38: =TRIM(INDEX('Ess Med Single quoted items '!$L$3:$T$3,SUMPRODUCT(('Ess Med Single quoted items '!L7:T7<>"")*(COLUMN('Ess Med Single quoted items '!L7:T7)-COLUMN('Ess Med Single quoted items '!L7)+1)))) -> Bukhari Medical Supplies | B38: ='Ess Med Single quoted items '!A7 -> 3 | C38: =TRIM('Ess Med Single quoted items '!C7&"") -> Clotrimazole | D38: =TRIM('Ess Med Single quoted items '!B7&"") -> Cream | F38: ='Ess Med Single quoted items '!D7&"" -> Wimtazol Cream | G38: ='Ess Med Single quoted items '!E7&"" -> Wimits Pharmaceuticals Pvt Ltd | H38: ='Ess Med Single quoted items '!K7 -> 1000 | I38: =SUM('Ess Med Single quoted items '!L7:T7) -> 84 | J38: =H38*I38 -> 84000
A39: =TRIM(INDEX('Ess Med Single quoted items '!$L$3:$T$3,SUMPRODUCT(('Ess Med Single quoted items '!L8:T8<>"")*(COLUMN('Ess Med Single quoted items '!L8:T8)-COLUMN('Ess Med Single quoted items '!L8)+1)))) -> Bukhari Medical Supplies | B39: ='Ess Med Single quoted items '!A8 -> 4 | C39: =TRIM('Ess Med Single quoted items '!C8&"") -> Ketoconazole | D39: =TRIM('Ess Med Single quoted items '!B8&"") -> Cream | F39: ='Ess Med Single quoted items '!D8&"" -> Nizral Cream | G39: ='Ess Med Single quoted items '!E8&"" -> Wimits Pharmaceuticals Pvt Ltd | H39: ='Ess Med Single quoted items '!K8 -> 1000 | I39: =SUM('Ess Med Single quoted items '!L8:T8) -> 75.4 | J39: =H39*I39 -> 75400
A40: =TRIM(INDEX('Ess Med Single quoted items '!$L$3:$T$3,SUMPRODUCT(('Ess Med Single quoted items '!L14:T14<>"")*(COLUMN('Ess Med Single quoted items '!L14:T14)-COLUMN('Ess Med Single quoted items '!L14)+1)))) -> Bukhari Medical Supplies | B40: ='Ess Med Single quoted items '!A14 -> 10 | C40: =TRIM('Ess Med Single quoted items '!C14&"") -> Lidocaine (Lignocaine) | D40: =TRIM('Ess Med Single quoted items '!B14&"") -> Gel | F40: ='Ess Med Single quoted items '!D14&"" -> Ligwim | G40: ='Ess Med Single quoted items '!E14&"" -> Wimits Pharmaceuticals Pvt Ltd | H40: ='Ess Med Single quoted items '!K14 -> 1000 | I40: =SUM('Ess Med Single quoted items '!L14:T14) -> 20.8 | J40: =H40*I40 -> 20800
...
